Workbook
Name ロットリスト: 入出庫履歴!$L$10:$L$1009
Name 区分リスト: 設定!$L$8:$L$11
Name 食材コードリスト: 食材マスタ!$C$10:$C$309
Name 単位リスト: 設定!$F$8:$F$27
Name 担当者リスト: 設定!$J$8:$J$27
Name 分類リスト: 設定!$B$8:$B$27
Name 保管場所リスト: 設定!$H$8:$H$27
Name 保存区分リスト: 設定!$D$8:$D$27

Sheet 食材マスタ
A1: 他にも魅力的な情報がたっぷり！テンプレート倉庫
B2: 水色の欄に食材を登録します。入庫・出庫・廃棄は「入出庫履歴」に記録すると、現在庫・在庫金額・期限が自動で更新されます。期限が近いロットは「期限チェック」、発注が必要な食材は「発注リスト」に自動で並びます。
B3: 食品・材料在庫管理表
B6: 登録品目数 | E6: 在庫金額合計 | G6: 要発注 | I6: 欠品 | K6: 期限切れ | N6: 期限間近 | Q6: 今月の廃棄金額
B7: =COUNTA($C$10:$C$309) -> 9 | E7: =SUM($Q$10:$Q$309) -> 24762 | G7: =COUNTIF($T$10:$T$309,"要発注") -> 3 | I7: =COUNTIF($T$10:$T$309,"欠品") -> 1 | K7: =COUNTIF($W$10:$W$309,"期限切れ") -> 1 | N7: =COUNTIF($W$10:$W$309,"期限間近") -> 2 | Q7: =SUMIFS(入出庫履歴!$J$10:$J$1009,入出庫履歴!$D$10:$D$1009,"廃棄",入出庫履歴!$C$10:$C$1009,">="&EOMONTH(TODAY(),-1)+1,入出庫履歴!$C$10:$C$1009,"<="&EOMONTH(TODAY(),0)) -> 180
B9: No | C9: 食材コード | D9: 食材名 | E9: 規格・産地 | F9: 分類 | G9: 保存区分 | H9: 単位 | I9: 保管場所 | J9: 仕入先 | K9: 単価（円） | L9: 入庫累計 | M9: 出庫累計 | N9: 廃棄累計 | O9: 棚卸調整 | P9: 現在庫 | Q9: 在庫金額（円） | R9: 発注点 | S9: 発注ロット | T9: 在庫状態 | U9: 推奨発注数 | V9: 最短期限 | W9: 期限状態 | X9: アレルゲン | Y9: 備考
B10: =IF(C10="","",COUNTA($C$10:C10)) -> 1 | C10: MT-001 | D10: 鶏もも肉 | E10: 国産 皮付き | F10: 肉類 | G10: 冷蔵 | H10: kg | I10: 冷蔵庫1 | J10: ○○精肉 | K10: 980 | L10: =IF(C10="","",SUMIFS(入出庫履歴!$G$10:$G$1009,入出庫履歴!$E$10:$E$1009,C10,入出庫履歴!$D$10:$D$1009,"入庫")) -> 20 | M10: =IF(C10="","",SUMIFS(入出庫履歴!$G$10:$G$1009,入出庫履歴!$E$10:$E$1009,C10,入出庫履歴!$D$10:$D$1009,"出庫")) -> 12.5 | N10: =IF(C10="","",SUMIFS(入出庫履歴!$G$10:$G$1009,入出庫履歴!$E$10:$E$1009,C10,入出庫履歴!$D$10:$D$1009,"廃棄")) -> 0 | O10: =IF(C10="","",SUMIFS(入出庫履歴!$G$10:$G$1009,入出庫履歴!$E$10:$E$1009,C10,入出庫履歴!$D$10:$D$1009,"棚卸調整")) -> 0 | P10: =IF(C10="","",L10-M10-N10+O10) -> 7.5 | Q10: =IF(OR(C10="",K10=""),"",ROUND(P10*K10,0)) -> 7350 | R10: 5 | S10: 10 | T10: =IF(C10="","",IF(P10<0,"在庫異常",IF(P10=0,"欠品",IF(AND(R10<>"",P10<=R10),"要発注","適正")))) -> 適正 | U10: =IF(OR(T10="要発注",T10="欠品"),IF(S10>0,CEILING(MAX(R10-P10,0)+S10*0.0001,S10),MAX(R10-P10,0)),"") | V10: =IF(C10="","",IF(_xlfn.MINIFS(入出庫履歴!$K$10:$K$1009,入出庫履歴!$E$10:$E$1009,C10,入出庫履歴!$N$10:$N$1009,">0")=0,"",_xlfn.MINIFS(入出庫履歴!$K$10:$K$1009,入出庫履歴!$E$10:$E$1009,C10,入出庫履歴!$N$10:$N$1009,">0"))) -> 46320 | W10: =IF(OR(V10="",P10<=0),"",IF(V10<TODAY(),"期限切れ",IF(V10-TODAY()<=設定!$C$4,"期限間近",""))) -> 期限切れ | X10: － | Z10: =IF(OR(T10="要発注",T10="欠品",T10="在庫異常"),COUNTIF($T$10:T10,"要発注")+COUNTIF($T$10:T10,"欠品")+COUNTIF($T$10:T10,"在庫異常"),"")
B11: =IF(C11="","",COUNTA($C$10:C11)) -> 2 | C11: FS-001 | D11: サーモン切身 | E11: ノルウェー産 80g | F11: 魚介類 | G11: 冷凍 | H11: kg | I11: 冷凍庫 | J11: ○○水産 | K11: 2800 | L11: =IF(C11="","",SUMIFS(入出庫履歴!$G$10:$G$1009,入出庫履歴!$E$10:$E$1009,C11,入出庫履歴!$D$10:$D$1009,"入庫")) -> 5 | M11: =IF(C11="","",SUMIFS(入出庫履歴!$G$10:$G$1009,入出庫履歴!$E$10:$E$1009,C11,入出庫履歴!$D$10:$D$1009,"出庫")) -> 3 | N11: =IF(C11="","",SUMIFS(入出庫履歴!$G$10:$G$1009,入出庫履歴!$E$10:$E$1009,C11,入出庫履歴!$D$10:$D$1009,"廃棄")) -> 0 | O11: =IF(C11="","",SUMIFS(入出庫履歴!$G$10:$G$1009,入出庫履歴!$E$10:$E$1009,C11,入出庫履歴!$D$10:$D$1009,"棚卸調整")) -> 0 | P11: =IF(C11="","",L11-M11-N11+O11) -> 2 | Q11: =IF(OR(C11="",K11=""),"",ROUND(P11*K11,0)) -> 5600 | R11: 3 | S11: 5 | T11: =IF(C11="","",IF(P11<0,"在庫異常",IF(P11=0,"欠品",IF(AND(R11<>"",P11<=R11),"要発注","適正")))) -> 要発注 | U11: =IF(OR(T11="要発注",T11="欠品"),IF(S11>0,CEILING(MAX(R11-P11,0)+S11*0.0001,S11),MAX(R11-P11,0)),"") -> 5 | V11: =IF(C11="","",IF(_xlfn.MINIFS(入出庫履歴!$K$10:$K$1009,入出庫履歴!$E$10:$E$1009,C11,入出庫履歴!$N$10:$N$1009,">0")=0,"",_xlfn.MINIFS(入出庫履歴!$K$10:$K$1009,入出庫履歴!$E$10:$E$1009,C11,入出庫履歴!$N$10:$N$1009,">0"))) -> 46402 | W11: =IF(OR(V11="",P11<=0),"",IF(V11<TODAY(),"期限切れ",IF(V11-TODAY()<=設定!$C$4,"期限間近",""))) | X11: さけ | Z11: =IF(OR(T11="要発注",T11="欠品",T11="在庫異常"),COUNTIF($T$10:T11,"要発注")+COUNTIF($T$10:T11,"欠品")+COUNTIF($T$10:T11,"在庫異常"),"") -> 1
B12: =IF(C12="","",COUNTA($C$10:C12)) -> 3 | C12: VG-001 | D12: 玉ねぎ | E12: 北海道産 L | F12: 野菜・果物 | G12: 常温 | H12: kg | I12: 常温棚A | J12: ○○青果 | K12: 220 | L12: =IF(C12="","",SUMIFS(入出庫履歴!$G$10:$G$1009,入出庫履歴!$E$10:$E$1009,C12,入出庫履歴!$D$10:$D$1009,"入庫")) -> 20 | M12: =IF(C12="","",SUMIFS(入出庫履歴!$G$10:$G$1009,入出庫履歴!$E$10:$E$1009,C12,入出庫履歴!$D$10:$D$1009,"出庫")) -> 12.4 | N12: =IF(C12="","",SUMIFS(入出庫履歴!$G$10:$G$1009,入出庫履歴!$E$10:$E$1009,C12,入出庫履歴!$D$10:$D$1009,"廃棄")) -> 0 | O12: =IF(C12="","",SUMIFS(入出庫履歴!$G$10:$G$1009,入出庫履歴!$E$10:$E$1009,C12,入出庫履歴!$D$10:$D$1009,"棚卸調整")) -> 0 | P12: =IF(C12="","",L12-M12-N12+O12) -> 7.6 | Q12: =IF(OR(C12="",K12=""),"",ROUND(P12*K12,0)) -> 1672 | R12: 10 | S12: 20 | T12: =IF(C12="","",IF(P12<0,"在庫異常",IF(P12=0,"欠品",IF(AND(R12<>"",P12<=R12),"要発注","適正")))) -> 要発注 | U12: =IF(OR(T12="要発注",T12="欠品"),IF(S12>0,CEILING(MAX(R12-P12,0)+S12*0.0001,S12),MAX(R12-P12,0)),"") -> 20 | V12: =IF(C12="","",IF(_xlfn.MINIFS(入出庫履歴!$K$10:$K$1009,入出庫履歴!$E$10:$E$1009,C12,入出庫履歴!$N$10:$N$1009,">0")=0,"",_xlfn.MINIFS(入出庫履歴!$K$10:$K$1009,入出庫履歴!$E$10:$E$1009,C12,入出庫履歴!$N$10:$N$1009,">0"))) | W12: =IF(OR(V12="",P12<=0),"",IF(V12<TODAY(),"期限切れ",IF(V12-TODAY()<=設定!$C$4,"期限間近",""))) | X12: － | Z12: =IF(OR(T12="要発注",T12="欠品",T12="在庫異常"),COUNTIF($T$10:T12,"要発注")+COUNTIF($T$10:T12,"欠品")+COUNTIF($T$10:T12,"在庫異常"),"") -> 2
B13: =IF(C13="","",COUNTA($C$10:C13)) -> 4 | C13: VG-002 | D13: キャベツ | E13: 国産 | F13: 野菜・果物 | G13: 冷蔵 | H13: 個 | I13: 冷蔵庫2 | J13: ○○青果 | K13: 180 | L13: =IF(C13="","",SUMIFS(入出庫履歴!$G$10:$G$1009,入出庫履歴!$E$10:$E$1009,C13,入出庫履歴!$D$10:$D$1009,"入庫")) -> 10 | M13: =IF(C13="","",SUMIFS(入出庫履歴!$G$10:$G$1009,入出庫履歴!$E$10:$E$1009,C13,入出庫履歴!$D$10:$D$1009,"出庫")) -> 0 | N13: =IF(C13="","",SUMIFS(入出庫履歴!$G$10:$G$1009,入出庫履歴!$E$10:$E$1009,C13,入出庫履歴!$D$10:$D$1009,"廃棄")) -> 1 | O13: =IF(C13="","",SUMIFS(入出庫履歴!$G$10:$G$1009,入出庫履歴!$E$10:$E$1009,C13,入出庫履歴!$D$10:$D$1009,"棚卸調整")) -> 0 | P13: =IF(C13="","",L13-M13-N13+O13) -> 9 | Q13: =IF(OR(C13="",K13=""),"",ROUND(P13*K13,0)) -> 1620 | R13: 5 | S13: 10 | T13: =IF(C13="","",IF(P13<0,"在庫異常",IF(P13=0,"欠品",IF(AND(R13<>"",P13<=R13),"要発注","適正")))) -> 適正 | U13: =IF(OR(T13="要発注",T13="欠品"),IF(S13>0,CEILING(MAX(R13-P13,0)+S13*0.0001,S13),MAX(R13-P13,0)),"") | V13: =IF(C13="","",IF(_xlfn.MINIFS(入出庫履歴!$K$10:$K$1009,入出庫履歴!$E$10:$E$1009,C13,入出庫履歴!$N$10:$N$1009,">0")=0,"",_xlfn.MINIFS(入出庫履歴!$K$10:$K$1009,入出庫履歴!$E$10:$E$1009,C13,入出庫履歴!$N$10:$N$1009,">0"))) -> 46329 | W13: =IF(OR(V13="",P13<=0),"",IF(V13<TODAY(),"期限切れ",IF(V13-TODAY()<=設定!$C$4,"期限間近",""))) -> 期限間近 | X13: － | Z13: =IF(OR(T13="要発注",T13="欠品",T13="在庫異常"),COUNTIF($T$10:T13,"要発注")+COUNTIF($T$10:T13,"欠品")+COUNTIF($T$10:T13,"在庫異常"),"")
B14: =IF(C14="","",COUNTA($C$10:C14)) -> 5 | C14: DY-001 | D14: 牛乳 | E14: 1L 成分無調整 | F14: 乳製品・卵 | G14: 冷蔵 | H14: 本 | I14: 冷蔵庫2 | J14: ○○乳業 | K14: 230 | L14: =IF(C14="","",SUMIFS(入出庫履歴!$G$10:$G$1009,入出庫履歴!$E$10:$E$1009,C14,入出庫履歴!$D$10:$D$1009,"入庫")) -> 12 | M14: =IF(C14="","",SUMIFS(入出庫履歴!$G$10:$G$1009,入出庫履歴!$E$10:$E$1009,C14,入出庫履歴!$D$10:$D$1009,"出庫")) -> 6 | N14: =IF(C14="","",SUMIFS(入出庫履歴!$G$10:$G$1009,入出庫履歴!$E$10:$E$1009,C14,入出庫履歴!$D$10:$D$1009,"廃棄")) -> 0 | O14: =IF(C14="","",SUMIFS(入出庫履歴!$G$10:$G$1009,入出庫履歴!$E$10:$E$1009,C14,入出庫履歴!$D$10:$D$1009,"棚卸調整")) -> 0 | P14: =IF(C14="","",L14-M14-N14+O14) -> 6 | Q14: =IF(OR(C14="",K14=""),"",ROUND(P14*K14,0)) -> 1380 | R14: 6 | S14: 12 | T14: =IF(C14="","",IF(P14<0,"在庫異常",IF(P14=0,"欠品",IF(AND(R14<>"",P14<=R14),"要発注","適正")))) -> 要発注 | U14: =IF(OR(T14="要発注",T14="欠品"),IF(S14>0,CEILING(MAX(R14-P14,0)+S14*0.0001,S14),MAX(R14-P14,0)),"") -> 12 | V14: =IF(C14="","",IF(_xlfn.MINIFS(入出庫履歴!$K$10:$K$1009,入出庫履歴!$E$10:$E$1009,C14,入出庫履歴!$N$10:$N$1009,">0")=0,"",_xlfn.MINIFS(入出庫履歴!$K$10:$K$1009,入出庫履歴!$E$10:$E$1009,C14,入出庫履歴!$N$10:$N$1009,">0"))) -> 46328 | W14: =IF(OR(V14="",P14<=0),"",IF(V14<TODAY(),"期限切れ",IF(V14-TODAY()<=設定!$C$4,"期限間近",""))) -> 期限間近 | X14: 乳 | Z14: =IF(OR(T14="要発注",T14="欠品",T14="在庫異常"),COUNTIF($T$10:T14,"要発注")+COUNTIF($T$10:T14,"欠品")+COUNTIF($T$10:T14,"在庫異常"),"") -> 3
B15: =IF(C15="","",COUNTA($C$10:C15)) -> 6 | C15: DY-002 | D15: 鶏卵 | E15: M 10個入 | F15: 乳製品・卵 | G15: 冷蔵 | H15: パック | I15: 冷蔵庫2 | J15: ○○養鶏 | K15: 280 | L15: =IF(C15="","",SUMIFS(入出庫履歴!$G$10:$G$1009,入出庫履歴!$E$10:$E$1009,C15,入出庫履歴!$D$10:$D$1009,"入庫")) -> 10 | M15: =IF(C15="","",SUMIFS(入出庫履歴!$G$10:$G$1009,入出庫履歴!$E$10:$E$1009,C15,入出庫履歴!$D$10:$D$1009,"出庫")) -> 10 | N15: =IF(C15="","",SUMIFS(入出庫履歴!$G$10:$G$1009,入出庫履歴!$E$10:$E$1009,C15,入出庫履歴!$D$10:$D$1009,"廃棄")) -> 0 | O15: =IF(C15="","",SUMIFS(入出庫履歴!$G$10:$G$1009,入出庫履歴!$E$10:$E$1009,C15,入出庫履歴!$D$10:$D$1009,"棚卸調整")) -> 0 | P15: =IF(C15="","",L15-M15-N15+O15) -> 0 | Q15: =IF(OR(C15="",K15=""),"",ROUND(P15*K15,0)) -> 0 | R15: 4 | S15: 10 | T15: =IF(C15="","",IF(P15<0,"在庫異常",IF(P15=0,"欠品",IF(AND(R15<>"",P15<=R15),"要発注","適正")))) -> 欠品 | U15: =IF(OR(T15="要発注",T15="欠品"),IF(S15>0,CEILING(MAX(R15-P15,0)+S15*0.0001,S15),MAX(R15-P15,0)),"") -> 10 | V15: =IF(C15="","",IF(_xlfn.MINIFS(入出庫履歴!$K$10:$K$1009,入出庫履歴!$E$10:$E$1009,C15,入出庫履歴!$N$10:$N$1009,">0")=0,"",_xlfn.MINIFS(入出庫履歴!$K$10:$K$1009,入出庫履歴!$E$10:$E$1009,C15,入出庫履歴!$N$10:$N$1009,">0"))) | W15: =IF(OR(V15="",P15<=0),"",IF(V15<TODAY(),"期限切れ",IF(V15-TODAY()<=設定!$C$4,"期限間近",""))) | X15: 卵 | Z15: =IF(OR(T15="要発注",T15="欠品",T15="在庫異常"),COUNTIF($T$10:T15,"要発注")+COUNTIF($T$10:T15,"欠品")+COUNTIF($T$10:T15,"在庫異常"),"") -> 4
B16: =IF(C16="","",COUNTA($C$10:C16)) -> 7 | C16: SE-001 | D16: 濃口醤油 | E16: 1.8L | F16: 調味料 | G16: 常温 | H16: 本 | I16: 常温棚B | J16: ○○醸造 | K16: 520 | L16: =IF(C16="","",SUMIFS(入出庫履歴!$G$10:$G$1009,入出庫履歴!$E$10:$E$1009,C16,入出庫履歴!$D$10:$D$1009,"入庫")) -> 6 | M16: =IF(C16="","",SUMIFS(入出庫履歴!$G$10:$G$1009,入出庫履歴!$E$10:$E$1009,C16,入出庫履歴!$D$10:$D$1009,"出庫")) -> 2 | N16: =IF(C16="","",SUMIFS(入出庫履歴!$G$10:$G$1009,入出庫履歴!$E$10:$E$1009,C16,入出庫履歴!$D$10:$D$1009,"廃棄")) -> 0 | O16: =IF(C16="","",SUMIFS(入出庫履歴!$G$10:$G$1009,入出庫履歴!$E$10:$E$1009,C16,入出庫履歴!$D$10:$D$1009,"棚卸調整")) -> 0 | P16: =IF(C16="","",L16-M16-N16+O16) -> 4 | Q16: =IF(OR(C16="",K16=""),"",ROUND(P16*K16,0)) -> 2080 | R16: 2 | S16: 6 | T16: =IF(C16="","",IF(P16<0,"在庫異常",IF(P16=0,"欠品",IF(AND(R16<>"",P16<=R16),"要発注","適正")))) -> 適正 | U16: =IF(OR(T16="要発注",T16="欠品"),IF(S16>0,CEILING(MAX(R16-P16,0)+S16*0.0001,S16),MAX(R16-P16,0)),"") | V16: =IF(C16="","",IF(_xlfn.MINIFS(入出庫履歴!$K$10:$K$1009,入出庫履歴!$E$10:$E$1009,C16,入出庫履歴!$N$10:$N$1009,">0")=0,"",_xlfn.MINIFS(入出庫履歴!$K$10:$K$1009,入出庫履歴!$E$10:$E$1009,C16,入出庫履歴!$N$10:$N$1009,">0"))) -> 46568 | W16: =IF(OR(V16="",P16<=0),"",IF(V16<TODAY(),"期限切れ",IF(V16-TODAY()<=設定!$C$4,"期限間近",""))) | X16: 小麦・大豆 | Z16: =IF(OR(T16="要発注",T16="欠品",T16="在庫異常"),COUNTIF($T$10:T16,"要発注")+COUNTIF($T$10:T16,"欠品")+COUNTIF($T$10:T16,"在庫異常"),"")
B17: =IF(C17="","",COUNTA($C$10:C17)) -> 8 | C17: PW-001 | D17: 薄力粉 | E17: 1kg | F17: 粉・乾物 | G17: 常温 | H17: 袋 | I17: 常温棚B | J17: ○○製粉 | K17: 260 | L17: =IF(C17="","",SUMIFS(入出庫履歴!$G$10:$G$1009,入出庫履歴!$E$10:$E$1009,C17,入出庫履歴!$D$10:$D$1009,"入庫")) -> 10 | M17: =IF(C17="","",SUMIFS(入出庫履歴!$G$10:$G$1009,入出庫履歴!$E$10:$E$1009,C17,入出庫履歴!$D$10:$D$1009,"出庫")) -> 3 | N17: =IF(C17="","",SUMIFS(入出庫履歴!$G$10:$G$1009,入出庫履歴!$E$10:$E$1009,C17,入出庫履歴!$D$10:$D$1009,"廃棄")) -> 0 | O17: =IF(C17="","",SUMIFS(入出庫履歴!$G$10:$G$1009,入出庫履歴!$E$10:$E$1009,C17,入出庫履歴!$D$10:$D$1009,"棚卸調整")) -> 0 | P17: =IF(C17="","",L17-M17-N17+O17) -> 7 | Q17: =IF(OR(C17="",K17=""),"",ROUND(P17*K17,0)) -> 1820 | R17: 3 | S17: 10 | T17: =IF(C17="","",IF(P17<0,"在庫異常",IF(P17=0,"欠品",IF(AND(R17<>"",P17<=R17),"要発注","適正")))) -> 適正 | U17: =IF(OR(T17="要発注",T17="欠品"),IF(S17>0,CEILING(MAX(R17-P17,0)+S17*0.0001,S17),MAX(R17-P17,0)),"") | V17: =IF(C17="","",IF(_xlfn.MINIFS(入出庫履歴!$K$10:$K$1009,入出庫履歴!$E$10:$E$1009,C17,入出庫履歴!$N$10:$N$1009,">0")=0,"",_xlfn.MINIFS(入出庫履歴!$K$10:$K$1009,入出庫履歴!$E$10:$E$1009,C17,入出庫履歴!$N$10:$N$1009,">0"))) -> 46477 | W17: =IF(OR(V17="",P17<=0),"",IF(V17<TODAY(),"期限切れ",IF(V17-TODAY()<=設定!$C$4,"期限間近",""))) | X17: 小麦 | Z17: =IF(OR(T17="要発注",T17="欠品",T17="在庫異常"),COUNTIF($T$10:T17,"要発注")+COUNTIF($T$10:T17,"欠品")+COUNTIF($T$10:T17,"在庫異常"),"")
B18: =IF(C18="","",COUNTA($C$10:C18)) -> 9 | C18: PK-001 | D18: テイクアウト容器 | E18: 中 蓋付き | F18: 包材・消耗品 | G18: 常温 | H18: 個 | I18: 倉庫 | J18: ○○包材 | K18: 18 | L18: =IF(C18="","",SUMIFS(入出庫履歴!$G$10:$G$1009,入出庫履歴!$E$10:$E$1009,C18,入出庫履歴!$D$10:$D$1009,"入庫")) -> 300 | M18: =IF(C18="","",SUMIFS(入出庫履歴!$G$10:$G$1009,入出庫履歴!$E$10:$E$1009,C18,入出庫履歴!$D$10:$D$1009,"出庫")) -> 120 | N18: =IF(C18="","",SUMIFS(入出庫履歴!$G$10:$G$1009,入出庫履歴!$E$10:$E$1009,C18,入出庫履歴!$D$10:$D$1009,"廃棄")) -> 0 | O18: =IF(C18="","",SUMIFS(入出庫履歴!$G$10:$G$1009,入出庫履歴!$E$10:$E$1009,C18,入出庫履歴!$D$10:$D$1009,"棚卸調整")) -> 0 | P18: =IF(C18="","",L18-M18-N18+O18) -> 180 | Q18: =IF(OR(C18="",K18=""),"",ROUND(P18*K18,0)) -> 3240 | R18: 100 | S18: 300 | T18: =IF(C18="","",IF(P18<0,"在庫異常",IF(P18=0,"欠品",IF(AND(R18<>"",P18<=R18),"要発注","適正")))) -> 適正 | U18: =IF(OR(T18="要発注",T18="欠品"),IF(S18>0,CEILING(MAX(R18-P18,0)+S18*0.0001,S18),MAX(R18-P18,0)),"") | V18: =IF(C18="","",IF(_xlfn.MINIFS(入出庫履歴!$K$10:$K$1009,入出庫履歴!$E$10:$E$1009,C18,入出庫履歴!$N$10:$N$1009,">0")=0,"",_xlfn.MINIFS(入出庫履歴!$K$10:$K$1009,入出庫履歴!$E$10:$E$1009,C18,入出庫履歴!$N$10:$N$1009,">0"))) | W18: =IF(OR(V18="",P18<=0),"",IF(V18<TODAY(),"期限切れ",IF(V18-TODAY()<=設定!$C$4,"期限間近",""))) | X18: － | Z18: =IF(OR(T18="要発注",T18="欠品",T18="在庫異常"),COUNTIF($T$10:T18,"要発注")+COUNTIF($T$10:T18,"欠品")+COUNTIF($T$10:T18,"在庫異常"),"")
B19: =IF(C19="","",COUNTA($C$10:C19)) | L19: =IF(C19="","",SUMIFS(入出庫履歴!$G$10:$G$1009,入出庫履歴!$E$10:$E$1009,C19,入出庫履歴!$D$10:$D$1009,"入庫")) | M19: =IF(C19="","",SUMIFS(入出庫履歴!$G$10:$G$1009,入出庫履歴!$E$10:$E$1009,C19,入出庫履歴!$D$10:$D$1009,"出庫")) | N19: =IF(C19="","",SUMIFS(入出庫履歴!$G$10:$G$1009,入出庫履歴!$E$10:$E$1009,C19,入出庫履歴!$D$10:$D$1009,"廃棄")) | O19: =IF(C19="","",SUMIFS(入出庫履歴!$G$10:$G$1009,入出庫履歴!$E$10:$E$1009,C19,入出庫履歴!$D$10:$D$1009,"棚卸調整")) | P19: =IF(C19="","",L19-M19-N19+O19) | Q19: =IF(OR(C19="",K19=""),"",ROUND(P19*K19,0)) | T19: =IF(C19="","",IF(P19<0,"在庫異常",IF(P19=0,"欠品",IF(AND(R19<>"",P19<=R19),"要発注","適正")))) | U19: =IF(OR(T19="要発注",T19="欠品"),IF(S19>0,CEILING(MAX(R19-P19,0)+S19*0.0001,S19),MAX(R19-P19,0)),"") | V19: =IF(C19="","",IF(_xlfn.MINIFS(入出庫履歴!$K$10:$K$1009,入出庫履歴!$E$10:$E$1009,C19,入出庫履歴!$N$10:$N$1009,">0")=0,"",_xlfn.MINIFS(入出庫履歴!$K$10:$K$1009,入出庫履歴!$E$10:$E$1009,C19,入出庫履歴!$N$10:$N$1009,">0"))) | W19: =IF(OR(V19="",P19<=0),"",IF(V19<TODAY(),"期限切れ",IF(V19-TODAY()<=設定!$C$4,"期限間近",""))) | Z19: =IF(OR(T19="要発注",T19="欠品",T19="在庫異常"),COUNTIF($T$10:T19,"要発注")+COUNTIF($T$10:T19,"欠品")+COUNTIF($T$10:T19,"在庫異常"),"")
B20: =IF(C20="","",COUNTA($C$10:C20)) | L20: =IF(C20="","",SUMIFS(入出庫履歴!$G$10:$G$1009,入出庫履歴!$E$10:$E$1009,C20,入出庫履歴!$D$10:$D$1009,"入庫")) | M20: =IF(C20="","",SUMIFS(入出庫履歴!$G$10:$G$1009,入出庫履歴!$E$10:$E$1009,C20,入出庫履歴!$D$10:$D$1009,"出庫")) | N20: =IF(C20="","",SUMIFS(入出庫履歴!$G$10:$G$1009,入出庫履歴!$E$10:$E$1009,C20,入出庫履歴!$D$10:$D$1009,"廃棄")) | O20: =IF(C20="","",SUMIFS(入出庫履歴!$G$10:$G$1009,入出庫履歴!$E$10:$E$1009,C20,入出庫履歴!$D$10:$D$1009,"棚卸調整")) | P20: =IF(C20="","",L20-M20-N20+O20) | Q20: =IF(OR(C20="",K20=""),"",ROUND(P20*K20,0)) | T20: =IF(C20="","",IF(P20<0,"在庫異常",IF(P20=0,"欠品",IF(AND(R20<>"",P20<=R20),"要発注","適正")))) | U20: =IF(OR(T20="要発注",T20="欠品"),IF(S20>0,CEILING(MAX(R20-P20,0)+S20*0.0001,S20),MAX(R20-P20,0)),"") | V20: =IF(C20="","",IF(_xlfn.MINIFS(入出庫履歴!$K$10:$K$1009,入出庫履歴!$E$10:$E$1009,C20,入出庫履歴!$N$10:$N$1009,">0")=0,"",_xlfn.MINIFS(入出庫履歴!$K$10:$K$1009,入出庫履歴!$E$10:$E$1009,C20,入出庫履歴!$N$10:$N$1009,">0"))) | W20: =IF(OR(V20="",P20<=0),"",IF(V20<TODAY(),"期限切れ",IF(V20-TODAY()<=設定!$C$4,"期限間近",""))) | Z20: =IF(OR(T20="要発注",T20="欠品",T20="在庫異常"),COUNTIF($T$10:T20,"要発注")+COUNTIF($T$10:T20,"欠品")+COUNTIF($T$10:T20,"在庫異常"),"")
B21: =IF(C21="","",COUNTA($C$10:C21)) | L21: =IF(C21="","",SUMIFS(入出庫履歴!$G$10:$G$1009,入出庫履歴!$E$10:$E$1009,C21,入出庫履歴!$D$10:$D$1009,"入庫")) | M21: =IF(C21="","",SUMIFS(入出庫履歴!$G$10:$G$1009,入出庫履歴!$E$10:$E$1009,C21,入出庫履歴!$D$10:$D$1009,"出庫")) | N21: =IF(C21="","",SUMIFS(入出庫履歴!$G$10:$G$1009,入出庫履歴!$E$10:$E$1009,C21,入出庫履歴!$D$10:$D$1009,"廃棄")) | O21: =IF(C21="","",SUMIFS(入出庫履歴!$G$10:$G$1009,入出庫履歴!$E$10:$E$1009,C21,入出庫履歴!$D$10:$D$1009,"棚卸調整")) | P21: =IF(C21="","",L21-M21-N21+O21) | Q21: =IF(OR(C21="",K21=""),"",ROUND(P21*K21,0)) | T21: =IF(C21="","",IF(P21<0,"在庫異常",IF(P21=0,"欠品",IF(AND(R21<>"",P21<=R21),"要発注","適正")))) | U21: =IF(OR(T21="要発注",T21="欠品"),IF(S21>0,CEILING(MAX(R21-P21,0)+S21*0.0001,S21),MAX(R21-P21,0)),"") | V21: =IF(C21="","",IF(_xlfn.MINIFS(入出庫履歴!$K$10:$K$1009,入出庫履歴!$E$10:$E$1009,C21,入出庫履歴!$N$10:$N$1009,">0")=0,"",_xlfn.MINIFS(入出庫履歴!$K$10:$K$1009,入出庫履歴!$E$10:$E$1009,C21,入出庫履歴!$N$10:$N$1009,">0"))) | W21: =IF(OR(V21="",P21<=0),"",IF(V21<TODAY(),"期限切れ",IF(V21-TODAY()<=設定!$C$4,"期限間近",""))) | Z21: =IF(OR(T21="要発注",T21="欠品",T21="在庫異常"),COUNTIF($T$10:T21,"要発注")+COUNTIF($T$10:T21,"欠品")+COUNTIF($T$10:T21,"在庫異常"),"")
B22: =IF(C22="","",COUNTA($C$10:C22)) | L22: =IF(C22="","",SUMIFS(入出庫履歴!$G$10:$G$1009,入出庫履歴!$E$10:$E$1009,C22,入出庫履歴!$D$10:$D$1009,"入庫")) | M22: =IF(C22="","",SUMIFS(入出庫履歴!$G$10:$G$1009,入出庫履歴!$E$10:$E$1009,C22,入出庫履歴!$D$10:$D$1009,"出庫")) | N22: =IF(C22="","",SUMIFS(入出庫履歴!$G$10:$G$1009,入出庫履歴!$E$10:$E$1009,C22,入出庫履歴!$D$10:$D$1009,"廃棄")) | O22: =IF(C22="","",SUMIFS(入出庫履歴!$G$10:$G$1009,入出庫履歴!$E$10:$E$1009,C22,入出庫履歴!$D$10:$D$1009,"棚卸調整")) | P22: =IF(C22="","",L22-M22-N22+O22) | Q22: =IF(OR(C22="",K22=""),"",ROUND(P22*K22,0)) | T22: =IF(C22="","",IF(P22<0,"在庫異常",IF(P22=0,"欠品",IF(AND(R22<>"",P22<=R22),"要発注","適正")))) | U22: =IF(OR(T22="要発注",T22="欠品"),IF(S22>0,CEILING(MAX(R22-P22,0)+S22*0.0001,S22),MAX(R22-P22,0)),"") | V22: =IF(C22="","",IF(_xlfn.MINIFS(入出庫履歴!$K$10:$K$1009,入出庫履歴!$E$10:$E$1009,C22,入出庫履歴!$N$10:$N$1009,">0")=0,"",_xlfn.MINIFS(入出庫履歴!$K$10:$K$1009,入出庫履歴!$E$10:$E$1009,C22,入出庫履歴!$N$10:$N$1009,">0"))) | W22: =IF(OR(V22="",P22<=0),"",IF(V22<TODAY(),"期限切れ",IF(V22-TODAY()<=設定!$C$4,"期限間近",""))) | Z22: =IF(OR(T22="要発注",T22="欠品",T22="在庫異常"),COUNTIF($T$10:T22,"要発注")+COUNTIF($T$10:T22,"欠品")+COUNTIF($T$10:T22,"在庫異常"),"")
B23: =IF(C23="","",COUNTA($C$10:C23)) | L23: =IF(C23="","",SUMIFS(入出庫履歴!$G$10:$G$1009,入出庫履歴!$E$10:$E$1009,C23,入出庫履歴!$D$10:$D$1009,"入庫")) | M23: =IF(C23="","",SUMIFS(入出庫履歴!$G$10:$G$1009,入出庫履歴!$E$10:$E$1009,C23,入出庫履歴!$D$10:$D$1009,"出庫")) | N23: =IF(C23="","",SUMIFS(入出庫履歴!$G$10:$G$1009,入出庫履歴!$E$10:$E$1009,C23,入出庫履歴!$D$10:$D$1009,"廃棄")) | O23: =IF(C23="","",SUMIFS(入出庫履歴!$G$10:$G$1009,入出庫履歴!$E$10:$E$1009,C23,入出庫履歴!$D$10:$D$1009,"棚卸調整")) | P23: =IF(C23="","",L23-M23-N23+O23) | Q23: =IF(OR(C23="",K23=""),"",ROUND(P23*K23,0)) | T23: =IF(C23="","",IF(P23<0,"在庫異常",IF(P23=0,"欠品",IF(AND(R23<>"",P23<=R23),"要発注","適正")))) | U23: =IF(OR(T23="要発注",T23="欠品"),IF(S23>0,CEILING(MAX(R23-P23,0)+S23*0.0001,S23),MAX(R23-P23,0)),"") | V23: =IF(C23="","",IF(_xlfn.MINIFS(入出庫履歴!$K$10:$K$1009,入出庫履歴!$E$10:$E$1009,C23,入出庫履歴!$N$10:$N$1009,">0")=0,"",_xlfn.MINIFS(入出庫履歴!$K$10:$K$1009,入出庫履歴!$E$10:$E$1009,C23,入出庫履歴!$N$10:$N$1009,">0"))) | W23: =IF(OR(V23="",P23<=0),"",IF(V23<TODAY(),"期限切れ",IF(V23-TODAY()<=設定!$C$4,"期限間近",""))) | Z23: =IF(OR(T23="要発注",T23="欠品",T23="在庫異常"),COUNTIF($T$10:T23,"要発注")+COUNTIF($T$10:T23,"欠品")+COUNTIF($T$10:T23,"在庫異常"),"")
B24: =IF(C24="","",COUNTA($C$10:C24)) | L24: =IF(C24="","",SUMIFS(入出庫履歴!$G$10:$G$1009,入出庫履歴!$E$10:$E$1009,C24,入出庫履歴!$D$10:$D$1009,"入庫")) | M24: =IF(C24="","",SUMIFS(入出庫履歴!$G$10:$G$1009,入出庫履歴!$E$10:$E$1009,C24,入出庫履歴!$D$10:$D$1009,"出庫")) | N24: =IF(C24="","",SUMIFS(入出庫履歴!$G$10:$G$1009,入出庫履歴!$E$10:$E$1009,C24,入出庫履歴!$D$10:$D$1009,"廃棄")) | O24: =IF(C24="","",SUMIFS(入出庫履歴!$G$10:$G$1009,入出庫履歴!$E$10:$E$1009,C24,入出庫履歴!$D$10:$D$1009,"棚卸調整")) | P24: =IF(C24="","",L24-M24-N24+O24) | Q24: =IF(OR(C24="",K24=""),"",ROUND(P24*K24,0)) | T24: =IF(C24="","",IF(P24<0,"在庫異常",IF(P24=0,"欠品",IF(AND(R24<>"",P24<=R24),"要発注","適正")))) | U24: =IF(OR(T24="要発注",T24="欠品"),IF(S24>0,CEILING(MAX(R24-P24,0)+S24*0.0001,S24),MAX(R24-P24,0)),"") | V24: =IF(C24="","",IF(_xlfn.MINIFS(入出庫履歴!$K$10:$K$1009,入出庫履歴!$E$10:$E$1009,C24,入出庫履歴!$N$10:$N$1009,">0")=0,"",_xlfn.MINIFS(入出庫履歴!$K$10:$K$1009,入出庫履歴!$E$10:$E$1009,C24,入出庫履歴!$N$10:$N$1009,">0"))) | W24: =IF(OR(V24="",P24<=0),"",IF(V24<TODAY(),"期限切れ",IF(V24-TODAY()<=設定!$C$4,"期限間近",""))) | Z24: =IF(OR(T24="要発注",T24="欠品",T24="在庫異常"),COUNTIF($T$10:T24,"要発注")+COUNTIF($T$10:T24,"欠品")+COUNTIF($T$10:T24,"在庫異常"),"")
B25: =IF(C25="","",COUNTA($C$10:C25)) | L25: =IF(C25="","",SUMIFS(入出庫履歴!$G$10:$G$1009,入出庫履歴!$E$10:$E$1009,C25,入出庫履歴!$D$10:$D$1009,"入庫")) | M25: =IF(C25="","",SUMIFS(入出庫履歴!$G$10:$G$1009,入出庫履歴!$E$10:$E$1009,C25,入出庫履歴!$D$10:$D$1009,"出庫")) | N25: =IF(C25="","",SUMIFS(入出庫履歴!$G$10:$G$1009,入出庫履歴!$E$10:$E$1009,C25,入出庫履歴!$D$10:$D$1009,"廃棄")) | O25: =IF(C25="","",SUMIFS(入出庫履歴!$G$10:$G$1009,入出庫履歴!$E$10:$E$1009,C25,入出庫履歴!$D$10:$D$1009,"棚卸調整")) | P25: =IF(C25="","",L25-M25-N25+O25) | Q25: =IF(OR(C25="",K25=""),"",ROUND(P25*K25,0)) | T25: =IF(C25="","",IF(P25<0,"在庫異常",IF(P25=0,"欠品",IF(AND(R25<>"",P25<=R25),"要発注","適正")))) | U25: =IF(OR(T25="要発注",T25="欠品"),IF(S25>0,CEILING(MAX(R25-P25,0)+S25*0.0001,S25),MAX(R25-P25,0)),"") | V25: =IF(C25="","",IF(_xlfn.MINIFS(入出庫履歴!$K$10:$K$1009,入出庫履歴!$E$10:$E$1009,C25,入出庫履歴!$N$10:$N$1009,">0")=0,"",_xlfn.MINIFS(入出庫履歴!$K$10:$K$1009,入出庫履歴!$E$10:$E$1009,C25,入出庫履歴!$N$10:$N$1009,">0"))) | W25: =IF(OR(V25="",P25<=0),"",IF(V25<TODAY(),"期限切れ",IF(V25-TODAY()<=設定!$C$4,"期限間近",""))) | Z25: =IF(OR(T25="要発注",T25="欠品",T25="在庫異常"),COUNTIF($T$10:T25,"要発注")+COUNTIF($T$10:T25,"欠品")+COUNTIF($T$10:T25,"在庫異常"),"")
B26: =IF(C26="","",COUNTA($C$10:C26)) | L26: =IF(C26="","",SUMIFS(入出庫履歴!$G$10:$G$1009,入出庫履歴!$E$10:$E$1009,C26,入出庫履歴!$D$10:$D$1009,"入庫")) | M26: =IF(C26="","",SUMIFS(入出庫履歴!$G$10:$G$1009,入出庫履歴!$E$10:$E$1009,C26,入出庫履歴!$D$10:$D$1009,"出庫")) | N26: =IF(C26="","",SUMIFS(入出庫履歴!$G$10:$G$1009,入出庫履歴!$E$10:$E$1009,C26,入出庫履歴!$D$10:$D$1009,"廃棄")) | O26: =IF(C26="","",SUMIFS(入出庫履歴!$G$10:$G$1009,入出庫履歴!$E$10:$E$1009,C26,入出庫履歴!$D$10:$D$1009,"棚卸調整")) | P26: =IF(C26="","",L26-M26-N26+O26) | Q26: =IF(OR(C26="",K26=""),"",ROUND(P26*K26,0)) | T26: =IF(C26="","",IF(P26<0,"在庫異常",IF(P26=0,"欠品",IF(AND(R26<>"",P26<=R26),"要発注","適正")))) | U26: =IF(OR(T26="要発注",T26="欠品"),IF(S26>0,CEILING(MAX(R26-P26,0)+S26*0.0001,S26),MAX(R26-P26,0)),"") | V26: =IF(C26="","",IF(_xlfn.MINIFS(入出庫履歴!$K$10:$K$1009,入出庫履歴!$E$10:$E$1009,C26,入出庫履歴!$N$10:$N$1009,">0")=0,"",_xlfn.MINIFS(入出庫履歴!$K$10:$K$1009,入出庫履歴!$E$10:$E$1009,C26,入出庫履歴!$N$10:$N$1009,">0"))) | W26: =IF(OR(V26="",P26<=0),"",IF(V26<TODAY(),"期限切れ",IF(V26-TODAY()<=設定!$C$4,"期限間近",""))) | Z26: =IF(OR(T26="要発注",T26="欠品",T26="在庫異常"),COUNTIF($T$10:T26,"要発注")+COUNTIF($T$10:T26,"欠品")+COUNTIF($T$10:T26,"在庫異常"),"")
B27: =IF(C27="","",COUNTA($C$10:C27)) | L27: =IF(C27="","",SUMIFS(入出庫履歴!$G$10:$G$1009,入出庫履歴!$E$10:$E$1009,C27,入出庫履歴!$D$10:$D$1009,"入庫")) | M27: =IF(C27="","",SUMIFS(入出庫履歴!$G$10:$G$1009,入出庫履歴!$E$10:$E$1009,C27,入出庫履歴!$D$10:$D$1009,"出庫")) | N27: =IF(C27="","",SUMIFS(入出庫履歴!$G$10:$G$1009,入出庫履歴!$E$10:$E$1009,C27,入出庫履歴!$D$10:$D$1009,"廃棄")) | O27: =IF(C27="","",SUMIFS(入出庫履歴!$G$10:$G$1009,入出庫履歴!$E$10:$E$1009,C27,入出庫履歴!$D$10:$D$1009,"棚卸調整")) | P27: =IF(C27="","",L27-M27-N27+O27) | Q27: =IF(OR(C27="",K27=""),"",ROUND(P27*K27,0)) | T27: =IF(C27="","",IF(P27<0,"在庫異常",IF(P27=0,"欠品",IF(AND(R27<>"",P27<=R27),"要発注","適正")))) | U27: =IF(OR(T27="要発注",T27="欠品"),IF(S27>0,CEILING(MAX(R27-P27,0)+S27*0.0001,S27),MAX(R27-P27,0)),"") | V27: =IF(C27="","",IF(_xlfn.MINIFS(入出庫履歴!$K$10:$K$1009,入出庫履歴!$E$10:$E$1009,C27,入出庫履歴!$N$10:$N$1009,">0")=0,"",_xlfn.MINIFS(入出庫履歴!$K$10:$K$1009,入出庫履歴!$E$10:$E$1009,C27,入出庫履歴!$N$10:$N$1009,">0"))) | W27: =IF(OR(V27="",P27<=0),"",IF(V27<TODAY(),"期限切れ",IF(V27-TODAY()<=設定!$C$4,"期限間近",""))) | Z27: =IF(OR(T27="要発注",T27="欠品",T27="在庫異常"),COUNTIF($T$10:T27,"要発注")+COUNTIF($T$10:T27,"欠品")+COUNTIF($T$10:T27,"在庫異常"),"")
B28: =IF(C28="","",COUNTA($C$10:C28)) | L28: =IF(C28="","",SUMIFS(入出庫履歴!$G$10:$G$1009,入出庫履歴!$E$10:$E$1009,C28,入出庫履歴!$D$10:$D$1009,"入庫")) | M28: =IF(C28="","",SUMIFS(入出庫履歴!$G$10:$G$1009,入出庫履歴!$E$10:$E$1009,C28,入出庫履歴!$D$10:$D$1009,"出庫")) | N28: =IF(C28="","",SUMIFS(入出庫履歴!$G$10:$G$1009,入出庫履歴!$E$10:$E$1009,C28,入出庫履歴!$D$10:$D$1009,"廃棄")) | O28: =IF(C28="","",SUMIFS(入出庫履歴!$G$10:$G$1009,入出庫履歴!$E$10:$E$1009,C28,入出庫履歴!$D$10:$D$1009,"棚卸調整")) | P28: =IF(C28="","",L28-M28-N28+O28) | Q28: =IF(OR(C28="",K28=""),"",ROUND(P28*K28,0)) | T28: =IF(C28="","",IF(P28<0,"在庫異常",IF(P28=0,"欠品",IF(AND(R28<>"",P28<=R28),"要発注","適正")))) | U28: =IF(OR(T28="要発注",T28="欠品"),IF(S28>0,CEILING(MAX(R28-P28,0)+S28*0.0001,S28),MAX(R28-P28,0)),"") | V28: =IF(C28="","",IF(_xlfn.MINIFS(入出庫履歴!$K$10:$K$1009,入出庫履歴!$E$10:$E$1009,C28,入出庫履歴!$N$10:$N$1009,">0")=0,"",_xlfn.MINIFS(入出庫履歴!$K$10:$K$1009,入出庫履歴!$E$10:$E$1009,C28,入出庫履歴!$N$10:$N$1009,">0"))) | W28: =IF(OR(V28="",P28<=0),"",IF(V28<TODAY(),"期限切れ",IF(V28-TODAY()<=設定!$C$4,"期限間近",""))) | Z28: =IF(OR(T28="要発注",T28="欠品",T28="在庫異常"),COUNTIF($T$10:T28,"要発注")+COUNTIF($T$10:T28,"欠品")+COUNTIF($T$10:T28,"在庫異常"),"")
B29: =IF(C29="","",COUNTA($C$10:C29)) | L29: =IF(C29="","",SUMIFS(入出庫履歴!$G$10:$G$1009,入出庫履歴!$E$10:$E$1009,C29,入出庫履歴!$D$10:$D$1009,"入庫")) | M29: =IF(C29="","",SUMIFS(入出庫履歴!$G$10:$G$1009,入出庫履歴!$E$10:$E$1009,C29,入出庫履歴!$D$10:$D$1009,"出庫")) | N29: =IF(C29="","",SUMIFS(入出庫履歴!$G$10:$G$1009,入出庫履歴!$E$10:$E$1009,C29,入出庫履歴!$D$10:$D$1009,"廃棄")) | O29: =IF(C29="","",SUMIFS(入出庫履歴!$G$10:$G$1009,入出庫履歴!$E$10:$E$1009,C29,入出庫履歴!$D$10:$D$1009,"棚卸調整")) | P29: =IF(C29="","",L29-M29-N29+O29) | Q29: =IF(OR(C29="",K29=""),"",ROUND(P29*K29,0)) | T29: =IF(C29="","",IF(P29<0,"在庫異常",IF(P29=0,"欠品",IF(AND(R29<>"",P29<=R29),"要発注","適正")))) | U29: =IF(OR(T29="要発注",T29="欠品"),IF(S29>0,CEILING(MAX(R29-P29,0)+S29*0.0001,S29),MAX(R29-P29,0)),"") | V29: =IF(C29="","",IF(_xlfn.MINIFS(入出庫履歴!$K$10:$K$1009,入出庫履歴!$E$10:$E$1009,C29,入出庫履歴!$N$10:$N$1009,">0")=0,"",_xlfn.MINIFS(入出庫履歴!$K$10:$K$1009,入出庫履歴!$E$10:$E$1009,C29,入出庫履歴!$N$10:$N$1009,">0"))) | W29: =IF(OR(V29="",P29<=0),"",IF(V29<TODAY(),"期限切れ",IF(V29-TODAY()<=設定!$C$4,"期限間近",""))) | Z29: =IF(OR(T29="要発注",T29="欠品",T29="在庫異常"),COUNTIF($T$10:T29,"要発注")+COUNTIF($T$10:T29,"欠品")+COUNTIF($T$10:T29,"在庫異常"),"")
B30: =IF(C30="","",COUNTA($C$10:C30)) | L30: =IF(C30="","",SUMIFS(入出庫履歴!$G$10:$G$1009,入出庫履歴!$E$10:$E$1009,C30,入出庫履歴!$D$10:$D$1009,"入庫")) | M30: =IF(C30="","",SUMIFS(入出庫履歴!$G$10:$G$1009,入出庫履歴!$E$10:$E$1009,C30,入出庫履歴!$D$10:$D$1009,"出庫")) | N30: =IF(C30="","",SUMIFS(入出庫履歴!$G$10:$G$1009,入出庫履歴!$E$10:$E$1009,C30,入出庫履歴!$D$10:$D$1009,"廃棄")) | O30: =IF(C30="","",SUMIFS(入出庫履歴!$G$10:$G$1009,入出庫履歴!$E$10:$E$1009,C30,入出庫履歴!$D$10:$D$1009,"棚卸調整")) | P30: =IF(C30="","",L30-M30-N30+O30) | Q30: =IF(OR(C30="",K30=""),"",ROUND(P30*K30,0)) | T30: =IF(C30="","",IF(P30<0,"在庫異常",IF(P30=0,"欠品",IF(AND(R30<>"",P30<=R30),"要発注","適正")))) | U30: =IF(OR(T30="要発注",T30="欠品"),IF(S30>0,CEILING(MAX(R30-P30,0)+S30*0.0001,S30),MAX(R30-P30,0)),"") | V30: =IF(C30="","",IF(_xlfn.MINIFS(入出庫履歴!$K$10:$K$1009,入出庫履歴!$E$10:$E$1009,C30,入出庫履歴!$N$10:$N$1009,">0")=0,"",_xlfn.MINIFS(入出庫履歴!$K$10:$K$1009,入出庫履歴!$E$10:$E$1009,C30,入出庫履歴!$N$10:$N$1009,">0"))) | W30: =IF(OR(V30="",P30<=0),"",IF(V30<TODAY(),"期限切れ",IF(V30-TODAY()<=設定!$C$4,"期限間近",""))) | Z30: =IF(OR(T30="要発注",T30="欠品",T30="在庫異常"),COUNTIF($T$10:T30,"要発注")+COUNTIF($T$10:T30,"欠品")+COUNTIF($T$10:T30,"在庫異常"),"")
... B309: =IF(C309="","",COUNTA($C$10:C309)) | L309: =IF(C309="","",SUMIFS(入出庫履歴!$G$10:$G$1009,入出庫履歴!$E$10:$E$1009,C309,入出庫履歴!$D$10:$D$1009,"入庫")) | M309: =IF(C309="","",SUMIFS(入出庫履歴!$G$10:$G$1009,入出庫履歴!$E$10:$E$1009,C309,入出庫履歴!$D$10:$D$1009,"出庫")) | N309: =IF(C309="","",SUMIFS(入出庫履歴!$G$10:$G$1009,入出庫履歴!$E$10:$E$1009,C309,入出庫履歴!$D$10:$D$1009,"廃棄")) | O309: =IF(C309="","",SUMIFS(入出庫履歴!$G$10:$G$1009,入出庫履歴!$E$10:$E$1009,C309,入出庫履歴!$D$10:$D$1009,"棚卸調整")) | P309: =IF(C309="","",L309-M309-N309+O309) | Q309: =IF(OR(C309="",K309=""),"",ROUND(P309*K309,0)) | T309: =IF(C309="","",IF(P309<0,"在庫異常",IF(P309=0,"欠品",IF(AND(R309<>"",P309<=R309),"要発注","適正")))) | U309: =IF(OR(T309="要発注",T309="欠品"),IF(S309>0,CEILING(MAX(R309-P309,0)+S309*0.0001,S309),MAX(R309-P309,0)),"") | V309: =IF(C309="","",IF(_xlfn.MINIFS(入出庫履歴!$K$10:$K$1009,入出庫履歴!$E$10:$E$1009,C309,入出庫履歴!$N$10:$N$1009,">0")=0,"",_xlfn.MINIFS(入出庫履歴!$K$10:$K$1009,入出庫履歴!$E$10:$E$1009,C309,入出庫履歴!$N$10:$N$1009,">0"))) | W309: =IF(OR(V309="",P309<=0),"",IF(V309<TODAY(),"期限切れ",IF(V309-TODAY()<=設定!$C$4,"期限間近",""))) | Z309: =IF(OR(T309="要発注",T309="欠品",T309="在庫異常"),COUNTIF($T$10:T309,"要発注")+COUNTIF($T$10:T309,"欠品")+COUNTIF($T$10:T309,"在庫異常"),"")

Sheet 入出庫履歴
A1: 他にも魅力的な情報がたっぷり！テンプレート倉庫
B2: 入庫するときは賞味・消費期限を入れると、入庫ロットが自動で付きます。出庫・廃棄のときは「対象ロット」をプルダウンから選ぶと、そのロットの残数が減り、期限管理ができます（古いロットから使う＝先入れ先出し）。
B3: 入出庫履歴
B6: 登録件数 | D6: 今月の入庫金額 | F6: 今月の出庫金額 | H6: 今月の廃棄金額 | K6: 要確認の行
B7: =COUNT($C$10:$C$1009) -> 20 | D7: =SUMIFS($J$10:$J$1009,$D$10:$D$1009,"入庫",$C$10:$C$1009,">="&EOMONTH(TODAY(),-1)+1,$C$10:$C$1009,"<="&EOMONTH(TODAY(),0)) -> 56480 | F7: =SUMIFS($J$10:$J$1009,$D$10:$D$1009,"出庫",$C$10:$C$1009,">="&EOMONTH(TODAY(),-1)+1,$C$10:$C$1009,"<="&EOMONTH(TODAY(),0)) -> 31538 | H7: =SUMIFS($J$10:$J$1009,$D$10:$D$1009,"廃棄",$C$10:$C$1009,">="&EOMONTH(TODAY(),-1)+1,$C$10:$C$1009,"<="&EOMONTH(TODAY(),0)) -> 180 | K7: =COUNTIF($P$10:$P$1009,"?*") -> 0
B9: No | C9: 日付 | D9: 区分 | E9: 食材コード | F9: 食材名 | G9: 数量 | H9: 単位 | I9: 単価（円） | J9: 金額（円） | K9: 賞味・消費期限（入庫時） | L9: 入庫ロット | M9: 対象ロット（出庫・廃棄時） | N9: ロット残数 | O9: 期限まで（日） | P9: 入力チェック | Q9: 担当者 | R9: 用途・入荷元 | S9: 備考
B10: =IF(C10="","",COUNT($C$10:C10)) -> 1 | C10: 46296 | D10: 入庫 | E10: PK-001 | F10: =IF(E10="","",IFERROR(INDEX(食材マスタ!$D$10:$D$309,MATCH(E10,食材マスタ!$C$10:$C$309,0)),"※コード未登録")) -> テイクアウト容器 | G10: 300 | H10: =IF(E10="","",IFERROR(INDEX(食材マスタ!$H$10:$H$309,MATCH(E10,食材マスタ!$C$10:$C$309,0)),"")) -> 個 | I10: =IF(E10="","",IFERROR(INDEX(食材マスタ!$K$10:$K$309,MATCH(E10,食材マスタ!$C$10:$C$309,0)),"")) -> 18 | J10: =IF(OR(G10="",I10=""),"",ROUND(ABS(G10)*I10,0)) -> 5400 | L10: =IF(AND(D10="入庫",E10<>""),E10&"-"&TEXT(ROW()-9,"0000"),"") -> PK-001-0001 | N10: =IF(L10="","",G10-SUMIFS($G$10:$G$1009,$M$10:$M$1009,L10,$D$10:$D$1009,"出庫")-SUMIFS($G$10:$G$1009,$M$10:$M$1009,L10,$D$10:$D$1009,"廃棄")+SUMIFS($G$10:$G$1009,$M$10:$M$1009,L10,$D$10:$D$1009,"棚卸調整")) -> 180 | O10: =IF(OR(L10="",K10=""),"",IF(N10<=0,"",K10-TODAY())) | P10: =IF(E10="","",IF(F10="※コード未登録","コード未登録",IF(AND(OR(D10="出庫",D10="廃棄"),M10=""),"ロット未指定",IF(AND(M10<>"",LEFT(M10,LEN(E10)+1)<>E10&"-"),"ロット違い",IF(AND(L10<>"",N10<0),"ロット残マイナス",""))))) | Q10: 高橋 | R10: ○○包材 | U10: =IF(AND(ISNUMBER(O10),O10<=設定!$C$4),1,0) -> 0 | V10: =IF(U10=1,SUM($U$10:U10),"")
B11: =IF(C11="","",COUNT($C$10:C11)) -> 2 | C11: 46296 | D11: 入庫 | E11: SE-001 | F11: =IF(E11="","",IFERROR(INDEX(食材マスタ!$D$10:$D$309,MATCH(E11,食材マスタ!$C$10:$C$309,0)),"※コード未登録")) -> 濃口醤油 | G11: 6 | H11: =IF(E11="","",IFERROR(INDEX(食材マスタ!$H$10:$H$309,MATCH(E11,食材マスタ!$C$10:$C$309,0)),"")) -> 本 | I11: =IF(E11="","",IFERROR(INDEX(食材マスタ!$K$10:$K$309,MATCH(E11,食材マスタ!$C$10:$C$309,0)),"")) -> 520 | J11: =IF(OR(G11="",I11=""),"",ROUND(ABS(G11)*I11,0)) -> 3120 | K11: 46568 | L11: =IF(AND(D11="入庫",E11<>""),E11&"-"&TEXT(ROW()-9,"0000"),"") -> SE-001-0002 | N11: =IF(L11="","",G11-SUMIFS($G$10:$G$1009,$M$10:$M$1009,L11,$D$10:$D$1009,"出庫")-SUMIFS($G$10:$G$1009,$M$10:$M$1009,L11,$D$10:$D$1009,"廃棄")+SUMIFS($G$10:$G$1009,$M$10:$M$1009,L11,$D$10:$D$1009,"棚卸調整")) -> 4 | O11: =IF(OR(L11="",K11=""),"",IF(N11<=0,"",K11-TODAY())) -> 242 | P11: =IF(E11="","",IF(F11="※コード未登録","コード未登録",IF(AND(OR(D11="出庫",D11="廃棄"),M11=""),"ロット未指定",IF(AND(M11<>"",LEFT(M11,LEN(E11)+1)<>E11&"-"),"ロット違い",IF(AND(L11<>"",N11<0),"ロット残マイナス",""))))) | Q11: 高橋 | R11: ○○醸造 | U11: =IF(AND(ISNUMBER(O11),O11<=設定!$C$4),1,0) -> 0 | V11: =IF(U11=1,SUM($U$10:U11),"")
B12: =IF(C12="","",COUNT($C$10:C12)) -> 3 | C12: 46296 | D12: 入庫 | E12: PW-001 | F12: =IF(E12="","",IFERROR(INDEX(食材マスタ!$D$10:$D$309,MATCH(E12,食材マスタ!$C$10:$C$309,0)),"※コード未登録")) -> 薄力粉 | G12: 10 | H12: =IF(E12="","",IFERROR(INDEX(食材マスタ!$H$10:$H$309,MATCH(E12,食材マスタ!$C$10:$C$309,0)),"")) -> 袋 | I12: =IF(E12="","",IFERROR(INDEX(食材マスタ!$K$10:$K$309,MATCH(E12,食材マスタ!$C$10:$C$309,0)),"")) -> 260 | J12: =IF(OR(G12="",I12=""),"",ROUND(ABS(G12)*I12,0)) -> 2600 | K12: 46477 | L12: =IF(AND(D12="入庫",E12<>""),E12&"-"&TEXT(ROW()-9,"0000"),"") -> PW-001-0003 | N12: =IF(L12="","",G12-SUMIFS($G$10:$G$1009,$M$10:$M$1009,L12,$D$10:$D$1009,"出庫")-SUMIFS($G$10:$G$1009,$M$10:$M$1009,L12,$D$10:$D$1009,"廃棄")+SUMIFS($G$10:$G$1009,$M$10:$M$1009,L12,$D$10:$D$1009,"棚卸調整")) -> 7 | O12: =IF(OR(L12="",K12=""),"",IF(N12<=0,"",K12-TODAY())) -> 151 | P12: =IF(E12="","",IF(F12="※コード未登録","コード未登録",IF(AND(OR(D12="出庫",D12="廃棄"),M12=""),"ロット未指定",IF(AND(M12<>"",LEFT(M12,LEN(E12)+1)<>E12&"-"),"ロット違い",IF(AND(L12<>"",N12<0),"ロット残マイナス",""))))) | Q12: 高橋 | R12: ○○製粉 | U12: =IF(AND(ISNUMBER(O12),O12<=設定!$C$4),1,0) -> 0 | V12: =IF(U12=1,SUM($U$10:U12),"")
B13: =IF(C13="","",COUNT($C$10:C13)) -> 4 | C13: 46310 | D13: 入庫 | E13: FS-001 | F13: =IF(E13="","",IFERROR(INDEX(食材マスタ!$D$10:$D$309,MATCH(E13,食材マスタ!$C$10:$C$309,0)),"※コード未登録")) -> サーモン切身 | G13: 5 | H13: =IF(E13="","",IFERROR(INDEX(食材マスタ!$H$10:$H$309,MATCH(E13,食材マスタ!$C$10:$C$309,0)),"")) -> kg | I13: =IF(E13="","",IFERROR(INDEX(食材マスタ!$K$10:$K$309,MATCH(E13,食材マスタ!$C$10:$C$309,0)),"")) -> 2800 | J13: =IF(OR(G13="",I13=""),"",ROUND(ABS(G13)*I13,0)) -> 14000 | K13: 46402 | L13: =IF(AND(D13="入庫",E13<>""),E13&"-"&TEXT(ROW()-9,"0000"),"") -> FS-001-0004 | N13: =IF(L13="","",G13-SUMIFS($G$10:$G$1009,$M$10:$M$1009,L13,$D$10:$D$1009,"出庫")-SUMIFS($G$10:$G$1009,$M$10:$M$1009,L13,$D$10:$D$1009,"廃棄")+SUMIFS($G$10:$G$1009,$M$10:$M$1009,L13,$D$10:$D$1009,"棚卸調整")) -> 2 | O13: =IF(OR(L13="",K13=""),"",IF(N13<=0,"",K13-TODAY())) -> 76 | P13: =IF(E13="","",IF(F13="※コード未登録","コード未登録",IF(AND(OR(D13="出庫",D13="廃棄"),M13=""),"ロット未指定",IF(AND(M13<>"",LEFT(M13,LEN(E13)+1)<>E13&"-"),"ロット違い",IF(AND(L13<>"",N13<0),"ロット残マイナス",""))))) | Q13: 高橋 | R13: ○○水産 | U13: =IF(AND(ISNUMBER(O13),O13<=設定!$C$4),1,0) -> 0 | V13: =IF(U13=1,SUM($U$10:U13),"")
B14: =IF(C14="","",COUNT($C$10:C14)) -> 5 | C14: 46315 | D14: 入庫 | E14: MT-001 | F14: =IF(E14="","",IFERROR(INDEX(食材マスタ!$D$10:$D$309,MATCH(E14,食材マスタ!$C$10:$C$309,0)),"※コード未登録")) -> 鶏もも肉 | G14: 10 | H14: =IF(E14="","",IFERROR(INDEX(食材マスタ!$H$10:$H$309,MATCH(E14,食材マスタ!$C$10:$C$309,0)),"")) -> kg | I14: =IF(E14="","",IFERROR(INDEX(食材マスタ!$K$10:$K$309,MATCH(E14,食材マスタ!$C$10:$C$309,0)),"")) -> 980 | J14: =IF(OR(G14="",I14=""),"",ROUND(ABS(G14)*I14,0)) -> 9800 | K14: 46320 | L14: =IF(AND(D14="入庫",E14<>""),E14&"-"&TEXT(ROW()-9,"0000"),"") -> MT-001-0005 | N14: =IF(L14="","",G14-SUMIFS($G$10:$G$1009,$M$10:$M$1009,L14,$D$10:$D$1009,"出庫")-SUMIFS($G$10:$G$1009,$M$10:$M$1009,L14,$D$10:$D$1009,"廃棄")+SUMIFS($G$10:$G$1009,$M$10:$M$1009,L14,$D$10:$D$1009,"棚卸調整")) -> 2 | O14: =IF(OR(L14="",K14=""),"",IF(N14<=0,"",K14-TODAY())) -> -6 | P14: =IF(E14="","",IF(F14="※コード未登録","コード未登録",IF(AND(OR(D14="出庫",D14="廃棄"),M14=""),"ロット未指定",IF(AND(M14<>"",LEFT(M14,LEN(E14)+1)<>E14&"-"),"ロット違い",IF(AND(L14<>"",N14<0),"ロット残マイナス",""))))) | Q14: 高橋 | R14: ○○精肉 | U14: =IF(AND(ISNUMBER(O14),O14<=設定!$C$4),1,0) -> 1 | V14: =IF(U14=1,SUM($U$10:U14),"") -> 1
B15: =IF(C15="","",COUNT($C$10:C15)) -> 6 | C15: 46315 | D15: 入庫 | E15: VG-001 | F15: =IF(E15="","",IFERROR(INDEX(食材マスタ!$D$10:$D$309,MATCH(E15,食材マスタ!$C$10:$C$309,0)),"※コード未登録")) -> 玉ねぎ | G15: 20 | H15: =IF(E15="","",IFERROR(INDEX(食材マスタ!$H$10:$H$309,MATCH(E15,食材マスタ!$C$10:$C$309,0)),"")) -> kg | I15: =IF(E15="","",IFERROR(INDEX(食材マスタ!$K$10:$K$309,MATCH(E15,食材マスタ!$C$10:$C$309,0)),"")) -> 220 | J15: =IF(OR(G15="",I15=""),"",ROUND(ABS(G15)*I15,0)) -> 4400 | L15: =IF(AND(D15="入庫",E15<>""),E15&"-"&TEXT(ROW()-9,"0000"),"") -> VG-001-0006 | N15: =IF(L15="","",G15-SUMIFS($G$10:$G$1009,$M$10:$M$1009,L15,$D$10:$D$1009,"出庫")-SUMIFS($G$10:$G$1009,$M$10:$M$1009,L15,$D$10:$D$1009,"廃棄")+SUMIFS($G$10:$G$1009,$M$10:$M$1009,L15,$D$10:$D$1009,"棚卸調整")) -> 7.6 | O15: =IF(OR(L15="",K15=""),"",IF(N15<=0,"",K15-TODAY())) | P15: =IF(E15="","",IF(F15="※コード未登録","コード未登録",IF(AND(OR(D15="出庫",D15="廃棄"),M15=""),"ロット未指定",IF(AND(M15<>"",LEFT(M15,LEN(E15)+1)<>E15&"-"),"ロット違い",IF(AND(L15<>"",N15<0),"ロット残マイナス",""))))) | Q15: 高橋 | R15: ○○青果 | U15: =IF(AND(ISNUMBER(O15),O15<=設定!$C$4),1,0) -> 0 | V15: =IF(U15=1,SUM($U$10:U15),"")
B16: =IF(C16="","",COUNT($C$10:C16)) -> 7 | C16: 46315 | D16: 入庫 | E16: DY-002 | F16: =IF(E16="","",IFERROR(INDEX(食材マスタ!$D$10:$D$309,MATCH(E16,食材マスタ!$C$10:$C$309,0)),"※コード未登録")) -> 鶏卵 | G16: 10 | H16: =IF(E16="","",IFERROR(INDEX(食材マスタ!$H$10:$H$309,MATCH(E16,食材マスタ!$C$10:$C$309,0)),"")) -> パック | I16: =IF(E16="","",IFERROR(INDEX(食材マスタ!$K$10:$K$309,MATCH(E16,食材マスタ!$C$10:$C$309,0)),"")) -> 280 | J16: =IF(OR(G16="",I16=""),"",ROUND(ABS(G16)*I16,0)) -> 2800 | K16: 46329 | L16: =IF(AND(D16="入庫",E16<>""),E16&"-"&TEXT(ROW()-9,"0000"),"") -> DY-002-0007 | N16: =IF(L16="","",G16-SUMIFS($G$10:$G$1009,$M$10:$M$1009,L16,$D$10:$D$1009,"出庫")-SUMIFS($G$10:$G$1009,$M$10:$M$1009,L16,$D$10:$D$1009,"廃棄")+SUMIFS($G$10:$G$1009,$M$10:$M$1009,L16,$D$10:$D$1009,"棚卸調整")) -> 0 | O16: =IF(OR(L16="",K16=""),"",IF(N16<=0,"",K16-TODAY())) | P16: =IF(E16="","",IF(F16="※コード未登録","コード未登録",IF(AND(OR(D16="出庫",D16="廃棄"),M16=""),"ロット未指定",IF(AND(M16<>"",LEFT(M16,LEN(E16)+1)<>E16&"-"),"ロット違い",IF(AND(L16<>"",N16<0),"ロット残マイナス",""))))) | Q16: 高橋 | R16: ○○養鶏 | U16: =IF(AND(ISNUMBER(O16),O16<=設定!$C$4),1,0) -> 0 | V16: =IF(U16=1,SUM($U$10:U16),"")
B17: =IF(C17="","",COUNT($C$10:C17)) -> 8 | C17: 46317 | D17: 出庫 | E17: MT-001 | F17: =IF(E17="","",IFERROR(INDEX(食材マスタ!$D$10:$D$309,MATCH(E17,食材マスタ!$C$10:$C$309,0)),"※コード未登録")) -> 鶏もも肉 | G17: 8 | H17: =IF(E17="","",IFERROR(INDEX(食材マスタ!$H$10:$H$309,MATCH(E17,食材マスタ!$C$10:$C$309,0)),"")) -> kg | I17: =IF(E17="","",IFERROR(INDEX(食材マスタ!$K$10:$K$309,MATCH(E17,食材マスタ!$C$10:$C$309,0)),"")) -> 980 | J17: =IF(OR(G17="",I17=""),"",ROUND(ABS(G17)*I17,0)) -> 7840 | L17: =IF(AND(D17="入庫",E17<>""),E17&"-"&TEXT(ROW()-9,"0000"),"") | M17: MT-001-0005 | N17: =IF(L17="","",G17-SUMIFS($G$10:$G$1009,$M$10:$M$1009,L17,$D$10:$D$1009,"出庫")-SUMIFS($G$10:$G$1009,$M$10:$M$1009,L17,$D$10:$D$1009,"廃棄")+SUMIFS($G$10:$G$1009,$M$10:$M$1009,L17,$D$10:$D$1009,"棚卸調整")) | O17: =IF(OR(L17="",K17=""),"",IF(N17<=0,"",K17-TODAY())) | P17: =IF(E17="","",IF(F17="※コード未登録","コード未登録",IF(AND(OR(D17="出庫",D17="廃棄"),M17=""),"ロット未指定",IF(AND(M17<>"",LEFT(M17,LEN(E17)+1)<>E17&"-"),"ロット違い",IF(AND(L17<>"",N17<0),"ロット残マイナス",""))))) | Q17: 佐藤 | R17: ランチ仕込み | U17: =IF(AND(ISNUMBER(O17),O17<=設定!$C$4),1,0) -> 0 | V17: =IF(U17=1,SUM($U$10:U17),"")
B18: =IF(C18="","",COUNT($C$10:C18)) -> 9 | C18: 46319 | D18: 出庫 | E18: FS-001 | F18: =IF(E18="","",IFERROR(INDEX(食材マスタ!$D$10:$D$309,MATCH(E18,食材マスタ!$C$10:$C$309,0)),"※コード未登録")) -> サーモン切身 | G18: 3 | H18: =IF(E18="","",IFERROR(INDEX(食材マスタ!$H$10:$H$309,MATCH(E18,食材マスタ!$C$10:$C$309,0)),"")) -> kg | I18: =IF(E18="","",IFERROR(INDEX(食材マスタ!$K$10:$K$309,MATCH(E18,食材マスタ!$C$10:$C$309,0)),"")) -> 2800 | J18: =IF(OR(G18="",I18=""),"",ROUND(ABS(G18)*I18,0)) -> 8400 | L18: =IF(AND(D18="入庫",E18<>""),E18&"-"&TEXT(ROW()-9,"0000"),"") | M18: FS-001-0004 | N18: =IF(L18="","",G18-SUMIFS($G$10:$G$1009,$M$10:$M$1009,L18,$D$10:$D$1009,"出庫")-SUMIFS($G$10:$G$1009,$M$10:$M$1009,L18,$D$10:$D$1009,"廃棄")+SUMIFS($G$10:$G$1009,$M$10:$M$1009,L18,$D$10:$D$1009,"棚卸調整")) | O18: =IF(OR(L18="",K18=""),"",IF(N18<=0,"",K18-TODAY())) | P18: =IF(E18="","",IF(F18="※コード未登録","コード未登録",IF(AND(OR(D18="出庫",D18="廃棄"),M18=""),"ロット未指定",IF(AND(M18<>"",LEFT(M18,LEN(E18)+1)<>E18&"-"),"ロット違い",IF(AND(L18<>"",N18<0),"ロット残マイナス",""))))) | Q18: 佐藤 | R18: ディナー仕込み | U18: =IF(AND(ISNUMBER(O18),O18<=設定!$C$4),1,0) -> 0 | V18: =IF(U18=1,SUM($U$10:U18),"")
B19: =IF(C19="","",COUNT($C$10:C19)) -> 10 | C19: 46320 | D19: 入庫 | E19: VG-002 | F19: =IF(E19="","",IFERROR(INDEX(食材マスタ!$D$10:$D$309,MATCH(E19,食材マスタ!$C$10:$C$309,0)),"※コード未登録")) -> キャベツ | G19: 10 | H19: =IF(E19="","",IFERROR(INDEX(食材マスタ!$H$10:$H$309,MATCH(E19,食材マスタ!$C$10:$C$309,0)),"")) -> 個 | I19: =IF(E19="","",IFERROR(INDEX(食材マスタ!$K$10:$K$309,MATCH(E19,食材マスタ!$C$10:$C$309,0)),"")) -> 180 | J19: =IF(OR(G19="",I19=""),"",ROUND(ABS(G19)*I19,0)) -> 1800 | K19: 46329 | L19: =IF(AND(D19="入庫",E19<>""),E19&"-"&TEXT(ROW()-9,"0000"),"") -> VG-002-0010 | N19: =IF(L19="","",G19-SUMIFS($G$10:$G$1009,$M$10:$M$1009,L19,$D$10:$D$1009,"出庫")-SUMIFS($G$10:$G$1009,$M$10:$M$1009,L19,$D$10:$D$1009,"廃棄")+SUMIFS($G$10:$G$1009,$M$10:$M$1009,L19,$D$10:$D$1009,"棚卸調整")) -> 9 | O19: =IF(OR(L19="",K19=""),"",IF(N19<=0,"",K19-TODAY())) -> 3 | P19: =IF(E19="","",IF(F19="※コード未登録","コード未登録",IF(AND(OR(D19="出庫",D19="廃棄"),M19=""),"ロット未指定",IF(AND(M19<>"",LEFT(M19,LEN(E19)+1)<>E19&"-"),"ロット違い",IF(AND(L19<>"",N19<0),"ロット残マイナス",""))))) | Q19: 高橋 | R19: ○○青果 | U19: =IF(AND(ISNUMBER(O19),O19<=設定!$C$4),1,0) -> 1 | V19: =IF(U19=1,SUM($U$10:U19),"") -> 2
B20: =IF(C20="","",COUNT($C$10:C20)) -> 11 | C20: 46321 | D20: 入庫 | E20: MT-001 | F20: =IF(E20="","",IFERROR(INDEX(食材マスタ!$D$10:$D$309,MATCH(E20,食材マスタ!$C$10:$C$309,0)),"※コード未登録")) -> 鶏もも肉 | G20: 10 | H20: =IF(E20="","",IFERROR(INDEX(食材マスタ!$H$10:$H$309,MATCH(E20,食材マスタ!$C$10:$C$309,0)),"")) -> kg | I20: =IF(E20="","",IFERROR(INDEX(食材マスタ!$K$10:$K$309,MATCH(E20,食材マスタ!$C$10:$C$309,0)),"")) -> 980 | J20: =IF(OR(G20="",I20=""),"",ROUND(ABS(G20)*I20,0)) -> 9800 | K20: 46327 | L20: =IF(AND(D20="入庫",E20<>""),E20&"-"&TEXT(ROW()-9,"0000"),"") -> MT-001-0011 | N20: =IF(L20="","",G20-SUMIFS($G$10:$G$1009,$M$10:$M$1009,L20,$D$10:$D$1009,"出庫")-SUMIFS($G$10:$G$1009,$M$10:$M$1009,L20,$D$10:$D$1009,"廃棄")+SUMIFS($G$10:$G$1009,$M$10:$M$1009,L20,$D$10:$D$1009,"棚卸調整")) -> 5.5 | O20: =IF(OR(L20="",K20=""),"",IF(N20<=0,"",K20-TODAY())) -> 1 | P20: =IF(E20="","",IF(F20="※コード未登録","コード未登録",IF(AND(OR(D20="出庫",D20="廃棄"),M20=""),"ロット未指定",IF(AND(M20<>"",LEFT(M20,LEN(E20)+1)<>E20&"-"),"ロット違い",IF(AND(L20<>"",N20<0),"ロット残マイナス",""))))) | Q20: 高橋 | R20: ○○精肉 | U20: =IF(AND(ISNUMBER(O20),O20<=設定!$C$4),1,0) -> 1 | V20: =IF(U20=1,SUM($U$10:U20),"") -> 3
B21: =IF(C21="","",COUNT($C$10:C21)) -> 12 | C21: 46322 | D21: 入庫 | E21: DY-001 | F21: =IF(E21="","",IFERROR(INDEX(食材マスタ!$D$10:$D$309,MATCH(E21,食材マスタ!$C$10:$C$309,0)),"※コード未登録")) -> 牛乳 | G21: 12 | H21: =IF(E21="","",IFERROR(INDEX(食材マスタ!$H$10:$H$309,MATCH(E21,食材マスタ!$C$10:$C$309,0)),"")) -> 本 | I21: =IF(E21="","",IFERROR(INDEX(食材マスタ!$K$10:$K$309,MATCH(E21,食材マスタ!$C$10:$C$309,0)),"")) -> 230 | J21: =IF(OR(G21="",I21=""),"",ROUND(ABS(G21)*I21,0)) -> 2760 | K21: 46328 | L21: =IF(AND(D21="入庫",E21<>""),E21&"-"&TEXT(ROW()-9,"0000"),"") -> DY-001-0012 | N21: =IF(L21="","",G21-SUMIFS($G$10:$G$1009,$M$10:$M$1009,L21,$D$10:$D$1009,"出庫")-SUMIFS($G$10:$G$1009,$M$10:$M$1009,L21,$D$10:$D$1009,"廃棄")+SUMIFS($G$10:$G$1009,$M$10:$M$1009,L21,$D$10:$D$1009,"棚卸調整")) -> 6 | O21: =IF(OR(L21="",K21=""),"",IF(N21<=0,"",K21-TODAY())) -> 2 | P21: =IF(E21="","",IF(F21="※コード未登録","コード未登録",IF(AND(OR(D21="出庫",D21="廃棄"),M21=""),"ロット未指定",IF(AND(M21<>"",LEFT(M21,LEN(E21)+1)<>E21&"-"),"ロット違い",IF(AND(L21<>"",N21<0),"ロット残マイナス",""))))) | Q21: 高橋 | R21: ○○乳業 | U21: =IF(AND(ISNUMBER(O21),O21<=設定!$C$4),1,0) -> 1 | V21: =IF(U21=1,SUM($U$10:U21),"") -> 4
B22: =IF(C22="","",COUNT($C$10:C22)) -> 13 | C22: 46322 | D22: 出庫 | E22: MT-001 | F22: =IF(E22="","",IFERROR(INDEX(食材マスタ!$D$10:$D$309,MATCH(E22,食材マスタ!$C$10:$C$309,0)),"※コード未登録")) -> 鶏もも肉 | G22: 4.5 | H22: =IF(E22="","",IFERROR(INDEX(食材マスタ!$H$10:$H$309,MATCH(E22,食材マスタ!$C$10:$C$309,0)),"")) -> kg | I22: =IF(E22="","",IFERROR(INDEX(食材マスタ!$K$10:$K$309,MATCH(E22,食材マスタ!$C$10:$C$309,0)),"")) -> 980 | J22: =IF(OR(G22="",I22=""),"",ROUND(ABS(G22)*I22,0)) -> 4410 | L22: =IF(AND(D22="入庫",E22<>""),E22&"-"&TEXT(ROW()-9,"0000"),"") | M22: MT-001-0011 | N22: =IF(L22="","",G22-SUMIFS($G$10:$G$1009,$M$10:$M$1009,L22,$D$10:$D$1009,"出庫")-SUMIFS($G$10:$G$1009,$M$10:$M$1009,L22,$D$10:$D$1009,"廃棄")+SUMIFS($G$10:$G$1009,$M$10:$M$1009,L22,$D$10:$D$1009,"棚卸調整")) | O22: =IF(OR(L22="",K22=""),"",IF(N22<=0,"",K22-TODAY())) | P22: =IF(E22="","",IF(F22="※コード未登録","コード未登録",IF(AND(OR(D22="出庫",D22="廃棄"),M22=""),"ロット未指定",IF(AND(M22<>"",LEFT(M22,LEN(E22)+1)<>E22&"-"),"ロット違い",IF(AND(L22<>"",N22<0),"ロット残マイナス",""))))) | Q22: 佐藤 | R22: ランチ仕込み | U22: =IF(AND(ISNUMBER(O22),O22<=設定!$C$4),1,0) -> 0 | V22: =IF(U22=1,SUM($U$10:U22),"")
B23: =IF(C23="","",COUNT($C$10:C23)) -> 14 | C23: 46323 | D23: 出庫 | E23: VG-001 | F23: =IF(E23="","",IFERROR(INDEX(食材マスタ!$D$10:$D$309,MATCH(E23,食材マスタ!$C$10:$C$309,0)),"※コード未登録")) -> 玉ねぎ | G23: 12.4 | H23: =IF(E23="","",IFERROR(INDEX(食材マスタ!$H$10:$H$309,MATCH(E23,食材マスタ!$C$10:$C$309,0)),"")) -> kg | I23: =IF(E23="","",IFERROR(INDEX(食材マスタ!$K$10:$K$309,MATCH(E23,食材マスタ!$C$10:$C$309,0)),"")) -> 220 | J23: =IF(OR(G23="",I23=""),"",ROUND(ABS(G23)*I23,0)) -> 2728 | L23: =IF(AND(D23="入庫",E23<>""),E23&"-"&TEXT(ROW()-9,"0000"),"") | M23: VG-001-0006 | N23: =IF(L23="","",G23-SUMIFS($G$10:$G$1009,$M$10:$M$1009,L23,$D$10:$D$1009,"出庫")-SUMIFS($G$10:$G$1009,$M$10:$M$1009,L23,$D$10:$D$1009,"廃棄")+SUMIFS($G$10:$G$1009,$M$10:$M$1009,L23,$D$10:$D$1009,"棚卸調整")) | O23: =IF(OR(L23="",K23=""),"",IF(N23<=0,"",K23-TODAY())) | P23: =IF(E23="","",IF(F23="※コード未登録","コード未登録",IF(AND(OR(D23="出庫",D23="廃棄"),M23=""),"ロット未指定",IF(AND(M23<>"",LEFT(M23,LEN(E23)+1)<>E23&"-"),"ロット違い",IF(AND(L23<>"",N23<0),"ロット残マイナス",""))))) | Q23: 鈴木 | R23: カレー仕込み | U23: =IF(AND(ISNUMBER(O23),O23<=設定!$C$4),1,0) -> 0 | V23: =IF(U23=1,SUM($U$10:U23),"")
B24: =IF(C24="","",COUNT($C$10:C24)) -> 15 | C24: 46323 | D24: 廃棄 | E24: VG-002 | F24: =IF(E24="","",IFERROR(INDEX(食材マスタ!$D$10:$D$309,MATCH(E24,食材マスタ!$C$10:$C$309,0)),"※コード未登録")) -> キャベツ | G24: 1 | H24: =IF(E24="","",IFERROR(INDEX(食材マスタ!$H$10:$H$309,MATCH(E24,食材マスタ!$C$10:$C$309,0)),"")) -> 個 | I24: =IF(E24="","",IFERROR(INDEX(食材マスタ!$K$10:$K$309,MATCH(E24,食材マスタ!$C$10:$C$309,0)),"")) -> 180 | J24: =IF(OR(G24="",I24=""),"",ROUND(ABS(G24)*I24,0)) -> 180 | L24: =IF(AND(D24="入庫",E24<>""),E24&"-"&TEXT(ROW()-9,"0000"),"") | M24: VG-002-0010 | N24: =IF(L24="","",G24-SUMIFS($G$10:$G$1009,$M$10:$M$1009,L24,$D$10:$D$1009,"出庫")-SUMIFS($G$10:$G$1009,$M$10:$M$1009,L24,$D$10:$D$1009,"廃棄")+SUMIFS($G$10:$G$1009,$M$10:$M$1009,L24,$D$10:$D$1009,"棚卸調整")) | O24: =IF(OR(L24="",K24=""),"",IF(N24<=0,"",K24-TODAY())) | P24: =IF(E24="","",IF(F24="※コード未登録","コード未登録",IF(AND(OR(D24="出庫",D24="廃棄"),M24=""),"ロット未指定",IF(AND(M24<>"",LEFT(M24,LEN(E24)+1)<>E24&"-"),"ロット違い",IF(AND(L24<>"",N24<0),"ロット残マイナス",""))))) | Q24: 鈴木 | S24: 外葉の傷み | U24: =IF(AND(ISNUMBER(O24),O24<=設定!$C$4),1,0) -> 0 | V24: =IF(U24=1,SUM($U$10:U24),"")
B25: =IF(C25="","",COUNT($C$10:C25)) -> 16 | C25: 46324 | D25: 出庫 | E25: DY-001 | F25: =IF(E25="","",IFERROR(INDEX(食材マスタ!$D$10:$D$309,MATCH(E25,食材マスタ!$C$10:$C$309,0)),"※コード未登録")) -> 牛乳 | G25: 6 | H25: =IF(E25="","",IFERROR(INDEX(食材マスタ!$H$10:$H$309,MATCH(E25,食材マスタ!$C$10:$C$309,0)),"")) -> 本 | I25: =IF(E25="","",IFERROR(INDEX(食材マスタ!$K$10:$K$309,MATCH(E25,食材マスタ!$C$10:$C$309,0)),"")) -> 230 | J25: =IF(OR(G25="",I25=""),"",ROUND(ABS(G25)*I25,0)) -> 1380 | L25: =IF(AND(D25="入庫",E25<>""),E25&"-"&TEXT(ROW()-9,"0000"),"") | M25: DY-001-0012 | N25: =IF(L25="","",G25-SUMIFS($G$10:$G$1009,$M$10:$M$1009,L25,$D$10:$D$1009,"出庫")-SUMIFS($G$10:$G$1009,$M$10:$M$1009,L25,$D$10:$D$1009,"廃棄")+SUMIFS($G$10:$G$1009,$M$10:$M$1009,L25,$D$10:$D$1009,"棚卸調整")) | O25: =IF(OR(L25="",K25=""),"",IF(N25<=0,"",K25-TODAY())) | P25: =IF(E25="","",IF(F25="※コード未登録","コード未登録",IF(AND(OR(D25="出庫",D25="廃棄"),M25=""),"ロット未指定",IF(AND(M25<>"",LEFT(M25,LEN(E25)+1)<>E25&"-"),"ロット違い",IF(AND(L25<>"",N25<0),"ロット残マイナス",""))))) | Q25: 田中 | R25: デザート仕込み | U25: =IF(AND(ISNUMBER(O25),O25<=設定!$C$4),1,0) -> 0 | V25: =IF(U25=1,SUM($U$10:U25),"")
B26: =IF(C26="","",COUNT($C$10:C26)) -> 17 | C26: 46324 | D26: 出庫 | E26: DY-002 | F26: =IF(E26="","",IFERROR(INDEX(食材マスタ!$D$10:$D$309,MATCH(E26,食材マスタ!$C$10:$C$309,0)),"※コード未登録")) -> 鶏卵 | G26: 10 | H26: =IF(E26="","",IFERROR(INDEX(食材マスタ!$H$10:$H$309,MATCH(E26,食材マスタ!$C$10:$C$309,0)),"")) -> パック | I26: =IF(E26="","",IFERROR(INDEX(食材マスタ!$K$10:$K$309,MATCH(E26,食材マスタ!$C$10:$C$309,0)),"")) -> 280 | J26: =IF(OR(G26="",I26=""),"",ROUND(ABS(G26)*I26,0)) -> 2800 | L26: =IF(AND(D26="入庫",E26<>""),E26&"-"&TEXT(ROW()-9,"0000"),"") | M26: DY-002-0007 | N26: =IF(L26="","",G26-SUMIFS($G$10:$G$1009,$M$10:$M$1009,L26,$D$10:$D$1009,"出庫")-SUMIFS($G$10:$G$1009,$M$10:$M$1009,L26,$D$10:$D$1009,"廃棄")+SUMIFS($G$10:$G$1009,$M$10:$M$1009,L26,$D$10:$D$1009,"棚卸調整")) | O26: =IF(OR(L26="",K26=""),"",IF(N26<=0,"",K26-TODAY())) | P26: =IF(E26="","",IF(F26="※コード未登録","コード未登録",IF(AND(OR(D26="出庫",D26="廃棄"),M26=""),"ロット未指定",IF(AND(M26<>"",LEFT(M26,LEN(E26)+1)<>E26&"-"),"ロット違い",IF(AND(L26<>"",N26<0),"ロット残マイナス",""))))) | Q26: 田中 | R26: モーニング | U26: =IF(AND(ISNUMBER(O26),O26<=設定!$C$4),1,0) -> 0 | V26: =IF(U26=1,SUM($U$10:U26),"")
B27: =IF(C27="","",COUNT($C$10:C27)) -> 18 | C27: 46324 | D27: 出庫 | E27: PK-001 | F27: =IF(E27="","",IFERROR(INDEX(食材マスタ!$D$10:$D$309,MATCH(E27,食材マスタ!$C$10:$C$309,0)),"※コード未登録")) -> テイクアウト容器 | G27: 120 | H27: =IF(E27="","",IFERROR(INDEX(食材マスタ!$H$10:$H$309,MATCH(E27,食材マスタ!$C$10:$C$309,0)),"")) -> 個 | I27: =IF(E27="","",IFERROR(INDEX(食材マスタ!$K$10:$K$309,MATCH(E27,食材マスタ!$C$10:$C$309,0)),"")) -> 18 | J27: =IF(OR(G27="",I27=""),"",ROUND(ABS(G27)*I27,0)) -> 2160 | L27: =IF(AND(D27="入庫",E27<>""),E27&"-"&TEXT(ROW()-9,"0000"),"") | M27: PK-001-0001 | N27: =IF(L27="","",G27-SUMIFS($G$10:$G$1009,$M$10:$M$1009,L27,$D$10:$D$1009,"出庫")-SUMIFS($G$10:$G$1009,$M$10:$M$1009,L27,$D$10:$D$1009,"廃棄")+SUMIFS($G$10:$G$1009,$M$10:$M$1009,L27,$D$10:$D$1009,"棚卸調整")) | O27: =IF(OR(L27="",K27=""),"",IF(N27<=0,"",K27-TODAY())) | P27: =IF(E27="","",IF(F27="※コード未登録","コード未登録",IF(AND(OR(D27="出庫",D27="廃棄"),M27=""),"ロット未指定",IF(AND(M27<>"",LEFT(M27,LEN(E27)+1)<>E27&"-"),"ロット違い",IF(AND(L27<>"",N27<0),"ロット残マイナス",""))))) | Q27: 伊藤 | R27: テイクアウト | U27: =IF(AND(ISNUMBER(O27),O27<=設定!$C$4),1,0) -> 0 | V27: =IF(U27=1,SUM($U$10:U27),"")
B28: =IF(C28="","",COUNT($C$10:C28)) -> 19 | C28: 46324 | D28: 出庫 | E28: SE-001 | F28: =IF(E28="","",IFERROR(INDEX(食材マスタ!$D$10:$D$309,MATCH(E28,食材マスタ!$C$10:$C$309,0)),"※コード未登録")) -> 濃口醤油 | G28: 2 | H28: =IF(E28="","",IFERROR(INDEX(食材マスタ!$H$10:$H$309,MATCH(E28,食材マスタ!$C$10:$C$309,0)),"")) -> 本 | I28: =IF(E28="","",IFERROR(INDEX(食材マスタ!$K$10:$K$309,MATCH(E28,食材マスタ!$C$10:$C$309,0)),"")) -> 520 | J28: =IF(OR(G28="",I28=""),"",ROUND(ABS(G28)*I28,0)) -> 1040 | L28: =IF(AND(D28="入庫",E28<>""),E28&"-"&TEXT(ROW()-9,"0000"),"") | M28: SE-001-0002 | N28: =IF(L28="","",G28-SUMIFS($G$10:$G$1009,$M$10:$M$1009,L28,$D$10:$D$1009,"出庫")-SUMIFS($G$10:$G$1009,$M$10:$M$1009,L28,$D$10:$D$1009,"廃棄")+SUMIFS($G$10:$G$1009,$M$10:$M$1009,L28,$D$10:$D$1009,"棚卸調整")) | O28: =IF(OR(L28="",K28=""),"",IF(N28<=0,"",K28-TODAY())) | P28: =IF(E28="","",IF(F28="※コード未登録","コード未登録",IF(AND(OR(D28="出庫",D28="廃棄"),M28=""),"ロット未指定",IF(AND(M28<>"",LEFT(M28,LEN(E28)+1)<>E28&"-"),"ロット違い",IF(AND(L28<>"",N28<0),"ロット残マイナス",""))))) | Q28: 佐藤 | R28: 仕込み | U28: =IF(AND(ISNUMBER(O28),O28<=設定!$C$4),1,0) -> 0 | V28: =IF(U28=1,SUM($U$10:U28),"")
B29: =IF(C29="","",COUNT($C$10:C29)) -> 20 | C29: 46324 | D29: 出庫 | E29: PW-001 | F29: =IF(E29="","",IFERROR(INDEX(食材マスタ!$D$10:$D$309,MATCH(E29,食材マスタ!$C$10:$C$309,0)),"※コード未登録")) -> 薄力粉 | G29: 3 | H29: =IF(E29="","",IFERROR(INDEX(食材マスタ!$H$10:$H$309,MATCH(E29,食材マスタ!$C$10:$C$309,0)),"")) -> 袋 | I29: =IF(E29="","",IFERROR(INDEX(食材マスタ!$K$10:$K$309,MATCH(E29,食材マスタ!$C$10:$C$309,0)),"")) -> 260 | J29: =IF(OR(G29="",I29=""),"",ROUND(ABS(G29)*I29,0)) -> 780 | L29: =IF(AND(D29="入庫",E29<>""),E29&"-"&TEXT(ROW()-9,"0000"),"") | M29: PW-001-0003 | N29: =IF(L29="","",G29-SUMIFS($G$10:$G$1009,$M$10:$M$1009,L29,$D$10:$D$1009,"出庫")-SUMIFS($G$10:$G$1009,$M$10:$M$1009,L29,$D$10:$D$1009,"廃棄")+SUMIFS($G$10:$G$1009,$M$10:$M$1009,L29,$D$10:$D$1009,"棚卸調整")) | O29: =IF(OR(L29="",K29=""),"",IF(N29<=0,"",K29-TODAY())) | P29: =IF(E29="","",IF(F29="※コード未登録","コード未登録",IF(AND(OR(D29="出庫",D29="廃棄"),M29=""),"ロット未指定",IF(AND(M29<>"",LEFT(M29,LEN(E29)+1)<>E29&"-"),"ロット違い",IF(AND(L29<>"",N29<0),"ロット残マイナス",""))))) | Q29: 田中 | R29: デザート仕込み | U29: =IF(AND(ISNUMBER(O29),O29<=設定!$C$4),1,0) -> 0 | V29: =IF(U29=1,SUM($U$10:U29),"")
B30: =IF(C30="","",COUNT($C$10:C30)) | F30: =IF(E30="","",IFERROR(INDEX(食材マスタ!$D$10:$D$309,MATCH(E30,食材マスタ!$C$10:$C$309,0)),"※コード未登録")) | H30: =IF(E30="","",IFERROR(INDEX(食材マスタ!$H$10:$H$309,MATCH(E30,食材マスタ!$C$10:$C$309,0)),"")) | I30: =IF(E30="","",IFERROR(INDEX(食材マスタ!$K$10:$K$309,MATCH(E30,食材マスタ!$C$10:$C$309,0)),"")) | J30: =IF(OR(G30="",I30=""),"",ROUND(ABS(G30)*I30,0)) | L30: =IF(AND(D30="入庫",E30<>""),E30&"-"&TEXT(ROW()-9,"0000"),"") | N30: =IF(L30="","",G30-SUMIFS($G$10:$G$1009,$M$10:$M$1009,L30,$D$10:$D$1009,"出庫")-SUMIFS($G$10:$G$1009,$M$10:$M$1009,L30,$D$10:$D$1009,"廃棄")+SUMIFS($G$10:$G$1009,$M$10:$M$1009,L30,$D$10:$D$1009,"棚卸調整")) | O30: =IF(OR(L30="",K30=""),"",IF(N30<=0,"",K30-TODAY())) | P30: =IF(E30="","",IF(F30="※コード未登録","コード未登録",IF(AND(OR(D30="出庫",D30="廃棄"),M30=""),"ロット未指定",IF(AND(M30<>"",LEFT(M30,LEN(E30)+1)<>E30&"-"),"ロット違い",IF(AND(L30<>"",N30<0),"ロット残マイナス",""))))) | U30: =IF(AND(ISNUMBER(O30),O30<=設定!$C$4),1,0) -> 0 | V30: =IF(U30=1,SUM($U$10:U30),"")
B31: =IF(C31="","",COUNT($C$10:C31)) | F31: =IF(E31="","",IFERROR(INDEX(食材マスタ!$D$10:$D$309,MATCH(E31,食材マスタ!$C$10:$C$309,0)),"※コード未登録")) | H31: =IF(E31="","",IFERROR(INDEX(食材マスタ!$H$10:$H$309,MATCH(E31,食材マスタ!$C$10:$C$309,0)),"")) | I31: =IF(E31="","",IFERROR(INDEX(食材マスタ!$K$10:$K$309,MATCH(E31,食材マスタ!$C$10:$C$309,0)),"")) | J31: =IF(OR(G31="",I31=""),"",ROUND(ABS(G31)*I31,0)) | L31: =IF(AND(D31="入庫",E31<>""),E31&"-"&TEXT(ROW()-9,"0000"),"") | N31: =IF(L31="","",G31-SUMIFS($G$10:$G$1009,$M$10:$M$1009,L31,$D$10:$D$1009,"出庫")-SUMIFS($G$10:$G$1009,$M$10:$M$1009,L31,$D$10:$D$1009,"廃棄")+SUMIFS($G$10:$G$1009,$M$10:$M$1009,L31,$D$10:$D$1009,"棚卸調整")) | O31: =IF(OR(L31="",K31=""),"",IF(N31<=0,"",K31-TODAY())) | P31: =IF(E31="","",IF(F31="※コード未登録","コード未登録",IF(AND(OR(D31="出庫",D31="廃棄"),M31=""),"ロット未指定",IF(AND(M31<>"",LEFT(M31,LEN(E31)+1)<>E31&"-"),"ロット違い",IF(AND(L31<>"",N31<0),"ロット残マイナス",""))))) | U31: =IF(AND(ISNUMBER(O31),O31<=設定!$C$4),1,0) -> 0 | V31: =IF(U31=1,SUM($U$10:U31),"")
B32: =IF(C32="","",COUNT($C$10:C32)) | F32: =IF(E32="","",IFERROR(INDEX(食材マスタ!$D$10:$D$309,MATCH(E32,食材マスタ!$C$10:$C$309,0)),"※コード未登録")) | H32: =IF(E32="","",IFERROR(INDEX(食材マスタ!$H$10:$H$309,MATCH(E32,食材マスタ!$C$10:$C$309,0)),"")) | I32: =IF(E32="","",IFERROR(INDEX(食材マスタ!$K$10:$K$309,MATCH(E32,食材マスタ!$C$10:$C$309,0)),"")) | J32: =IF(OR(G32="",I32=""),"",ROUND(ABS(G32)*I32,0)) | L32: =IF(AND(D32="入庫",E32<>""),E32&"-"&TEXT(ROW()-9,"0000"),"") | N32: =IF(L32="","",G32-SUMIFS($G$10:$G$1009,$M$10:$M$1009,L32,$D$10:$D$1009,"出庫")-SUMIFS($G$10:$G$1009,$M$10:$M$1009,L32,$D$10:$D$1009,"廃棄")+SUMIFS($G$10:$G$1009,$M$10:$M$1009,L32,$D$10:$D$1009,"棚卸調整")) | O32: =IF(OR(L32="",K32=""),"",IF(N32<=0,"",K32-TODAY())) | P32: =IF(E32="","",IF(F32="※コード未登録","コード未登録",IF(AND(OR(D32="出庫",D32="廃棄"),M32=""),"ロット未指定",IF(AND(M32<>"",LEFT(M32,LEN(E32)+1)<>E32&"-"),"ロット違い",IF(AND(L32<>"",N32<0),"ロット残マイナス",""))))) | U32: =IF(AND(ISNUMBER(O32),O32<=設定!$C$4),1,0) -> 0 | V32: =IF(U32=1,SUM($U$10:U32),"")
B33: =IF(C33="","",COUNT($C$10:C33)) | F33: =IF(E33="","",IFERROR(INDEX(食材マスタ!$D$10:$D$309,MATCH(E33,食材マスタ!$C$10:$C$309,0)),"※コード未登録")) | H33: =IF(E33="","",IFERROR(INDEX(食材マスタ!$H$10:$H$309,MATCH(E33,食材マスタ!$C$10:$C$309,0)),"")) | I33: =IF(E33="","",IFERROR(INDEX(食材マスタ!$K$10:$K$309,MATCH(E33,食材マスタ!$C$10:$C$309,0)),"")) | J33: =IF(OR(G33="",I33=""),"",ROUND(ABS(G33)*I33,0)) | L33: =IF(AND(D33="入庫",E33<>""),E33&"-"&TEXT(ROW()-9,"0000"),"") | N33: =IF(L33="","",G33-SUMIFS($G$10:$G$1009,$M$10:$M$1009,L33,$D$10:$D$1009,"出庫")-SUMIFS($G$10:$G$1009,$M$10:$M$1009,L33,$D$10:$D$1009,"廃棄")+SUMIFS($G$10:$G$1009,$M$10:$M$1009,L33,$D$10:$D$1009,"棚卸調整")) | O33: =IF(OR(L33="",K33=""),"",IF(N33<=0,"",K33-TODAY())) | P33: =IF(E33="","",IF(F33="※コード未登録","コード未登録",IF(AND(OR(D33="出庫",D33="廃棄"),M33=""),"ロット未指定",IF(AND(M33<>"",LEFT(M33,LEN(E33)+1)<>E33&"-"),"ロット違い",IF(AND(L33<>"",N33<0),"ロット残マイナス",""))))) | U33: =IF(AND(ISNUMBER(O33),O33<=設定!$C$4),1,0) -> 0 | V33: =IF(U33=1,SUM($U$10:U33),"")
B34: =IF(C34="","",COUNT($C$10:C34)) | F34: =IF(E34="","",IFERROR(INDEX(食材マスタ!$D$10:$D$309,MATCH(E34,食材マスタ!$C$10:$C$309,0)),"※コード未登録")) | H34: =IF(E34="","",IFERROR(INDEX(食材マスタ!$H$10:$H$309,MATCH(E34,食材マスタ!$C$10:$C$309,0)),"")) | I34: =IF(E34="","",IFERROR(INDEX(食材マスタ!$K$10:$K$309,MATCH(E34,食材マスタ!$C$10:$C$309,0)),"")) | J34: =IF(OR(G34="",I34=""),"",ROUND(ABS(G34)*I34,0)) | L34: =IF(AND(D34="入庫",E34<>""),E34&"-"&TEXT(ROW()-9,"0000"),"") | N34: =IF(L34="","",G34-SUMIFS($G$10:$G$1009,$M$10:$M$1009,L34,$D$10:$D$1009,"出庫")-SUMIFS($G$10:$G$1009,$M$10:$M$1009,L34,$D$10:$D$1009,"廃棄")+SUMIFS($G$10:$G$1009,$M$10:$M$1009,L34,$D$10:$D$1009,"棚卸調整")) | O34: =IF(OR(L34="",K34=""),"",IF(N34<=0,"",K34-TODAY())) | P34: =IF(E34="","",IF(F34="※コード未登録","コード未登録",IF(AND(OR(D34="出庫",D34="廃棄"),M34=""),"ロット未指定",IF(AND(M34<>"",LEFT(M34,LEN(E34)+1)<>E34&"-"),"ロット違い",IF(AND(L34<>"",N34<0),"ロット残マイナス",""))))) | U34: =IF(AND(ISNUMBER(O34),O34<=設定!$C$4),1,0) -> 0 | V34: =IF(U34=1,SUM($U$10:U34),"")
B35: =IF(C35="","",COUNT($C$10:C35)) | F35: =IF(E35="","",IFERROR(INDEX(食材マスタ!$D$10:$D$309,MATCH(E35,食材マスタ!$C$10:$C$309,0)),"※コード未登録")) | H35: =IF(E35="","",IFERROR(INDEX(食材マスタ!$H$10:$H$309,MATCH(E35,食材マスタ!$C$10:$C$309,0)),"")) | I35: =IF(E35="","",IFERROR(INDEX(食材マスタ!$K$10:$K$309,MATCH(E35,食材マスタ!$C$10:$C$309,0)),"")) | J35: =IF(OR(G35="",I35=""),"",ROUND(ABS(G35)*I35,0)) | L35: =IF(AND(D35="入庫",E35<>""),E35&"-"&TEXT(ROW()-9,"0000"),"") | N35: =IF(L35="","",G35-SUMIFS($G$10:$G$1009,$M$10:$M$1009,L35,$D$10:$D$1009,"出庫")-SUMIFS($G$10:$G$1009,$M$10:$M$1009,L35,$D$10:$D$1009,"廃棄")+SUMIFS($G$10:$G$1009,$M$10:$M$1009,L35,$D$10:$D$1009,"棚卸調整")) | O35: =IF(OR(L35="",K35=""),"",IF(N35<=0,"",K35-TODAY())) | P35: =IF(E35="","",IF(F35="※コード未登録","コード未登録",IF(AND(OR(D35="出庫",D35="廃棄"),M35=""),"ロット未指定",IF(AND(M35<>"",LEFT(M35,LEN(E35)+1)<>E35&"-"),"ロット違い",IF(AND(L35<>"",N35<0),"ロット残マイナス",""))))) | U35: =IF(AND(ISNUMBER(O35),O35<=設定!$C$4),1,0) -> 0 | V35: =IF(U35=1,SUM($U$10:U35),"")
B36: =IF(C36="","",COUNT($C$10:C36)) | F36: =IF(E36="","",IFERROR(INDEX(食材マスタ!$D$10:$D$309,MATCH(E36,食材マスタ!$C$10:$C$309,0)),"※コード未登録")) | H36: =IF(E36="","",IFERROR(INDEX(食材マスタ!$H$10:$H$309,MATCH(E36,食材マスタ!$C$10:$C$309,0)),"")) | I36: =IF(E36="","",IFERROR(INDEX(食材マスタ!$K$10:$K$309,MATCH(E36,食材マスタ!$C$10:$C$309,0)),"")) | J36: =IF(OR(G36="",I36=""),"",ROUND(ABS(G36)*I36,0)) | L36: =IF(AND(D36="入庫",E36<>""),E36&"-"&TEXT(ROW()-9,"0000"),"") | N36: =IF(L36="","",G36-SUMIFS($G$10:$G$1009,$M$10:$M$1009,L36,$D$10:$D$1009,"出庫")-SUMIFS($G$10:$G$1009,$M$10:$M$1009,L36,$D$10:$D$1009,"廃棄")+SUMIFS($G$10:$G$1009,$M$10:$M$1009,L36,$D$10:$D$1009,"棚卸調整")) | O36: =IF(OR(L36="",K36=""),"",IF(N36<=0,"",K36-TODAY())) | P36: =IF(E36="","",IF(F36="※コード未登録","コード未登録",IF(AND(OR(D36="出庫",D36="廃棄"),M36=""),"ロット未指定",IF(AND(M36<>"",LEFT(M36,LEN(E36)+1)<>E36&"-"),"ロット違い",IF(AND(L36<>"",N36<0),"ロット残マイナス",""))))) | U36: =IF(AND(ISNUMBER(O36),O36<=設定!$C$4),1,0) -> 0 | V36: =IF(U36=1,SUM($U$10:U36),"")
B37: =IF(C37="","",COUNT($C$10:C37)) | F37: =IF(E37="","",IFERROR(INDEX(食材マスタ!$D$10:$D$309,MATCH(E37,食材マスタ!$C$10:$C$309,0)),"※コード未登録")) | H37: =IF(E37="","",IFERROR(INDEX(食材マスタ!$H$10:$H$309,MATCH(E37,食材マスタ!$C$10:$C$309,0)),"")) | I37: =IF(E37="","",IFERROR(INDEX(食材マスタ!$K$10:$K$309,MATCH(E37,食材マスタ!$C$10:$C$309,0)),"")) | J37: =IF(OR(G37="",I37=""),"",ROUND(ABS(G37)*I37,0)) | L37: =IF(AND(D37="入庫",E37<>""),E37&"-"&TEXT(ROW()-9,"0000"),"") | N37: =IF(L37="","",G37-SUMIFS($G$10:$G$1009,$M$10:$M$1009,L37,$D$10:$D$1009,"出庫")-SUMIFS($G$10:$G$1009,$M$10:$M$1009,L37,$D$10:$D$1009,"廃棄")+SUMIFS($G$10:$G$1009,$M$10:$M$1009,L37,$D$10:$D$1009,"棚卸調整")) | O37: =IF(OR(L37="",K37=""),"",IF(N37<=0,"",K37-TODAY())) | P37: =IF(E37="","",IF(F37="※コード未登録","コード未登録",IF(AND(OR(D37="出庫",D37="廃棄"),M37=""),"ロット未指定",IF(AND(M37<>"",LEFT(M37,LEN(E37)+1)<>E37&"-"),"ロット違い",IF(AND(L37<>"",N37<0),"ロット残マイナス",""))))) | U37: =IF(AND(ISNUMBER(O37),O37<=設定!$C$4),1,0) -> 0 | V37: =IF(U37=1,SUM($U$10:U37),"")
B38: =IF(C38="","",COUNT($C$10:C38)) | F38: =IF(E38="","",IFERROR(INDEX(食材マスタ!$D$10:$D$309,MATCH(E38,食材マスタ!$C$10:$C$309,0)),"※コード未登録")) | H38: =IF(E38="","",IFERROR(INDEX(食材マスタ!$H$10:$H$309,MATCH(E38,食材マスタ!$C$10:$C$309,0)),"")) | I38: =IF(E38="","",IFERROR(INDEX(食材マスタ!$K$10:$K$309,MATCH(E38,食材マスタ!$C$10:$C$309,0)),"")) | J38: =IF(OR(G38="",I38=""),"",ROUND(ABS(G38)*I38,0)) | L38: =IF(AND(D38="入庫",E38<>""),E38&"-"&TEXT(ROW()-9,"0000"),"") | N38: =IF(L38="","",G38-SUMIFS($G$10:$G$1009,$M$10:$M$1009,L38,$D$10:$D$1009,"出庫")-SUMIFS($G$10:$G$1009,$M$10:$M$1009,L38,$D$10:$D$1009,"廃棄")+SUMIFS($G$10:$G$1009,$M$10:$M$1009,L38,$D$10:$D$1009,"棚卸調整")) | O38: =IF(OR(L38="",K38=""),"",IF(N38<=0,"",K38-TODAY())) | P38: =IF(E38="","",IF(F38="※コード未登録","コード未登録",IF(AND(OR(D38="出庫",D38="廃棄"),M38=""),"ロット未指定",IF(AND(M38<>"",LEFT(M38,LEN(E38)+1)<>E38&"-"),"ロット違い",IF(AND(L38<>"",N38<0),"ロット残マイナス",""))))) | U38: =IF(AND(ISNUMBER(O38),O38<=設定!$C$4),1,0) -> 0 | V38: =IF(U38=1,SUM($U$10:U38),"")
B39: =IF(C39="","",COUNT($C$10:C39)) | F39: =IF(E39="","",IFERROR(INDEX(食材マスタ!$D$10:$D$309,MATCH(E39,食材マスタ!$C$10:$C$309,0)),"※コード未登録")) | H39: =IF(E39="","",IFERROR(INDEX(食材マスタ!$H$10:$H$309,MATCH(E39,食材マスタ!$C$10:$C$309,0)),"")) | I39: =IF(E39="","",IFERROR(INDEX(食材マスタ!$K$10:$K$309,MATCH(E39,食材マスタ!$C$10:$C$309,0)),"")) | J39: =IF(OR(G39="",I39=""),"",ROUND(ABS(G39)*I39,0)) | L39: =IF(AND(D39="入庫",E39<>""),E39&"-"&TEXT(ROW()-9,"0000"),"") | N39: =IF(L39="","",G39-SUMIFS($G$10:$G$1009,$M$10:$M$1009,L39,$D$10:$D$1009,"出庫")-SUMIFS($G$10:$G$1009,$M$10:$M$1009,L39,$D$10:$D$1009,"廃棄")+SUMIFS($G$10:$G$1009,$M$10:$M$1009,L39,$D$10:$D$1009,"棚卸調整")) | O39: =IF(OR(L39="",K39=""),"",IF(N39<=0,"",K39-TODAY())) | P39: =IF(E39="","",IF(F39="※コード未登録","コード未登録",IF(AND(OR(D39="出庫",D39="廃棄"),M39=""),"ロット未指定",IF(AND(M39<>"",LEFT(M39,LEN(E39)+1)<>E39&"-"),"ロット違い",IF(AND(L39<>"",N39<0),"ロット残マイナス",""))))) | U39: =IF(AND(ISNUMBER(O39),O39<=設定!$C$4),1,0) -> 0 | V39: =IF(U39=1,SUM($U$10:U39),"")
B40: =IF(C40="","",COUNT($C$10:C40)) | F40: =IF(E40="","",IFERROR(INDEX(食材マスタ!$D$10:$D$309,MATCH(E40,食材マスタ!$C$10:$C$309,0)),"※コード未登録")) | H40: =IF(E40="","",IFERROR(INDEX(食材マスタ!$H$10:$H$309,MATCH(E40,食材マスタ!$C$10:$C$309,0)),"")) | I40: =IF(E40="","",IFERROR(INDEX(食材マスタ!$K$10:$K$309,MATCH(E40,食材マスタ!$C$10:$C$309,0)),"")) | J40: =IF(OR(G40="",I40=""),"",ROUND(ABS(G40)*I40,0)) | L40: =IF(AND(D40="入庫",E40<>""),E40&"-"&TEXT(ROW()-9,"0000"),"") | N40: =IF(L40="","",G40-SUMIFS($G$10:$G$1009,$M$10:$M$1009,L40,$D$10:$D$1009,"出庫")-SUMIFS($G$10:$G$1009,$M$10:$M$1009,L40,$D$10:$D$1009,"廃棄")+SUMIFS($G$10:$G$1009,$M$10:$M$1009,L40,$D$10:$D$1009,"棚卸調整")) | O40: =IF(OR(L40="",K40=""),"",IF(N40<=0,"",K40-TODAY())) | P40: =IF(E40="","",IF(F40="※コード未登録","コード未登録",IF(AND(OR(D40="出庫",D40="廃棄"),M40=""),"ロット未指定",IF(AND(M40<>"",LEFT(M40,LEN(E40)+1)<>E40&"-"),"ロット違い",IF(AND(L40<>"",N40<0),"ロット残マイナス",""))))) | U40: =IF(AND(ISNUMBER(O40),O40<=設定!$C$4),1,0) -> 0 | V40: =IF(U40=1,SUM($U$10:U40),"")
B41: =IF(C41="","",COUNT($C$10:C41)) | F41: =IF(E41="","",IFERROR(INDEX(食材マスタ!$D$10:$D$309,MATCH(E41,食材マスタ!$C$10:$C$309,0)),"※コード未登録")) | H41: =IF(E41="","",IFERROR(INDEX(食材マスタ!$H$10:$H$309,MATCH(E41,食材マスタ!$C$10:$C$309,0)),"")) | I41: =IF(E41="","",IFERROR(INDEX(食材マスタ!$K$10:$K$309,MATCH(E41,食材マスタ!$C$10:$C$309,0)),"")) | J41: =IF(OR(G41="",I41=""),"",ROUND(ABS(G41)*I41,0)) | L41: =IF(AND(D41="入庫",E41<>""),E41&"-"&TEXT(ROW()-9,"0000"),"") | N41: =IF(L41="","",G41-SUMIFS($G$10:$G$1009,$M$10:$M$1009,L41,$D$10:$D$1009,"出庫")-SUMIFS($G$10:$G$1009,$M$10:$M$1009,L41,$D$10:$D$1009,"廃棄")+SUMIFS($G$10:$G$1009,$M$10:$M$1009,L41,$D$10:$D$1009,"棚卸調整")) | O41: =IF(OR(L41="",K41=""),"",IF(N41<=0,"",K41-TODAY())) | P41: =IF(E41="","",IF(F41="※コード未登録","コード未登録",IF(AND(OR(D41="出庫",D41="廃棄"),M41=""),"ロット未指定",IF(AND(M41<>"",LEFT(M41,LEN(E41)+1)<>E41&"-"),"ロット違い",IF(AND(L41<>"",N41<0),"ロット残マイナス",""))))) | U41: =IF(AND(ISNUMBER(O41),O41<=設定!$C$4),1,0) -> 0 | V41: =IF(U41=1,SUM($U$10:U41),"")
... B1009: =IF(C1009="","",COUNT($C$10:C1009)) | F1009: =IF(E1009="","",IFERROR(INDEX(食材マスタ!$D$10:$D$309,MATCH(E1009,食材マスタ!$C$10:$C$309,0)),"※コード未登録")) | H1009: =IF(E1009="","",IFERROR(INDEX(食材マスタ!$H$10:$H$309,MATCH(E1009,食材マスタ!$C$10:$C$309,0)),"")) | I1009: =IF(E1009="","",IFERROR(INDEX(食材マスタ!$K$10:$K$309,MATCH(E1009,食材マスタ!$C$10:$C$309,0)),"")) | J1009: =IF(OR(G1009="",I1009=""),"",ROUND(ABS(G1009)*I1009,0)) | L1009: =IF(AND(D1009="入庫",E1009<>""),E1009&"-"&TEXT(ROW()-9,"0000"),"") | N1009: =IF(L1009="","",G1009-SUMIFS($G$10:$G$1009,$M$10:$M$1009,L1009,$D$10:$D$1009,"出庫")-SUMIFS($G$10:$G$1009,$M$10:$M$1009,L1009,$D$10:$D$1009,"廃棄")+SUMIFS($G$10:$G$1009,$M$10:$M$1009,L1009,$D$10:$D$1009,"棚卸調整")) | O1009: =IF(OR(L1009="",K1009=""),"",IF(N1009<=0,"",K1009-TODAY())) | P1009: =IF(E1009="","",IF(F1009="※コード未登録","コード未登録",IF(AND(OR(D1009="出庫",D1009="廃棄"),M1009=""),"ロット未指定",IF(AND(M1009<>"",LEFT(M1009,LEN(E1009)+1)<>E1009&"-"),"ロット違い",IF(AND(L1009<>"",N1009<0),"ロット残マイナス",""))))) | U1009: =IF(AND(ISNUMBER(O1009),O1009<=設定!$C$4),1,0) -> 0 | V1009: =IF(U1009=1,SUM($U$10:U1009),"")

Sheet 期限チェック
A1: 他にも魅力的な情報がたっぷり！テンプレート倉庫
B2: 残数があるロットのうち、期限切れ・期限間近（設定の日数以内）のものが自動で並びます（最大50件）。古い順に使い切るか、廃棄として記録してください。
B3: 期限チェック
B6: 期限切れロット | E6: 期限間近ロット | H6: 対象金額合計
B7: =COUNTIF($C$9:$C$58,"期限切れ") -> 1 | E7: =COUNTIF($C$9:$C$58,"期限間近") -> 3 | H7: =SUM($M$9:$M$58) -> 10350
B8: # | C8: 期限状態 | D8: 賞味・消費期限 | E8: 残り日数 | F8: ロット | G8: 食材コード | H8: 食材名 | I8: 保存区分 | J8: 保管場所 | K8: 残数 | L8: 単位 | M8: 金額（円）
B9: =IF($N9="","",1) -> 1 | C9: =IF($N9="","",IF(E9<0,"期限切れ","期限間近")) -> 期限切れ | D9: =IF($N9="","",INDEX(入出庫履歴!$K$10:$K$1009,$N9)) -> 46320 | E9: =IF($N9="","",INDEX(入出庫履歴!$O$10:$O$1009,$N9)) -> -6 | F9: =IF($N9="","",INDEX(入出庫履歴!$L$10:$L$1009,$N9)) -> MT-001-0005 | G9: =IF($N9="","",INDEX(入出庫履歴!$E$10:$E$1009,$N9)) -> MT-001 | H9: =IF($N9="","",INDEX(入出庫履歴!$F$10:$F$1009,$N9)) -> 鶏もも肉 | I9: =IF($N9="","",IFERROR(INDEX(食材マスタ!$G$10:$G$309,MATCH(G9,食材マスタ!$C$10:$C$309,0)),"")) -> 冷蔵 | J9: =IF($N9="","",IFERROR(INDEX(食材マスタ!$I$10:$I$309,MATCH(G9,食材マスタ!$C$10:$C$309,0)),"")) -> 冷蔵庫1 | K9: =IF($N9="","",INDEX(入出庫履歴!$N$10:$N$1009,$N9)) -> 2 | L9: =IF($N9="","",INDEX(入出庫履歴!$H$10:$H$1009,$N9)) -> kg | M9: =IF($N9="","",ROUND(K9*INDEX(入出庫履歴!$I$10:$I$1009,$N9),0)) -> 1960 | N9: =IFERROR(MATCH(1,入出庫履歴!$V$10:$V$1009,0),"") -> 5
B10: =IF($N10="","",2) -> 2 | C10: =IF($N10="","",IF(E10<0,"期限切れ","期限間近")) -> 期限間近 | D10: =IF($N10="","",INDEX(入出庫履歴!$K$10:$K$1009,$N10)) -> 46329 | E10: =IF($N10="","",INDEX(入出庫履歴!$O$10:$O$1009,$N10)) -> 3 | F10: =IF($N10="","",INDEX(入出庫履歴!$L$10:$L$1009,$N10)) -> VG-002-0010 | G10: =IF($N10="","",INDEX(入出庫履歴!$E$10:$E$1009,$N10)) -> VG-002 | H10: =IF($N10="","",INDEX(入出庫履歴!$F$10:$F$1009,$N10)) -> キャベツ | I10: =IF($N10="","",IFERROR(INDEX(食材マスタ!$G$10:$G$309,MATCH(G10,食材マスタ!$C$10:$C$309,0)),"")) -> 冷蔵 | J10: =IF($N10="","",IFERROR(INDEX(食材マスタ!$I$10:$I$309,MATCH(G10,食材マスタ!$C$10:$C$309,0)),"")) -> 冷蔵庫2 | K10: =IF($N10="","",INDEX(入出庫履歴!$N$10:$N$1009,$N10)) -> 9 | L10: =IF($N10="","",INDEX(入出庫履歴!$H$10:$H$1009,$N10)) -> 個 | M10: =IF($N10="","",ROUND(K10*INDEX(入出庫履歴!$I$10:$I$1009,$N10),0)) -> 1620 | N10: =IFERROR(MATCH(2,入出庫履歴!$V$10:$V$1009,0),"") -> 10
B11: =IF($N11="","",3) -> 3 | C11: =IF($N11="","",IF(E11<0,"期限切れ","期限間近")) -> 期限間近 | D11: =IF($N11="","",INDEX(入出庫履歴!$K$10:$K$1009,$N11)) -> 46327 | E11: =IF($N11="","",INDEX(入出庫履歴!$O$10:$O$1009,$N11)) -> 1 | F11: =IF($N11="","",INDEX(入出庫履歴!$L$10:$L$1009,$N11)) -> MT-001-0011 | G11: =IF($N11="","",INDEX(入出庫履歴!$E$10:$E$1009,$N11)) -> MT-001 | H11: =IF($N11="","",INDEX(入出庫履歴!$F$10:$F$1009,$N11)) -> 鶏もも肉 | I11: =IF($N11="","",IFERROR(INDEX(食材マスタ!$G$10:$G$309,MATCH(G11,食材マスタ!$C$10:$C$309,0)),"")) -> 冷蔵 | J11: =IF($N11="","",IFERROR(INDEX(食材マスタ!$I$10:$I$309,MATCH(G11,食材マスタ!$C$10:$C$309,0)),"")) -> 冷蔵庫1 | K11: =IF($N11="","",INDEX(入出庫履歴!$N$10:$N$1009,$N11)) -> 5.5 | L11: =IF($N11="","",INDEX(入出庫履歴!$H$10:$H$1009,$N11)) -> kg | M11: =IF($N11="","",ROUND(K11*INDEX(入出庫履歴!$I$10:$I$1009,$N11),0)) -> 5390 | N11: =IFERROR(MATCH(3,入出庫履歴!$V$10:$V$1009,0),"") -> 11
B12: =IF($N12="","",4) -> 4 | C12: =IF($N12="","",IF(E12<0,"期限切れ","期限間近")) -> 期限間近 | D12: =IF($N12="","",INDEX(入出庫履歴!$K$10:$K$1009,$N12)) -> 46328 | E12: =IF($N12="","",INDEX(入出庫履歴!$O$10:$O$1009,$N12)) -> 2 | F12: =IF($N12="","",INDEX(入出庫履歴!$L$10:$L$1009,$N12)) -> DY-001-0012 | G12: =IF($N12="","",INDEX(入出庫履歴!$E$10:$E$1009,$N12)) -> DY-001 | H12: =IF($N12="","",INDEX(入出庫履歴!$F$10:$F$1009,$N12)) -> 牛乳 | I12: =IF($N12="","",IFERROR(INDEX(食材マスタ!$G$10:$G$309,MATCH(G12,食材マスタ!$C$10:$C$309,0)),"")) -> 冷蔵 | J12: =IF($N12="","",IFERROR(INDEX(食材マスタ!$I$10:$I$309,MATCH(G12,食材マスタ!$C$10:$C$309,0)),"")) -> 冷蔵庫2 | K12: =IF($N12="","",INDEX(入出庫履歴!$N$10:$N$1009,$N12)) -> 6 | L12: =IF($N12="","",INDEX(入出庫履歴!$H$10:$H$1009,$N12)) -> 本 | M12: =IF($N12="","",ROUND(K12*INDEX(入出庫履歴!$I$10:$I$1009,$N12),0)) -> 1380 | N12: =IFERROR(MATCH(4,入出庫履歴!$V$10:$V$1009,0),"") -> 12
B13: =IF($N13="","",5) | C13: =IF($N13="","",IF(E13<0,"期限切れ","期限間近")) | D13: =IF($N13="","",INDEX(入出庫履歴!$K$10:$K$1009,$N13)) | E13: =IF($N13="","",INDEX(入出庫履歴!$O$10:$O$1009,$N13)) | F13: =IF($N13="","",INDEX(入出庫履歴!$L$10:$L$1009,$N13)) | G13: =IF($N13="","",INDEX(入出庫履歴!$E$10:$E$1009,$N13)) | H13: =IF($N13="","",INDEX(入出庫履歴!$F$10:$F$1009,$N13)) | I13: =IF($N13="","",IFERROR(INDEX(食材マスタ!$G$10:$G$309,MATCH(G13,食材マスタ!$C$10:$C$309,0)),"")) | J13: =IF($N13="","",IFERROR(INDEX(食材マスタ!$I$10:$I$309,MATCH(G13,食材マスタ!$C$10:$C$309,0)),"")) | K13: =IF($N13="","",INDEX(入出庫履歴!$N$10:$N$1009,$N13)) | L13: =IF($N13="","",INDEX(入出庫履歴!$H$10:$H$1009,$N13)) | M13: =IF($N13="","",ROUND(K13*INDEX(入出庫履歴!$I$10:$I$1009,$N13),0)) | N13: =IFERROR(MATCH(5,入出庫履歴!$V$10:$V$1009,0),"")
B14: =IF($N14="","",6) | C14: =IF($N14="","",IF(E14<0,"期限切れ","期限間近")) | D14: =IF($N14="","",INDEX(入出庫履歴!$K$10:$K$1009,$N14)) | E14: =IF($N14="","",INDEX(入出庫履歴!$O$10:$O$1009,$N14)) | F14: =IF($N14="","",INDEX(入出庫履歴!$L$10:$L$1009,$N14)) | G14: =IF($N14="","",INDEX(入出庫履歴!$E$10:$E$1009,$N14)) | H14: =IF($N14="","",INDEX(入出庫履歴!$F$10:$F$1009,$N14)) | I14: =IF($N14="","",IFERROR(INDEX(食材マスタ!$G$10:$G$309,MATCH(G14,食材マスタ!$C$10:$C$309,0)),"")) | J14: =IF($N14="","",IFERROR(INDEX(食材マスタ!$I$10:$I$309,MATCH(G14,食材マスタ!$C$10:$C$309,0)),"")) | K14: =IF($N14="","",INDEX(入出庫履歴!$N$10:$N$1009,$N14)) | L14: =IF($N14="","",INDEX(入出庫履歴!$H$10:$H$1009,$N14)) | M14: =IF($N14="","",ROUND(K14*INDEX(入出庫履歴!$I$10:$I$1009,$N14),0)) | N14: =IFERROR(MATCH(6,入出庫履歴!$V$10:$V$1009,0),"")
B15: =IF($N15="","",7) | C15: =IF($N15="","",IF(E15<0,"期限切れ","期限間近")) | D15: =IF($N15="","",INDEX(入出庫履歴!$K$10:$K$1009,$N15)) | E15: =IF($N15="","",INDEX(入出庫履歴!$O$10:$O$1009,$N15)) | F15: =IF($N15="","",INDEX(入出庫履歴!$L$10:$L$1009,$N15)) | G15: =IF($N15="","",INDEX(入出庫履歴!$E$10:$E$1009,$N15)) | H15: =IF($N15="","",INDEX(入出庫履歴!$F$10:$F$1009,$N15)) | I15: =IF($N15="","",IFERROR(INDEX(食材マスタ!$G$10:$G$309,MATCH(G15,食材マスタ!$C$10:$C$309,0)),"")) | J15: =IF($N15="","",IFERROR(INDEX(食材マスタ!$I$10:$I$309,MATCH(G15,食材マスタ!$C$10:$C$309,0)),"")) | K15: =IF($N15="","",INDEX(入出庫履歴!$N$10:$N$1009,$N15)) | L15: =IF($N15="","",INDEX(入出庫履歴!$H$10:$H$1009,$N15)) | M15: =IF($N15="","",ROUND(K15*INDEX(入出庫履歴!$I$10:$I$1009,$N15),0)) | N15: =IFERROR(MATCH(7,入出庫履歴!$V$10:$V$1009,0),"")
B16: =IF($N16="","",8) | C16: =IF($N16="","",IF(E16<0,"期限切れ","期限間近")) | D16: =IF($N16="","",INDEX(入出庫履歴!$K$10:$K$1009,$N16)) | E16: =IF($N16="","",INDEX(入出庫履歴!$O$10:$O$1009,$N16)) | F16: =IF($N16="","",INDEX(入出庫履歴!$L$10:$L$1009,$N16)) | G16: =IF($N16="","",INDEX(入出庫履歴!$E$10:$E$1009,$N16)) | H16: =IF($N16="","",INDEX(入出庫履歴!$F$10:$F$1009,$N16)) | I16: =IF($N16="","",IFERROR(INDEX(食材マスタ!$G$10:$G$309,MATCH(G16,食材マスタ!$C$10:$C$309,0)),"")) | J16: =IF($N16="","",IFERROR(INDEX(食材マスタ!$I$10:$I$309,MATCH(G16,食材マスタ!$C$10:$C$309,0)),"")) | K16: =IF($N16="","",INDEX(入出庫履歴!$N$10:$N$1009,$N16)) | L16: =IF($N16="","",INDEX(入出庫履歴!$H$10:$H$1009,$N16)) | M16: =IF($N16="","",ROUND(K16*INDEX(入出庫履歴!$I$10:$I$1009,$N16),0)) | N16: =IFERROR(MATCH(8,入出庫履歴!$V$10:$V$1009,0),"")
B17: =IF($N17="","",9) | C17: =IF($N17="","",IF(E17<0,"期限切れ","期限間近")) | D17: =IF($N17="","",INDEX(入出庫履歴!$K$10:$K$1009,$N17)) | E17: =IF($N17="","",INDEX(入出庫履歴!$O$10:$O$1009,$N17)) | F17: =IF($N17="","",INDEX(入出庫履歴!$L$10:$L$1009,$N17)) | G17: =IF($N17="","",INDEX(入出庫履歴!$E$10:$E$1009,$N17)) | H17: =IF($N17="","",INDEX(入出庫履歴!$F$10:$F$1009,$N17)) | I17: =IF($N17="","",IFERROR(INDEX(食材マスタ!$G$10:$G$309,MATCH(G17,食材マスタ!$C$10:$C$309,0)),"")) | J17: =IF($N17="","",IFERROR(INDEX(食材マスタ!$I$10:$I$309,MATCH(G17,食材マスタ!$C$10:$C$309,0)),"")) | K17: =IF($N17="","",INDEX(入出庫履歴!$N$10:$N$1009,$N17)) | L17: =IF($N17="","",INDEX(入出庫履歴!$H$10:$H$1009,$N17)) | M17: =IF($N17="","",ROUND(K17*INDEX(入出庫履歴!$I$10:$I$1009,$N17),0)) | N17: =IFERROR(MATCH(9,入出庫履歴!$V$10:$V$1009,0),"")
B18: =IF($N18="","",10) | C18: =IF($N18="","",IF(E18<0,"期限切れ","期限間近")) | D18: =IF($N18="","",INDEX(入出庫履歴!$K$10:$K$1009,$N18)) | E18: =IF($N18="","",INDEX(入出庫履歴!$O$10:$O$1009,$N18)) | F18: =IF($N18="","",INDEX(入出庫履歴!$L$10:$L$1009,$N18)) | G18: =IF($N18="","",INDEX(入出庫履歴!$E$10:$E$1009,$N18)) | H18: =IF($N18="","",INDEX(入出庫履歴!$F$10:$F$1009,$N18)) | I18: =IF($N18="","",IFERROR(INDEX(食材マスタ!$G$10:$G$309,MATCH(G18,食材マスタ!$C$10:$C$309,0)),"")) | J18: =IF($N18="","",IFERROR(INDEX(食材マスタ!$I$10:$I$309,MATCH(G18,食材マスタ!$C$10:$C$309,0)),"")) | K18: =IF($N18="","",INDEX(入出庫履歴!$N$10:$N$1009,$N18)) | L18: =IF($N18="","",INDEX(入出庫履歴!$H$10:$H$1009,$N18)) | M18: =IF($N18="","",ROUND(K18*INDEX(入出庫履歴!$I$10:$I$1009,$N18),0)) | N18: =IFERROR(MATCH(10,入出庫履歴!$V$10:$V$1009,0),"")
B19: =IF($N19="","",11) | C19: =IF($N19="","",IF(E19<0,"期限切れ","期限間近")) | D19: =IF($N19="","",INDEX(入出庫履歴!$K$10:$K$1009,$N19)) | E19: =IF($N19="","",INDEX(入出庫履歴!$O$10:$O$1009,$N19)) | F19: =IF($N19="","",INDEX(入出庫履歴!$L$10:$L$1009,$N19)) | G19: =IF($N19="","",INDEX(入出庫履歴!$E$10:$E$1009,$N19)) | H19: =IF($N19="","",INDEX(入出庫履歴!$F$10:$F$1009,$N19)) | I19: =IF($N19="","",IFERROR(INDEX(食材マスタ!$G$10:$G$309,MATCH(G19,食材マスタ!$C$10:$C$309,0)),"")) | J19: =IF($N19="","",IFERROR(INDEX(食材マスタ!$I$10:$I$309,MATCH(G19,食材マスタ!$C$10:$C$309,0)),"")) | K19: =IF($N19="","",INDEX(入出庫履歴!$N$10:$N$1009,$N19)) | L19: =IF($N19="","",INDEX(入出庫履歴!$H$10:$H$1009,$N19)) | M19: =IF($N19="","",ROUND(K19*INDEX(入出庫履歴!$I$10:$I$1009,$N19),0)) | N19: =IFERROR(MATCH(11,入出庫履歴!$V$10:$V$1009,0),"")
B20: =IF($N20="","",12) | C20: =IF($N20="","",IF(E20<0,"期限切れ","期限間近")) | D20: =IF($N20="","",INDEX(入出庫履歴!$K$10:$K$1009,$N20)) | E20: =IF($N20="","",INDEX(入出庫履歴!$O$10:$O$1009,$N20)) | F20: =IF($N20="","",INDEX(入出庫履歴!$L$10:$L$1009,$N20)) | G20: =IF($N20="","",INDEX(入出庫履歴!$E$10:$E$1009,$N20)) | H20: =IF($N20="","",INDEX(入出庫履歴!$F$10:$F$1009,$N20)) | I20: =IF($N20="","",IFERROR(INDEX(食材マスタ!$G$10:$G$309,MATCH(G20,食材マスタ!$C$10:$C$309,0)),"")) | J20: =IF($N20="","",IFERROR(INDEX(食材マスタ!$I$10:$I$309,MATCH(G20,食材マスタ!$C$10:$C$309,0)),"")) | K20: =IF($N20="","",INDEX(入出庫履歴!$N$10:$N$1009,$N20)) | L20: =IF($N20="","",INDEX(入出庫履歴!$H$10:$H$1009,$N20)) | M20: =IF($N20="","",ROUND(K20*INDEX(入出庫履歴!$I$10:$I$1009,$N20),0)) | N20: =IFERROR(MATCH(12,入出庫履歴!$V$10:$V$1009,0),"")
B21: =IF($N21="","",13) | C21: =IF($N21="","",IF(E21<0,"期限切れ","期限間近")) | D21: =IF($N21="","",INDEX(入出庫履歴!$K$10:$K$1009,$N21)) | E21: =IF($N21="","",INDEX(入出庫履歴!$O$10:$O$1009,$N21)) | F21: =IF($N21="","",INDEX(入出庫履歴!$L$10:$L$1009,$N21)) | G21: =IF($N21="","",INDEX(入出庫履歴!$E$10:$E$1009,$N21)) | H21: =IF($N21="","",INDEX(入出庫履歴!$F$10:$F$1009,$N21)) | I21: =IF($N21="","",IFERROR(INDEX(食材マスタ!$G$10:$G$309,MATCH(G21,食材マスタ!$C$10:$C$309,0)),"")) | J21: =IF($N21="","",IFERROR(INDEX(食材マスタ!$I$10:$I$309,MATCH(G21,食材マスタ!$C$10:$C$309,0)),"")) | K21: =IF($N21="","",INDEX(入出庫履歴!$N$10:$N$1009,$N21)) | L21: =IF($N21="","",INDEX(入出庫履歴!$H$10:$H$1009,$N21)) | M21: =IF($N21="","",ROUND(K21*INDEX(入出庫履歴!$I$10:$I$1009,$N21),0)) | N21: =IFERROR(MATCH(13,入出庫履歴!$V$10:$V$1009,0),"")
B22: =IF($N22="","",14) | C22: =IF($N22="","",IF(E22<0,"期限切れ","期限間近")) | D22: =IF($N22="","",INDEX(入出庫履歴!$K$10:$K$1009,$N22)) | E22: =IF($N22="","",INDEX(入出庫履歴!$O$10:$O$1009,$N22)) | F22: =IF($N22="","",INDEX(入出庫履歴!$L$10:$L$1009,$N22)) | G22: =IF($N22="","",INDEX(入出庫履歴!$E$10:$E$1009,$N22)) | H22: =IF($N22="","",INDEX(入出庫履歴!$F$10:$F$1009,$N22)) | I22: =IF($N22="","",IFERROR(INDEX(食材マスタ!$G$10:$G$309,MATCH(G22,食材マスタ!$C$10:$C$309,0)),"")) | J22: =IF($N22="","",IFERROR(INDEX(食材マスタ!$I$10:$I$309,MATCH(G22,食材マスタ!$C$10:$C$309,0)),"")) | K22: =IF($N22="","",INDEX(入出庫履歴!$N$10:$N$1009,$N22)) | L22: =IF($N22="","",INDEX(入出庫履歴!$H$10:$H$1009,$N22)) | M22: =IF($N22="","",ROUND(K22*INDEX(入出庫履歴!$I$10:$I$1009,$N22),0)) | N22: =IFERROR(MATCH(14,入出庫履歴!$V$10:$V$1009,0),"")
B23: =IF($N23="","",15) | C23: =IF($N23="","",IF(E23<0,"期限切れ","期限間近")) | D23: =IF($N23="","",INDEX(入出庫履歴!$K$10:$K$1009,$N23)) | E23: =IF($N23="","",INDEX(入出庫履歴!$O$10:$O$1009,$N23)) | F23: =IF($N23="","",INDEX(入出庫履歴!$L$10:$L$1009,$N23)) | G23: =IF($N23="","",INDEX(入出庫履歴!$E$10:$E$1009,$N23)) | H23: =IF($N23="","",INDEX(入出庫履歴!$F$10:$F$1009,$N23)) | I23: =IF($N23="","",IFERROR(INDEX(食材マスタ!$G$10:$G$309,MATCH(G23,食材マスタ!$C$10:$C$309,0)),"")) | J23: =IF($N23="","",IFERROR(INDEX(食材マスタ!$I$10:$I$309,MATCH(G23,食材マスタ!$C$10:$C$309,0)),"")) | K23: =IF($N23="","",INDEX(入出庫履歴!$N$10:$N$1009,$N23)) | L23: =IF($N23="","",INDEX(入出庫履歴!$H$10:$H$1009,$N23)) | M23: =IF($N23="","",ROUND(K23*INDEX(入出庫履歴!$I$10:$I$1009,$N23),0)) | N23: =IFERROR(MATCH(15,入出庫履歴!$V$10:$V$1009,0),"")
B24: =IF($N24="","",16) | C24: =IF($N24="","",IF(E24<0,"期限切れ","期限間近")) | D24: =IF($N24="","",INDEX(入出庫履歴!$K$10:$K$1009,$N24)) | E24: =IF($N24="","",INDEX(入出庫履歴!$O$10:$O$1009,$N24)) | F24: =IF($N24="","",INDEX(入出庫履歴!$L$10:$L$1009,$N24)) | G24: =IF($N24="","",INDEX(入出庫履歴!$E$10:$E$1009,$N24)) | H24: =IF($N24="","",INDEX(入出庫履歴!$F$10:$F$1009,$N24)) | I24: =IF($N24="","",IFERROR(INDEX(食材マスタ!$G$10:$G$309,MATCH(G24,食材マスタ!$C$10:$C$309,0)),"")) | J24: =IF($N24="","",IFERROR(INDEX(食材マスタ!$I$10:$I$309,MATCH(G24,食材マスタ!$C$10:$C$309,0)),"")) | K24: =IF($N24="","",INDEX(入出庫履歴!$N$10:$N$1009,$N24)) | L24: =IF($N24="","",INDEX(入出庫履歴!$H$10:$H$1009,$N24)) | M24: =IF($N24="","",ROUND(K24*INDEX(入出庫履歴!$I$10:$I$1009,$N24),0)) | N24: =IFERROR(MATCH(16,入出庫履歴!$V$10:$V$1009,0),"")
B25: =IF($N25="","",17) | C25: =IF($N25="","",IF(E25<0,"期限切れ","期限間近")) | D25: =IF($N25="","",INDEX(入出庫履歴!$K$10:$K$1009,$N25)) | E25: =IF($N25="","",INDEX(入出庫履歴!$O$10:$O$1009,$N25)) | F25: =IF($N25="","",INDEX(入出庫履歴!$L$10:$L$1009,$N25)) | G25: =IF($N25="","",INDEX(入出庫履歴!$E$10:$E$1009,$N25)) | H25: =IF($N25="","",INDEX(入出庫履歴!$F$10:$F$1009,$N25)) | I25: =IF($N25="","",IFERROR(INDEX(食材マスタ!$G$10:$G$309,MATCH(G25,食材マスタ!$C$10:$C$309,0)),"")) | J25: =IF($N25="","",IFERROR(INDEX(食材マスタ!$I$10:$I$309,MATCH(G25,食材マスタ!$C$10:$C$309,0)),"")) | K25: =IF($N25="","",INDEX(入出庫履歴!$N$10:$N$1009,$N25)) | L25: =IF($N25="","",INDEX(入出庫履歴!$H$10:$H$1009,$N25)) | M25: =IF($N25="","",ROUND(K25*INDEX(入出庫履歴!$I$10:$I$1009,$N25),0)) | N25: =IFERROR(MATCH(17,入出庫履歴!$V$10:$V$1009,0),"")
B26: =IF($N26="","",18) | C26: =IF($N26="","",IF(E26<0,"期限切れ","期限間近")) | D26: =IF($N26="","",INDEX(入出庫履歴!$K$10:$K$1009,$N26)) | E26: =IF($N26="","",INDEX(入出庫履歴!$O$10:$O$1009,$N26)) | F26: =IF($N26="","",INDEX(入出庫履歴!$L$10:$L$1009,$N26)) | G26: =IF($N26="","",INDEX(入出庫履歴!$E$10:$E$1009,$N26)) | H26: =IF($N26="","",INDEX(入出庫履歴!$F$10:$F$1009,$N26)) | I26: =IF($N26="","",IFERROR(INDEX(食材マスタ!$G$10:$G$309,MATCH(G26,食材マスタ!$C$10:$C$309,0)),"")) | J26: =IF($N26="","",IFERROR(INDEX(食材マスタ!$I$10:$I$309,MATCH(G26,食材マスタ!$C$10:$C$309,0)),"")) | K26: =IF($N26="","",INDEX(入出庫履歴!$N$10:$N$1009,$N26)) | L26: =IF($N26="","",INDEX(入出庫履歴!$H$10:$H$1009,$N26)) | M26: =IF($N26="","",ROUND(K26*INDEX(入出庫履歴!$I$10:$I$1009,$N26),0)) | N26: =IFERROR(MATCH(18,入出庫履歴!$V$10:$V$1009,0),"")
B27: =IF($N27="","",19) | C27: =IF($N27="","",IF(E27<0,"期限切れ","期限間近")) | D27: =IF($N27="","",INDEX(入出庫履歴!$K$10:$K$1009,$N27)) | E27: =IF($N27="","",INDEX(入出庫履歴!$O$10:$O$1009,$N27)) | F27: =IF($N27="","",INDEX(入出庫履歴!$L$10:$L$1009,$N27)) | G27: =IF($N27="","",INDEX(入出庫履歴!$E$10:$E$1009,$N27)) | H27: =IF($N27="","",INDEX(入出庫履歴!$F$10:$F$1009,$N27)) | I27: =IF($N27="","",IFERROR(INDEX(食材マスタ!$G$10:$G$309,MATCH(G27,食材マスタ!$C$10:$C$309,0)),"")) | J27: =IF($N27="","",IFERROR(INDEX(食材マスタ!$I$10:$I$309,MATCH(G27,食材マスタ!$C$10:$C$309,0)),"")) | K27: =IF($N27="","",INDEX(入出庫履歴!$N$10:$N$1009,$N27)) | L27: =IF($N27="","",INDEX(入出庫履歴!$H$10:$H$1009,$N27)) | M27: =IF($N27="","",ROUND(K27*INDEX(入出庫履歴!$I$10:$I$1009,$N27),0)) | N27: =IFERROR(MATCH(19,入出庫履歴!$V$10:$V$1009,0),"")
B28: =IF($N28="","",20) | C28: =IF($N28="","",IF(E28<0,"期限切れ","期限間近")) | D28: =IF($N28="","",INDEX(入出庫履歴!$K$10:$K$1009,$N28)) | E28: =IF($N28="","",INDEX(入出庫履歴!$O$10:$O$1009,$N28)) | F28: =IF($N28="","",INDEX(入出庫履歴!$L$10:$L$1009,$N28)) | G28: =IF($N28="","",INDEX(入出庫履歴!$E$10:$E$1009,$N28)) | H28: =IF($N28="","",INDEX(入出庫履歴!$F$10:$F$1009,$N28)) | I28: =IF($N28="","",IFERROR(INDEX(食材マスタ!$G$10:$G$309,MATCH(G28,食材マスタ!$C$10:$C$309,0)),"")) | J28: =IF($N28="","",IFERROR(INDEX(食材マスタ!$I$10:$I$309,MATCH(G28,食材マスタ!$C$10:$C$309,0)),"")) | K28: =IF($N28="","",INDEX(入出庫履歴!$N$10:$N$1009,$N28)) | L28: =IF($N28="","",INDEX(入出庫履歴!$H$10:$H$1009,$N28)) | M28: =IF($N28="","",ROUND(K28*INDEX(入出庫履歴!$I$10:$I$1009,$N28),0)) | N28: =IFERROR(MATCH(20,入出庫履歴!$V$10:$V$1009,0),"")
B29: =IF($N29="","",21) | C29: =IF($N29="","",IF(E29<0,"期限切れ","期限間近")) | D29: =IF($N29="","",INDEX(入出庫履歴!$K$10:$K$1009,$N29)) | E29: =IF($N29="","",INDEX(入出庫履歴!$O$10:$O$1009,$N29)) | F29: =IF($N29="","",INDEX(入出庫履歴!$L$10:$L$1009,$N29)) | G29: =IF($N29="","",INDEX(入出庫履歴!$E$10:$E$1009,$N29)) | H29: =IF($N29="","",INDEX(入出庫履歴!$F$10:$F$1009,$N29)) | I29: =IF($N29="","",IFERROR(INDEX(食材マスタ!$G$10:$G$309,MATCH(G29,食材マスタ!$C$10:$C$309,0)),"")) | J29: =IF($N29="","",IFERROR(INDEX(食材マスタ!$I$10:$I$309,MATCH(G29,食材マスタ!$C$10:$C$309,0)),"")) | K29: =IF($N29="","",INDEX(入出庫履歴!$N$10:$N$1009,$N29)) | L29: =IF($N29="","",INDEX(入出庫履歴!$H$10:$H$1009,$N29)) | M29: =IF($N29="","",ROUND(K29*INDEX(入出庫履歴!$I$10:$I$1009,$N29),0)) | N29: =IFERROR(MATCH(21,入出庫履歴!$V$10:$V$1009,0),"")
B30: =IF($N30="","",22) | C30: =IF($N30="","",IF(E30<0,"期限切れ","期限間近")) | D30: =IF($N30="","",INDEX(入出庫履歴!$K$10:$K$1009,$N30)) | E30: =IF($N30="","",INDEX(入出庫履歴!$O$10:$O$1009,$N30)) | F30: =IF($N30="","",INDEX(入出庫履歴!$L$10:$L$1009,$N30)) | G30: =IF($N30="","",INDEX(入出庫履歴!$E$10:$E$1009,$N30)) | H30: =IF($N30="","",INDEX(入出庫履歴!$F$10:$F$1009,$N30)) | I30: =IF($N30="","",IFERROR(INDEX(食材マスタ!$G$10:$G$309,MATCH(G30,食材マスタ!$C$10:$C$309,0)),"")) | J30: =IF($N30="","",IFERROR(INDEX(食材マスタ!$I$10:$I$309,MATCH(G30,食材マスタ!$C$10:$C$309,0)),"")) | K30: =IF($N30="","",INDEX(入出庫履歴!$N$10:$N$1009,$N30)) | L30: =IF($N30="","",INDEX(入出庫履歴!$H$10:$H$1009,$N30)) | M30: =IF($N30="","",ROUND(K30*INDEX(入出庫履歴!$I$10:$I$1009,$N30),0)) | N30: =IFERROR(MATCH(22,入出庫履歴!$V$10:$V$1009,0),"")
B31: =IF($N31="","",23) | C31: =IF($N31="","",IF(E31<0,"期限切れ","期限間近")) | D31: =IF($N31="","",INDEX(入出庫履歴!$K$10:$K$1009,$N31)) | E31: =IF($N31="","",INDEX(入出庫履歴!$O$10:$O$1009,$N31)) | F31: =IF($N31="","",INDEX(入出庫履歴!$L$10:$L$1009,$N31)) | G31: =IF($N31="","",INDEX(入出庫履歴!$E$10:$E$1009,$N31)) | H31: =IF($N31="","",INDEX(入出庫履歴!$F$10:$F$1009,$N31)) | I31: =IF($N31="","",IFERROR(INDEX(食材マスタ!$G$10:$G$309,MATCH(G31,食材マスタ!$C$10:$C$309,0)),"")) | J31: =IF($N31="","",IFERROR(INDEX(食材マスタ!$I$10:$I$309,MATCH(G31,食材マスタ!$C$10:$C$309,0)),"")) | K31: =IF($N31="","",INDEX(入出庫履歴!$N$10:$N$1009,$N31)) | L31: =IF($N31="","",INDEX(入出庫履歴!$H$10:$H$1009,$N31)) | M31: =IF($N31="","",ROUND(K31*INDEX(入出庫履歴!$I$10:$I$1009,$N31),0)) | N31: =IFERROR(MATCH(23,入出庫履歴!$V$10:$V$1009,0),"")
B32: =IF($N32="","",24) | C32: =IF($N32="","",IF(E32<0,"期限切れ","期限間近")) | D32: =IF($N32="","",INDEX(入出庫履歴!$K$10:$K$1009,$N32)) | E32: =IF($N32="","",INDEX(入出庫履歴!$O$10:$O$1009,$N32)) | F32: =IF($N32="","",INDEX(入出庫履歴!$L$10:$L$1009,$N32)) | G32: =IF($N32="","",INDEX(入出庫履歴!$E$10:$E$1009,$N32)) | H32: =IF($N32="","",INDEX(入出庫履歴!$F$10:$F$1009,$N32)) | I32: =IF($N32="","",IFERROR(INDEX(食材マスタ!$G$10:$G$309,MATCH(G32,食材マスタ!$C$10:$C$309,0)),"")) | J32: =IF($N32="","",IFERROR(INDEX(食材マスタ!$I$10:$I$309,MATCH(G32,食材マスタ!$C$10:$C$309,0)),"")) | K32: =IF($N32="","",INDEX(入出庫履歴!$N$10:$N$1009,$N32)) | L32: =IF($N32="","",INDEX(入出庫履歴!$H$10:$H$1009,$N32)) | M32: =IF($N32="","",ROUND(K32*INDEX(入出庫履歴!$I$10:$I$1009,$N32),0)) | N32: =IFERROR(MATCH(24,入出庫履歴!$V$10:$V$1009,0),"")
B33: =IF($N33="","",25) | C33: =IF($N33="","",IF(E33<0,"期限切れ","期限間近")) | D33: =IF($N33="","",INDEX(入出庫履歴!$K$10:$K$1009,$N33)) | E33: =IF($N33="","",INDEX(入出庫履歴!$O$10:$O$1009,$N33)) | F33: =IF($N33="","",INDEX(入出庫履歴!$L$10:$L$1009,$N33)) | G33: =IF($N33="","",INDEX(入出庫履歴!$E$10:$E$1009,$N33)) | H33: =IF($N33="","",INDEX(入出庫履歴!$F$10:$F$1009,$N33)) | I33: =IF($N33="","",IFERROR(INDEX(食材マスタ!$G$10:$G$309,MATCH(G33,食材マスタ!$C$10:$C$309,0)),"")) | J33: =IF($N33="","",IFERROR(INDEX(食材マスタ!$I$10:$I$309,MATCH(G33,食材マスタ!$C$10:$C$309,0)),"")) | K33: =IF($N33="","",INDEX(入出庫履歴!$N$10:$N$1009,$N33)) | L33: =IF($N33="","",INDEX(入出庫履歴!$H$10:$H$1009,$N33)) | M33: =IF($N33="","",ROUND(K33*INDEX(入出庫履歴!$I$10:$I$1009,$N33),0)) | N33: =IFERROR(MATCH(25,入出庫履歴!$V$10:$V$1009,0),"")
B34: =IF($N34="","",26) | C34: =IF($N34="","",IF(E34<0,"期限切れ","期限間近")) | D34: =IF($N34="","",INDEX(入出庫履歴!$K$10:$K$1009,$N34)) | E34: =IF($N34="","",INDEX(入出庫履歴!$O$10:$O$1009,$N34)) | F34: =IF($N34="","",INDEX(入出庫履歴!$L$10:$L$1009,$N34)) | G34: =IF($N34="","",INDEX(入出庫履歴!$E$10:$E$1009,$N34)) | H34: =IF($N34="","",INDEX(入出庫履歴!$F$10:$F$1009,$N34)) | I34: =IF($N34="","",IFERROR(INDEX(食材マスタ!$G$10:$G$309,MATCH(G34,食材マスタ!$C$10:$C$309,0)),"")) | J34: =IF($N34="","",IFERROR(INDEX(食材マスタ!$I$10:$I$309,MATCH(G34,食材マスタ!$C$10:$C$309,0)),"")) | K34: =IF($N34="","",INDEX(入出庫履歴!$N$10:$N$1009,$N34)) | L34: =IF($N34="","",INDEX(入出庫履歴!$H$10:$H$1009,$N34)) | M34: =IF($N34="","",ROUND(K34*INDEX(入出庫履歴!$I$10:$I$1009,$N34),0)) | N34: =IFERROR(MATCH(26,入出庫履歴!$V$10:$V$1009,0),"")
B35: =IF($N35="","",27) | C35: =IF($N35="","",IF(E35<0,"期限切れ","期限間近")) | D35: =IF($N35="","",INDEX(入出庫履歴!$K$10:$K$1009,$N35)) | E35: =IF($N35="","",INDEX(入出庫履歴!$O$10:$O$1009,$N35)) | F35: =IF($N35="","",INDEX(入出庫履歴!$L$10:$L$1009,$N35)) | G35: =IF($N35="","",INDEX(入出庫履歴!$E$10:$E$1009,$N35)) | H35: =IF($N35="","",INDEX(入出庫履歴!$F$10:$F$1009,$N35)) | I35: =IF($N35="","",IFERROR(INDEX(食材マスタ!$G$10:$G$309,MATCH(G35,食材マスタ!$C$10:$C$309,0)),"")) | J35: =IF($N35="","",IFERROR(INDEX(食材マスタ!$I$10:$I$309,MATCH(G35,食材マスタ!$C$10:$C$309,0)),"")) | K35: =IF($N35="","",INDEX(入出庫履歴!$N$10:$N$1009,$N35)) | L35: =IF($N35="","",INDEX(入出庫履歴!$H$10:$H$1009,$N35)) | M35: =IF($N35="","",ROUND(K35*INDEX(入出庫履歴!$I$10:$I$1009,$N35),0)) | N35: =IFERROR(MATCH(27,入出庫履歴!$V$10:$V$1009,0),"")
B36: =IF($N36="","",28) | C36: =IF($N36="","",IF(E36<0,"期限切れ","期限間近")) | D36: =IF($N36="","",INDEX(入出庫履歴!$K$10:$K$1009,$N36)) | E36: =IF($N36="","",INDEX(入出庫履歴!$O$10:$O$1009,$N36)) | F36: =IF($N36="","",INDEX(入出庫履歴!$L$10:$L$1009,$N36)) | G36: =IF($N36="","",INDEX(入出庫履歴!$E$10:$E$1009,$N36)) | H36: =IF($N36="","",INDEX(入出庫履歴!$F$10:$F$1009,$N36)) | I36: =IF($N36="","",IFERROR(INDEX(食材マスタ!$G$10:$G$309,MATCH(G36,食材マスタ!$C$10:$C$309,0)),"")) | J36: =IF($N36="","",IFERROR(INDEX(食材マスタ!$I$10:$I$309,MATCH(G36,食材マスタ!$C$10:$C$309,0)),"")) | K36: =IF($N36="","",INDEX(入出庫履歴!$N$10:$N$1009,$N36)) | L36: =IF($N36="","",INDEX(入出庫履歴!$H$10:$H$1009,$N36)) | M36: =IF($N36="","",ROUND(K36*INDEX(入出庫履歴!$I$10:$I$1009,$N36),0)) | N36: =IFERROR(MATCH(28,入出庫履歴!$V$10:$V$1009,0),"")
B37: =IF($N37="","",29) | C37: =IF($N37="","",IF(E37<0,"期限切れ","期限間近")) | D37: =IF($N37="","",INDEX(入出庫履歴!$K$10:$K$1009,$N37)) | E37: =IF($N37="","",INDEX(入出庫履歴!$O$10:$O$1009,$N37)) | F37: =IF($N37="","",INDEX(入出庫履歴!$L$10:$L$1009,$N37)) | G37: =IF($N37="","",INDEX(入出庫履歴!$E$10:$E$1009,$N37)) | H37: =IF($N37="","",INDEX(入出庫履歴!$F$10:$F$1009,$N37)) | I37: =IF($N37="","",IFERROR(INDEX(食材マスタ!$G$10:$G$309,MATCH(G37,食材マスタ!$C$10:$C$309,0)),"")) | J37: =IF($N37="","",IFERROR(INDEX(食材マスタ!$I$10:$I$309,MATCH(G37,食材マスタ!$C$10:$C$309,0)),"")) | K37: =IF($N37="","",INDEX(入出庫履歴!$N$10:$N$1009,$N37)) | L37: =IF($N37="","",INDEX(入出庫履歴!$H$10:$H$1009,$N37)) | M37: =IF($N37="","",ROUND(K37*INDEX(入出庫履歴!$I$10:$I$1009,$N37),0)) | N37: =IFERROR(MATCH(29,入出庫履歴!$V$10:$V$1009,0),"")
B38: =IF($N38="","",30) | C38: =IF($N38="","",IF(E38<0,"期限切れ","期限間近")) | D38: =IF($N38="","",INDEX(入出庫履歴!$K$10:$K$1009,$N38)) | E38: =IF($N38="","",INDEX(入出庫履歴!$O$10:$O$1009,$N38)) | F38: =IF($N38="","",INDEX(入出庫履歴!$L$10:$L$1009,$N38)) | G38: =IF($N38="","",INDEX(入出庫履歴!$E$10:$E$1009,$N38)) | H38: =IF($N38="","",INDEX(入出庫履歴!$F$10:$F$1009,$N38)) | I38: =IF($N38="","",IFERROR(INDEX(食材マスタ!$G$10:$G$309,MATCH(G38,食材マスタ!$C$10:$C$309,0)),"")) | J38: =IF($N38="","",IFERROR(INDEX(食材マスタ!$I$10:$I$309,MATCH(G38,食材マスタ!$C$10:$C$309,0)),"")) | K38: =IF($N38="","",INDEX(入出庫履歴!$N$10:$N$1009,$N38)) | L38: =IF($N38="","",INDEX(入出庫履歴!$H$10:$H$1009,$N38)) | M38: =IF($N38="","",ROUND(K38*INDEX(入出庫履歴!$I$10:$I$1009,$N38),0)) | N38: =IFERROR(MATCH(30,入出庫履歴!$V$10:$V$1009,0),"")
B39: =IF($N39="","",31) | C39: =IF($N39="","",IF(E39<0,"期限切れ","期限間近")) | D39: =IF($N39="","",INDEX(入出庫履歴!$K$10:$K$1009,$N39)) | E39: =IF($N39="","",INDEX(入出庫履歴!$O$10:$O$1009,$N39)) | F39: =IF($N39="","",INDEX(入出庫履歴!$L$10:$L$1009,$N39)) | G39: =IF($N39="","",INDEX(入出庫履歴!$E$10:$E$1009,$N39)) | H39: =IF($N39="","",INDEX(入出庫履歴!$F$10:$F$1009,$N39)) | I39: =IF($N39="","",IFERROR(INDEX(食材マスタ!$G$10:$G$309,MATCH(G39,食材マスタ!$C$10:$C$309,0)),"")) | J39: =IF($N39="","",IFERROR(INDEX(食材マスタ!$I$10:$I$309,MATCH(G39,食材マスタ!$C$10:$C$309,0)),"")) | K39: =IF($N39="","",INDEX(入出庫履歴!$N$10:$N$1009,$N39)) | L39: =IF($N39="","",INDEX(入出庫履歴!$H$10:$H$1009,$N39)) | M39: =IF($N39="","",ROUND(K39*INDEX(入出庫履歴!$I$10:$I$1009,$N39),0)) | N39: =IFERROR(MATCH(31,入出庫履歴!$V$10:$V$1009,0),"")
B40: =IF($N40="","",32) | C40: =IF($N40="","",IF(E40<0,"期限切れ","期限間近")) | D40: =IF($N40="","",INDEX(入出庫履歴!$K$10:$K$1009,$N40)) | E40: =IF($N40="","",INDEX(入出庫履歴!$O$10:$O$1009,$N40)) | F40: =IF($N40="","",INDEX(入出庫履歴!$L$10:$L$1009,$N40)) | G40: =IF($N40="","",INDEX(入出庫履歴!$E$10:$E$1009,$N40)) | H40: =IF($N40="","",INDEX(入出庫履歴!$F$10:$F$1009,$N40)) | I40: =IF($N40="","",IFERROR(INDEX(食材マスタ!$G$10:$G$309,MATCH(G40,食材マスタ!$C$10:$C$309,0)),"")) | J40: =IF($N40="","",IFERROR(INDEX(食材マスタ!$I$10:$I$309,MATCH(G40,食材マスタ!$C$10:$C$309,0)),"")) | K40: =IF($N40="","",INDEX(入出庫履歴!$N$10:$N$1009,$N40)) | L40: =IF($N40="","",INDEX(入出庫履歴!$H$10:$H$1009,$N40)) | M40: =IF($N40="","",ROUND(K40*INDEX(入出庫履歴!$I$10:$I$1009,$N40),0)) | N40: =IFERROR(MATCH(32,入出庫履歴!$V$10:$V$1009,0),"")
B41: =IF($N41="","",33) | C41: =IF($N41="","",IF(E41<0,"期限切れ","期限間近")) | D41: =IF($N41="","",INDEX(入出庫履歴!$K$10:$K$1009,$N41)) | E41: =IF($N41="","",INDEX(入出庫履歴!$O$10:$O$1009,$N41)) | F41: =IF($N41="","",INDEX(入出庫履歴!$L$10:$L$1009,$N41)) | G41: =IF($N41="","",INDEX(入出庫履歴!$E$10:$E$1009,$N41)) | H41: =IF($N41="","",INDEX(入出庫履歴!$F$10:$F$1009,$N41)) | I41: =IF($N41="","",IFERROR(INDEX(食材マスタ!$G$10:$G$309,MATCH(G41,食材マスタ!$C$10:$C$309,0)),"")) | J41: =IF($N41="","",IFERROR(INDEX(食材マスタ!$I$10:$I$309,MATCH(G41,食材マスタ!$C$10:$C$309,0)),"")) | K41: =IF($N41="","",INDEX(入出庫履歴!$N$10:$N$1009,$N41)) | L41: =IF($N41="","",INDEX(入出庫履歴!$H$10:$H$1009,$N41)) | M41: =IF($N41="","",ROUND(K41*INDEX(入出庫履歴!$I$10:$I$1009,$N41),0)) | N41: =IFERROR(MATCH(33,入出庫履歴!$V$10:$V$1009,0),"")
B42: =IF($N42="","",34) | C42: =IF($N42="","",IF(E42<0,"期限切れ","期限間近")) | D42: =IF($N42="","",INDEX(入出庫履歴!$K$10:$K$1009,$N42)) | E42: =IF($N42="","",INDEX(入出庫履歴!$O$10:$O$1009,$N42)) | F42: =IF($N42="","",INDEX(入出庫履歴!$L$10:$L$1009,$N42)) | G42: =IF($N42="","",INDEX(入出庫履歴!$E$10:$E$1009,$N42)) | H42: =IF($N42="","",INDEX(入出庫履歴!$F$10:$F$1009,$N42)) | I42: =IF($N42="","",IFERROR(INDEX(食材マスタ!$G$10:$G$309,MATCH(G42,食材マスタ!$C$10:$C$309,0)),"")) | J42: =IF($N42="","",IFERROR(INDEX(食材マスタ!$I$10:$I$309,MATCH(G42,食材マスタ!$C$10:$C$309,0)),"")) | K42: =IF($N42="","",INDEX(入出庫履歴!$N$10:$N$1009,$N42)) | L42: =IF($N42="","",INDEX(入出庫履歴!$H$10:$H$1009,$N42)) | M42: =IF($N42="","",ROUND(K42*INDEX(入出庫履歴!$I$10:$I$1009,$N42),0)) | N42: =IFERROR(MATCH(34,入出庫履歴!$V$10:$V$1009,0),"")
B43: =IF($N43="","",35) | C43: =IF($N43="","",IF(E43<0,"期限切れ","期限間近")) | D43: =IF($N43="","",INDEX(入出庫履歴!$K$10:$K$1009,$N43)) | E43: =IF($N43="","",INDEX(入出庫履歴!$O$10:$O$1009,$N43)) | F43: =IF($N43="","",INDEX(入出庫履歴!$L$10:$L$1009,$N43)) | G43: =IF($N43="","",INDEX(入出庫履歴!$E$10:$E$1009,$N43)) | H43: =IF($N43="","",INDEX(入出庫履歴!$F$10:$F$1009,$N43)) | I43: =IF($N43="","",IFERROR(INDEX(食材マスタ!$G$10:$G$309,MATCH(G43,食材マスタ!$C$10:$C$309,0)),"")) | J43: =IF($N43="","",IFERROR(INDEX(食材マスタ!$I$10:$I$309,MATCH(G43,食材マスタ!$C$10:$C$309,0)),"")) | K43: =IF($N43="","",INDEX(入出庫履歴!$N$10:$N$1009,$N43)) | L43: =IF($N43="","",INDEX(入出庫履歴!$H$10:$H$1009,$N43)) | M43: =IF($N43="","",ROUND(K43*INDEX(入出庫履歴!$I$10:$I$1009,$N43),0)) | N43: =IFERROR(MATCH(35,入出庫履歴!$V$10:$V$1009,0),"")
B44: =IF($N44="","",36) | C44: =IF($N44="","",IF(E44<0,"期限切れ","期限間近")) | D44: =IF($N44="","",INDEX(入出庫履歴!$K$10:$K$1009,$N44)) | E44: =IF($N44="","",INDEX(入出庫履歴!$O$10:$O$1009,$N44)) | F44: =IF($N44="","",INDEX(入出庫履歴!$L$10:$L$1009,$N44)) | G44: =IF($N44="","",INDEX(入出庫履歴!$E$10:$E$1009,$N44)) | H44: =IF($N44="","",INDEX(入出庫履歴!$F$10:$F$1009,$N44)) | I44: =IF($N44="","",IFERROR(INDEX(食材マスタ!$G$10:$G$309,MATCH(G44,食材マスタ!$C$10:$C$309,0)),"")) | J44: =IF($N44="","",IFERROR(INDEX(食材マスタ!$I$10:$I$309,MATCH(G44,食材マスタ!$C$10:$C$309,0)),"")) | K44: =IF($N44="","",INDEX(入出庫履歴!$N$10:$N$1009,$N44)) | L44: =IF($N44="","",INDEX(入出庫履歴!$H$10:$H$1009,$N44)) | M44: =IF($N44="","",ROUND(K44*INDEX(入出庫履歴!$I$10:$I$1009,$N44),0)) | N44: =IFERROR(MATCH(36,入出庫履歴!$V$10:$V$1009,0),"")
B45: =IF($N45="","",37) | C45: =IF($N45="","",IF(E45<0,"期限切れ","期限間近")) | D45: =IF($N45="","",INDEX(入出庫履歴!$K$10:$K$1009,$N45)) | E45: =IF($N45="","",INDEX(入出庫履歴!$O$10:$O$1009,$N45)) | F45: =IF($N45="","",INDEX(入出庫履歴!$L$10:$L$1009,$N45)) | G45: =IF($N45="","",INDEX(入出庫履歴!$E$10:$E$1009,$N45)) | H45: =IF($N45="","",INDEX(入出庫履歴!$F$10:$F$1009,$N45)) | I45: =IF($N45="","",IFERROR(INDEX(食材マスタ!$G$10:$G$309,MATCH(G45,食材マスタ!$C$10:$C$309,0)),"")) | J45: =IF($N45="","",IFERROR(INDEX(食材マスタ!$I$10:$I$309,MATCH(G45,食材マスタ!$C$10:$C$309,0)),"")) | K45: =IF($N45="","",INDEX(入出庫履歴!$N$10:$N$1009,$N45)) | L45: =IF($N45="","",INDEX(入出庫履歴!$H$10:$H$1009,$N45)) | M45: =IF($N45="","",ROUND(K45*INDEX(入出庫履歴!$I$10:$I$1009,$N45),0)) | N45: =IFERROR(MATCH(37,入出庫履歴!$V$10:$V$1009,0),"")
B46: =IF($N46="","",38) | C46: =IF($N46="","",IF(E46<0,"期限切れ","期限間近")) | D46: =IF($N46="","",INDEX(入出庫履歴!$K$10:$K$1009,$N46)) | E46: =IF($N46="","",INDEX(入出庫履歴!$O$10:$O$1009,$N46)) | F46: =IF($N46="","",INDEX(入出庫履歴!$L$10:$L$1009,$N46)) | G46: =IF($N46="","",INDEX(入出庫履歴!$E$10:$E$1009,$N46)) | H46: =IF($N46="","",INDEX(入出庫履歴!$F$10:$F$1009,$N46)) | I46: =IF($N46="","",IFERROR(INDEX(食材マスタ!$G$10:$G$309,MATCH(G46,食材マスタ!$C$10:$C$309,0)),"")) | J46: =IF($N46="","",IFERROR(INDEX(食材マスタ!$I$10:$I$309,MATCH(G46,食材マスタ!$C$10:$C$309,0)),"")) | K46: =IF($N46="","",INDEX(入出庫履歴!$N$10:$N$1009,$N46)) | L46: =IF($N46="","",INDEX(入出庫履歴!$H$10:$H$1009,$N46)) | M46: =IF($N46="","",ROUND(K46*INDEX(入出庫履歴!$I$10:$I$1009,$N46),0)) | N46: =IFERROR(MATCH(38,入出庫履歴!$V$10:$V$1009,0),"")
B47: =IF($N47="","",39) | C47: =IF($N47="","",IF(E47<0,"期限切れ","期限間近")) | D47: =IF($N47="","",INDEX(入出庫履歴!$K$10:$K$1009,$N47)) | E47: =IF($N47="","",INDEX(入出庫履歴!$O$10:$O$1009,$N47)) | F47: =IF($N47="","",INDEX(入出庫履歴!$L$10:$L$1009,$N47)) | G47: =IF($N47="","",INDEX(入出庫履歴!$E$10:$E$1009,$N47)) | H47: =IF($N47="","",INDEX(入出庫履歴!$F$10:$F$1009,$N47)) | I47: =IF($N47="","",IFERROR(INDEX(食材マスタ!$G$10:$G$309,MATCH(G47,食材マスタ!$C$10:$C$309,0)),"")) | J47: =IF($N47="","",IFERROR(INDEX(食材マスタ!$I$10:$I$309,MATCH(G47,食材マスタ!$C$10:$C$309,0)),"")) | K47: =IF($N47="","",INDEX(入出庫履歴!$N$10:$N$1009,$N47)) | L47: =IF($N47="","",INDEX(入出庫履歴!$H$10:$H$1009,$N47)) | M47: =IF($N47="","",ROUND(K47*INDEX(入出庫履歴!$I$10:$I$1009,$N47),0)) | N47: =IFERROR(MATCH(39,入出庫履歴!$V$10:$V$1009,0),"")
B48: =IF($N48="","",40) | C48: =IF($N48="","",IF(E48<0,"期限切れ","期限間近")) | D48: =IF($N48="","",INDEX(入出庫履歴!$K$10:$K$1009,$N48)) | E48: =IF($N48="","",INDEX(入出庫履歴!$O$10:$O$1009,$N48)) | F48: =IF($N48="","",INDEX(入出庫履歴!$L$10:$L$1009,$N48)) | G48: =IF($N48="","",INDEX(入出庫履歴!$E$10:$E$1009,$N48)) | H48: =IF($N48="","",INDEX(入出庫履歴!$F$10:$F$1009,$N48)) | I48: =IF($N48="","",IFERROR(INDEX(食材マスタ!$G$10:$G$309,MATCH(G48,食材マスタ!$C$10:$C$309,0)),"")) | J48: =IF($N48="","",IFERROR(INDEX(食材マスタ!$I$10:$I$309,MATCH(G48,食材マスタ!$C$10:$C$309,0)),"")) | K48: =IF($N48="","",INDEX(入出庫履歴!$N$10:$N$1009,$N48)) | L48: =IF($N48="","",INDEX(入出庫履歴!$H$10:$H$1009,$N48)) | M48: =IF($N48="","",ROUND(K48*INDEX(入出庫履歴!$I$10:$I$1009,$N48),0)) | N48: =IFERROR(MATCH(40,入出庫履歴!$V$10:$V$1009,0),"")
B49: =IF($N49="","",41) | C49: =IF($N49="","",IF(E49<0,"期限切れ","期限間近")) | D49: =IF($N49="","",INDEX(入出庫履歴!$K$10:$K$1009,$N49)) | E49: =IF($N49="","",INDEX(入出庫履歴!$O$10:$O$1009,$N49)) | F49: =IF($N49="","",INDEX(入出庫履歴!$L$10:$L$1009,$N49)) | G49: =IF($N49="","",INDEX(入出庫履歴!$E$10:$E$1009,$N49)) | H49: =IF($N49="","",INDEX(入出庫履歴!$F$10:$F$1009,$N49)) | I49: =IF($N49="","",IFERROR(INDEX(食材マスタ!$G$10:$G$309,MATCH(G49,食材マスタ!$C$10:$C$309,0)),"")) | J49: =IF($N49="","",IFERROR(INDEX(食材マスタ!$I$10:$I$309,MATCH(G49,食材マスタ!$C$10:$C$309,0)),"")) | K49: =IF($N49="","",INDEX(入出庫履歴!$N$10:$N$1009,$N49)) | L49: =IF($N49="","",INDEX(入出庫履歴!$H$10:$H$1009,$N49)) | M49: =IF($N49="","",ROUND(K49*INDEX(入出庫履歴!$I$10:$I$1009,$N49),0)) | N49: =IFERROR(MATCH(41,入出庫履歴!$V$10:$V$1009,0),"")
B50: =IF($N50="","",42) | C50: =IF($N50="","",IF(E50<0,"期限切れ","期限間近")) | D50: =IF($N50="","",INDEX(入出庫履歴!$K$10:$K$1009,$N50)) | E50: =IF($N50="","",INDEX(入出庫履歴!$O$10:$O$1009,$N50)) | F50: =IF($N50="","",INDEX(入出庫履歴!$L$10:$L$1009,$N50)) | G50: =IF($N50="","",INDEX(入出庫履歴!$E$10:$E$1009,$N50)) | H50: =IF($N50="","",INDEX(入出庫履歴!$F$10:$F$1009,$N50)) | I50: =IF($N50="","",IFERROR(INDEX(食材マスタ!$G$10:$G$309,MATCH(G50,食材マスタ!$C$10:$C$309,0)),"")) | J50: =IF($N50="","",IFERROR(INDEX(食材マスタ!$I$10:$I$309,MATCH(G50,食材マスタ!$C$10:$C$309,0)),"")) | K50: =IF($N50="","",INDEX(入出庫履歴!$N$10:$N$1009,$N50)) | L50: =IF($N50="","",INDEX(入出庫履歴!$H$10:$H$1009,$N50)) | M50: =IF($N50="","",ROUND(K50*INDEX(入出庫履歴!$I$10:$I$1009,$N50),0)) | N50: =IFERROR(MATCH(42,入出庫履歴!$V$10:$V$1009,0),"")
B51: =IF($N51="","",43) | C51: =IF($N51="","",IF(E51<0,"期限切れ","期限間近")) | D51: =IF($N51="","",INDEX(入出庫履歴!$K$10:$K$1009,$N51)) | E51: =IF($N51="","",INDEX(入出庫履歴!$O$10:$O$1009,$N51)) | F51: =IF($N51="","",INDEX(入出庫履歴!$L$10:$L$1009,$N51)) | G51: =IF($N51="","",INDEX(入出庫履歴!$E$10:$E$1009,$N51)) | H51: =IF($N51="","",INDEX(入出庫履歴!$F$10:$F$1009,$N51)) | I51: =IF($N51="","",IFERROR(INDEX(食材マスタ!$G$10:$G$309,MATCH(G51,食材マスタ!$C$10:$C$309,0)),"")) | J51: =IF($N51="","",IFERROR(INDEX(食材マスタ!$I$10:$I$309,MATCH(G51,食材マスタ!$C$10:$C$309,0)),"")) | K51: =IF($N51="","",INDEX(入出庫履歴!$N$10:$N$1009,$N51)) | L51: =IF($N51="","",INDEX(入出庫履歴!$H$10:$H$1009,$N51)) | M51: =IF($N51="","",ROUND(K51*INDEX(入出庫履歴!$I$10:$I$1009,$N51),0)) | N51: =IFERROR(MATCH(43,入出庫履歴!$V$10:$V$1009,0),"")
B52: =IF($N52="","",44) | C52: =IF($N52="","",IF(E52<0,"期限切れ","期限間近")) | D52: =IF($N52="","",INDEX(入出庫履歴!$K$10:$K$1009,$N52)) | E52: =IF($N52="","",INDEX(入出庫履歴!$O$10:$O$1009,$N52)) | F52: =IF($N52="","",INDEX(入出庫履歴!$L$10:$L$1009,$N52)) | G52: =IF($N52="","",INDEX(入出庫履歴!$E$10:$E$1009,$N52)) | H52: =IF($N52="","",INDEX(入出庫履歴!$F$10:$F$1009,$N52)) | I52: =IF($N52="","",IFERROR(INDEX(食材マスタ!$G$10:$G$309,MATCH(G52,食材マスタ!$C$10:$C$309,0)),"")) | J52: =IF($N52="","",IFERROR(INDEX(食材マスタ!$I$10:$I$309,MATCH(G52,食材マスタ!$C$10:$C$309,0)),"")) | K52: =IF($N52="","",INDEX(入出庫履歴!$N$10:$N$1009,$N52)) | L52: =IF($N52="","",INDEX(入出庫履歴!$H$10:$H$1009,$N52)) | M52: =IF($N52="","",ROUND(K52*INDEX(入出庫履歴!$I$10:$I$1009,$N52),0)) | N52: =IFERROR(MATCH(44,入出庫履歴!$V$10:$V$1009,0),"")
B53: =IF($N53="","",45) | C53: =IF($N53="","",IF(E53<0,"期限切れ","期限間近")) | D53: =IF($N53="","",INDEX(入出庫履歴!$K$10:$K$1009,$N53)) | E53: =IF($N53="","",INDEX(入出庫履歴!$O$10:$O$1009,$N53)) | F53: =IF($N53="","",INDEX(入出庫履歴!$L$10:$L$1009,$N53)) | G53: =IF($N53="","",INDEX(入出庫履歴!$E$10:$E$1009,$N53)) | H53: =IF($N53="","",INDEX(入出庫履歴!$F$10:$F$1009,$N53)) | I53: =IF($N53="","",IFERROR(INDEX(食材マスタ!$G$10:$G$309,MATCH(G53,食材マスタ!$C$10:$C$309,0)),"")) | J53: =IF($N53="","",IFERROR(INDEX(食材マスタ!$I$10:$I$309,MATCH(G53,食材マスタ!$C$10:$C$309,0)),"")) | K53: =IF($N53="","",INDEX(入出庫履歴!$N$10:$N$1009,$N53)) | L53: =IF($N53="","",INDEX(入出庫履歴!$H$10:$H$1009,$N53)) | M53: =IF($N53="","",ROUND(K53*INDEX(入出庫履歴!$I$10:$I$1009,$N53),0)) | N53: =IFERROR(MATCH(45,入出庫履歴!$V$10:$V$1009,0),"")
B54: =IF($N54="","",46) | C54: =IF($N54="","",IF(E54<0,"期限切れ","期限間近")) | D54: =IF($N54="","",INDEX(入出庫履歴!$K$10:$K$1009,$N54)) | E54: =IF($N54="","",INDEX(入出庫履歴!$O$10:$O$1009,$N54)) | F54: =IF($N54="","",INDEX(入出庫履歴!$L$10:$L$1009,$N54)) | G54: =IF($N54="","",INDEX(入出庫履歴!$E$10:$E$1009,$N54)) | H54: =IF($N54="","",INDEX(入出庫履歴!$F$10:$F$1009,$N54)) | I54: =IF($N54="","",IFERROR(INDEX(食材マスタ!$G$10:$G$309,MATCH(G54,食材マスタ!$C$10:$C$309,0)),"")) | J54: =IF($N54="","",IFERROR(INDEX(食材マスタ!$I$10:$I$309,MATCH(G54,食材マスタ!$C$10:$C$309,0)),"")) | K54: =IF($N54="","",INDEX(入出庫履歴!$N$10:$N$1009,$N54)) | L54: =IF($N54="","",INDEX(入出庫履歴!$H$10:$H$1009,$N54)) | M54: =IF($N54="","",ROUND(K54*INDEX(入出庫履歴!$I$10:$I$1009,$N54),0)) | N54: =IFERROR(MATCH(46,入出庫履歴!$V$10:$V$1009,0),"")
B55: =IF($N55="","",47) | C55: =IF($N55="","",IF(E55<0,"期限切れ","期限間近")) | D55: =IF($N55="","",INDEX(入出庫履歴!$K$10:$K$1009,$N55)) | E55: =IF($N55="","",INDEX(入出庫履歴!$O$10:$O$1009,$N55)) | F55: =IF($N55="","",INDEX(入出庫履歴!$L$10:$L$1009,$N55)) | G55: =IF($N55="","",INDEX(入出庫履歴!$E$10:$E$1009,$N55)) | H55: =IF($N55="","",INDEX(入出庫履歴!$F$10:$F$1009,$N55)) | I55: =IF($N55="","",IFERROR(INDEX(食材マスタ!$G$10:$G$309,MATCH(G55,食材マスタ!$C$10:$C$309,0)),"")) | J55: =IF($N55="","",IFERROR(INDEX(食材マスタ!$I$10:$I$309,MATCH(G55,食材マスタ!$C$10:$C$309,0)),"")) | K55: =IF($N55="","",INDEX(入出庫履歴!$N$10:$N$1009,$N55)) | L55: =IF($N55="","",INDEX(入出庫履歴!$H$10:$H$1009,$N55)) | M55: =IF($N55="","",ROUND(K55*INDEX(入出庫履歴!$I$10:$I$1009,$N55),0)) | N55: =IFERROR(MATCH(47,入出庫履歴!$V$10:$V$1009,0),"")
B56: =IF($N56="","",48) | C56: =IF($N56="","",IF(E56<0,"期限切れ","期限間近")) | D56: =IF($N56="","",INDEX(入出庫履歴!$K$10:$K$1009,$N56)) | E56: =IF($N56="","",INDEX(入出庫履歴!$O$10:$O$1009,$N56)) | F56: =IF($N56="","",INDEX(入出庫履歴!$L$10:$L$1009,$N56)) | G56: =IF($N56="","",INDEX(入出庫履歴!$E$10:$E$1009,$N56)) | H56: =IF($N56="","",INDEX(入出庫履歴!$F$10:$F$1009,$N56)) | I56: =IF($N56="","",IFERROR(INDEX(食材マスタ!$G$10:$G$309,MATCH(G56,食材マスタ!$C$10:$C$309,0)),"")) | J56: =IF($N56="","",IFERROR(INDEX(食材マスタ!$I$10:$I$309,MATCH(G56,食材マスタ!$C$10:$C$309,0)),"")) | K56: =IF($N56="","",INDEX(入出庫履歴!$N$10:$N$1009,$N56)) | L56: =IF($N56="","",INDEX(入出庫履歴!$H$10:$H$1009,$N56)) | M56: =IF($N56="","",ROUND(K56*INDEX(入出庫履歴!$I$10:$I$1009,$N56),0)) | N56: =IFERROR(MATCH(48,入出庫履歴!$V$10:$V$1009,0),"")
B57: =IF($N57="","",49) | C57: =IF($N57="","",IF(E57<0,"期限切れ","期限間近")) | D57: =IF($N57="","",INDEX(入出庫履歴!$K$10:$K$1009,$N57)) | E57: =IF($N57="","",INDEX(入出庫履歴!$O$10:$O$1009,$N57)) | F57: =IF($N57="","",INDEX(入出庫履歴!$L$10:$L$1009,$N57)) | G57: =IF($N57="","",INDEX(入出庫履歴!$E$10:$E$1009,$N57)) | H57: =IF($N57="","",INDEX(入出庫履歴!$F$10:$F$1009,$N57)) | I57: =IF($N57="","",IFERROR(INDEX(食材マスタ!$G$10:$G$309,MATCH(G57,食材マスタ!$C$10:$C$309,0)),"")) | J57: =IF($N57="","",IFERROR(INDEX(食材マスタ!$I$10:$I$309,MATCH(G57,食材マスタ!$C$10:$C$309,0)),"")) | K57: =IF($N57="","",INDEX(入出庫履歴!$N$10:$N$1009,$N57)) | L57: =IF($N57="","",INDEX(入出庫履歴!$H$10:$H$1009,$N57)) | M57: =IF($N57="","",ROUND(K57*INDEX(入出庫履歴!$I$10:$I$1009,$N57),0)) | N57: =IFERROR(MATCH(49,入出庫履歴!$V$10:$V$1009,0),"")
B58: =IF($N58="","",50) | C58: =IF($N58="","",IF(E58<0,"期限切れ","期限間近")) | D58: =IF($N58="","",INDEX(入出庫履歴!$K$10:$K$1009,$N58)) | E58: =IF($N58="","",INDEX(入出庫履歴!$O$10:$O$1009,$N58)) | F58: =IF($N58="","",INDEX(入出庫履歴!$L$10:$L$1009,$N58)) | G58: =IF($N58="","",INDEX(入出庫履歴!$E$10:$E$1009,$N58)) | H58: =IF($N58="","",INDEX(入出庫履歴!$F$10:$F$1009,$N58)) | I58: =IF($N58="","",IFERROR(INDEX(食材マスタ!$G$10:$G$309,MATCH(G58,食材マスタ!$C$10:$C$309,0)),"")) | J58: =IF($N58="","",IFERROR(INDEX(食材マスタ!$I$10:$I$309,MATCH(G58,食材マスタ!$C$10:$C$309,0)),"")) | K58: =IF($N58="","",INDEX(入出庫履歴!$N$10:$N$1009,$N58)) | L58: =IF($N58="","",INDEX(入出庫履歴!$H$10:$H$1009,$N58)) | M58: =IF($N58="","",ROUND(K58*INDEX(入出庫履歴!$I$10:$I$1009,$N58),0)) | N58: =IFERROR(MATCH(50,入出庫履歴!$V$10:$V$1009,0),"")

Sheet 発注リスト
A1: 他にも魅力的な情報がたっぷり！テンプレート倉庫
B2: 「要発注」「欠品」「在庫異常」の食材が自動で並びます（最大50品目）。推奨発注数は、発注点を上回るように発注ロット単位で切り上げた数です。
B3: 発注リスト
B6: 対象品目 | E6: 発注金額合計（税抜）
B7: =COUNT($O$9:$O$58) -> 4 | E7: =SUM($M$9:$M$58) -> 23960
B8: # | C8: 食材コード | D8: 食材名 | E8: 規格・産地 | F8: 仕入先 | G8: 保存区分 | H8: 現在庫 | I8: 発注点 | J8: 推奨発注数 | K8: 単位 | L8: 単価（円） | M8: 発注金額（円） | N8: 状態
B9: =IF(O9="","",1) -> 1 | C9: =IF($O9="","",INDEX(食材マスタ!$C$10:$C$309,$O9)) -> FS-001 | D9: =IF($O9="","",INDEX(食材マスタ!$D$10:$D$309,$O9)) -> サーモン切身 | E9: =IF($O9="","",INDEX(食材マスタ!$E$10:$E$309,$O9)) -> ノルウェー産 80g | F9: =IF($O9="","",INDEX(食材マスタ!$J$10:$J$309,$O9)) -> ○○水産 | G9: =IF($O9="","",INDEX(食材マスタ!$G$10:$G$309,$O9)) -> 冷凍 | H9: =IF($O9="","",INDEX(食材マスタ!$P$10:$P$309,$O9)) -> 2 | I9: =IF($O9="","",INDEX(食材マスタ!$R$10:$R$309,$O9)) -> 3 | J9: =IF($O9="","",INDEX(食材マスタ!$U$10:$U$309,$O9)) -> 5 | K9: =IF($O9="","",INDEX(食材マスタ!$H$10:$H$309,$O9)) -> kg | L9: =IF($O9="","",INDEX(食材マスタ!$K$10:$K$309,$O9)) -> 2800 | M9: =IF(OR($O9="",L9="",J9=""),"",ROUND(J9*L9,0)) -> 14000 | N9: =IF($O9="","",INDEX(食材マスタ!$T$10:$T$309,$O9)) -> 要発注 | O9: =IFERROR(MATCH(1,食材マスタ!$Z$10:$Z$309,0),"") -> 2
B10: =IF(O10="","",2) -> 2 | C10: =IF($O10="","",INDEX(食材マスタ!$C$10:$C$309,$O10)) -> VG-001 | D10: =IF($O10="","",INDEX(食材マスタ!$D$10:$D$309,$O10)) -> 玉ねぎ | E10: =IF($O10="","",INDEX(食材マスタ!$E$10:$E$309,$O10)) -> 北海道産 L | F10: =IF($O10="","",INDEX(食材マスタ!$J$10:$J$309,$O10)) -> ○○青果 | G10: =IF($O10="","",INDEX(食材マスタ!$G$10:$G$309,$O10)) -> 常温 | H10: =IF($O10="","",INDEX(食材マスタ!$P$10:$P$309,$O10)) -> 7.6 | I10: =IF($O10="","",INDEX(食材マスタ!$R$10:$R$309,$O10)) -> 10 | J10: =IF($O10="","",INDEX(食材マスタ!$U$10:$U$309,$O10)) -> 20 | K10: =IF($O10="","",INDEX(食材マスタ!$H$10:$H$309,$O10)) -> kg | L10: =IF($O10="","",INDEX(食材マスタ!$K$10:$K$309,$O10)) -> 220 | M10: =IF(OR($O10="",L10="",J10=""),"",ROUND(J10*L10,0)) -> 4400 | N10: =IF($O10="","",INDEX(食材マスタ!$T$10:$T$309,$O10)) -> 要発注 | O10: =IFERROR(MATCH(2,食材マスタ!$Z$10:$Z$309,0),"") -> 3
B11: =IF(O11="","",3) -> 3 | C11: =IF($O11="","",INDEX(食材マスタ!$C$10:$C$309,$O11)) -> DY-001 | D11: =IF($O11="","",INDEX(食材マスタ!$D$10:$D$309,$O11)) -> 牛乳 | E11: =IF($O11="","",INDEX(食材マスタ!$E$10:$E$309,$O11)) -> 1L 成分無調整 | F11: =IF($O11="","",INDEX(食材マスタ!$J$10:$J$309,$O11)) -> ○○乳業 | G11: =IF($O11="","",INDEX(食材マスタ!$G$10:$G$309,$O11)) -> 冷蔵 | H11: =IF($O11="","",INDEX(食材マスタ!$P$10:$P$309,$O11)) -> 6 | I11: =IF($O11="","",INDEX(食材マスタ!$R$10:$R$309,$O11)) -> 6 | J11: =IF($O11="","",INDEX(食材マスタ!$U$10:$U$309,$O11)) -> 12 | K11: =IF($O11="","",INDEX(食材マスタ!$H$10:$H$309,$O11)) -> 本 | L11: =IF($O11="","",INDEX(食材マスタ!$K$10:$K$309,$O11)) -> 230 | M11: =IF(OR($O11="",L11="",J11=""),"",ROUND(J11*L11,0)) -> 2760 | N11: =IF($O11="","",INDEX(食材マスタ!$T$10:$T$309,$O11)) -> 要発注 | O11: =IFERROR(MATCH(3,食材マスタ!$Z$10:$Z$309,0),"") -> 5
B12: =IF(O12="","",4) -> 4 | C12: =IF($O12="","",INDEX(食材マスタ!$C$10:$C$309,$O12)) -> DY-002 | D12: =IF($O12="","",INDEX(食材マスタ!$D$10:$D$309,$O12)) -> 鶏卵 | E12: =IF($O12="","",INDEX(食材マスタ!$E$10:$E$309,$O12)) -> M 10個入 | F12: =IF($O12="","",INDEX(食材マスタ!$J$10:$J$309,$O12)) -> ○○養鶏 | G12: =IF($O12="","",INDEX(食材マスタ!$G$10:$G$309,$O12)) -> 冷蔵 | H12: =IF($O12="","",INDEX(食材マスタ!$P$10:$P$309,$O12)) -> 0 | I12: =IF($O12="","",INDEX(食材マスタ!$R$10:$R$309,$O12)) -> 4 | J12: =IF($O12="","",INDEX(食材マスタ!$U$10:$U$309,$O12)) -> 10 | K12: =IF($O12="","",INDEX(食材マスタ!$H$10:$H$309,$O12)) -> パック | L12: =IF($O12="","",INDEX(食材マスタ!$K$10:$K$309,$O12)) -> 280 | M12: =IF(OR($O12="",L12="",J12=""),"",ROUND(J12*L12,0)) -> 2800 | N12: =IF($O12="","",INDEX(食材マスタ!$T$10:$T$309,$O12)) -> 欠品 | O12: =IFERROR(MATCH(4,食材マスタ!$Z$10:$Z$309,0),"") -> 6
B13: =IF(O13="","",5) | C13: =IF($O13="","",INDEX(食材マスタ!$C$10:$C$309,$O13)) | D13: =IF($O13="","",INDEX(食材マスタ!$D$10:$D$309,$O13)) | E13: =IF($O13="","",INDEX(食材マスタ!$E$10:$E$309,$O13)) | F13: =IF($O13="","",INDEX(食材マスタ!$J$10:$J$309,$O13)) | G13: =IF($O13="","",INDEX(食材マスタ!$G$10:$G$309,$O13)) | H13: =IF($O13="","",INDEX(食材マスタ!$P$10:$P$309,$O13)) | I13: =IF($O13="","",INDEX(食材マスタ!$R$10:$R$309,$O13)) | J13: =IF($O13="","",INDEX(食材マスタ!$U$10:$U$309,$O13)) | K13: =IF($O13="","",INDEX(食材マスタ!$H$10:$H$309,$O13)) | L13: =IF($O13="","",INDEX(食材マスタ!$K$10:$K$309,$O13)) | M13: =IF(OR($O13="",L13="",J13=""),"",ROUND(J13*L13,0)) | N13: =IF($O13="","",INDEX(食材マスタ!$T$10:$T$309,$O13)) | O13: =IFERROR(MATCH(5,食材マスタ!$Z$10:$Z$309,0),"")
B14: =IF(O14="","",6) | C14: =IF($O14="","",INDEX(食材マスタ!$C$10:$C$309,$O14)) | D14: =IF($O14="","",INDEX(食材マスタ!$D$10:$D$309,$O14)) | E14: =IF($O14="","",INDEX(食材マスタ!$E$10:$E$309,$O14)) | F14: =IF($O14="","",INDEX(食材マスタ!$J$10:$J$309,$O14)) | G14: =IF($O14="","",INDEX(食材マスタ!$G$10:$G$309,$O14)) | H14: =IF($O14="","",INDEX(食材マスタ!$P$10:$P$309,$O14)) | I14: =IF($O14="","",INDEX(食材マスタ!$R$10:$R$309,$O14)) | J14: =IF($O14="","",INDEX(食材マスタ!$U$10:$U$309,$O14)) | K14: =IF($O14="","",INDEX(食材マスタ!$H$10:$H$309,$O14)) | L14: =IF($O14="","",INDEX(食材マスタ!$K$10:$K$309,$O14)) | M14: =IF(OR($O14="",L14="",J14=""),"",ROUND(J14*L14,0)) | N14: =IF($O14="","",INDEX(食材マスタ!$T$10:$T$309,$O14)) | O14: =IFERROR(MATCH(6,食材マスタ!$Z$10:$Z$309,0),"")
B15: =IF(O15="","",7) | C15: =IF($O15="","",INDEX(食材マスタ!$C$10:$C$309,$O15)) | D15: =IF($O15="","",INDEX(食材マスタ!$D$10:$D$309,$O15)) | E15: =IF($O15="","",INDEX(食材マスタ!$E$10:$E$309,$O15)) | F15: =IF($O15="","",INDEX(食材マスタ!$J$10:$J$309,$O15)) | G15: =IF($O15="","",INDEX(食材マスタ!$G$10:$G$309,$O15)) | H15: =IF($O15="","",INDEX(食材マスタ!$P$10:$P$309,$O15)) | I15: =IF($O15="","",INDEX(食材マスタ!$R$10:$R$309,$O15)) | J15: =IF($O15="","",INDEX(食材マスタ!$U$10:$U$309,$O15)) | K15: =IF($O15="","",INDEX(食材マスタ!$H$10:$H$309,$O15)) | L15: =IF($O15="","",INDEX(食材マスタ!$K$10:$K$309,$O15)) | M15: =IF(OR($O15="",L15="",J15=""),"",ROUND(J15*L15,0)) | N15: =IF($O15="","",INDEX(食材マスタ!$T$10:$T$309,$O15)) | O15: =IFERROR(MATCH(7,食材マスタ!$Z$10:$Z$309,0),"")
B16: =IF(O16="","",8) | C16: =IF($O16="","",INDEX(食材マスタ!$C$10:$C$309,$O16)) | D16: =IF($O16="","",INDEX(食材マスタ!$D$10:$D$309,$O16)) | E16: =IF($O16="","",INDEX(食材マスタ!$E$10:$E$309,$O16)) | F16: =IF($O16="","",INDEX(食材マスタ!$J$10:$J$309,$O16)) | G16: =IF($O16="","",INDEX(食材マスタ!$G$10:$G$309,$O16)) | H16: =IF($O16="","",INDEX(食材マスタ!$P$10:$P$309,$O16)) | I16: =IF($O16="","",INDEX(食材マスタ!$R$10:$R$309,$O16)) | J16: =IF($O16="","",INDEX(食材マスタ!$U$10:$U$309,$O16)) | K16: =IF($O16="","",INDEX(食材マスタ!$H$10:$H$309,$O16)) | L16: =IF($O16="","",INDEX(食材マスタ!$K$10:$K$309,$O16)) | M16: =IF(OR($O16="",L16="",J16=""),"",ROUND(J16*L16,0)) | N16: =IF($O16="","",INDEX(食材マスタ!$T$10:$T$309,$O16)) | O16: =IFERROR(MATCH(8,食材マスタ!$Z$10:$Z$309,0),"")
B17: =IF(O17="","",9) | C17: =IF($O17="","",INDEX(食材マスタ!$C$10:$C$309,$O17)) | D17: =IF($O17="","",INDEX(食材マスタ!$D$10:$D$309,$O17)) | E17: =IF($O17="","",INDEX(食材マスタ!$E$10:$E$309,$O17)) | F17: =IF($O17="","",INDEX(食材マスタ!$J$10:$J$309,$O17)) | G17: =IF($O17="","",INDEX(食材マスタ!$G$10:$G$309,$O17)) | H17: =IF($O17="","",INDEX(食材マスタ!$P$10:$P$309,$O17)) | I17: =IF($O17="","",INDEX(食材マスタ!$R$10:$R$309,$O17)) | J17: =IF($O17="","",INDEX(食材マスタ!$U$10:$U$309,$O17)) | K17: =IF($O17="","",INDEX(食材マスタ!$H$10:$H$309,$O17)) | L17: =IF($O17="","",INDEX(食材マスタ!$K$10:$K$309,$O17)) | M17: =IF(OR($O17="",L17="",J17=""),"",ROUND(J17*L17,0)) | N17: =IF($O17="","",INDEX(食材マスタ!$T$10:$T$309,$O17)) | O17: =IFERROR(MATCH(9,食材マスタ!$Z$10:$Z$309,0),"")
B18: =IF(O18="","",10) | C18: =IF($O18="","",INDEX(食材マスタ!$C$10:$C$309,$O18)) | D18: =IF($O18="","",INDEX(食材マスタ!$D$10:$D$309,$O18)) | E18: =IF($O18="","",INDEX(食材マスタ!$E$10:$E$309,$O18)) | F18: =IF($O18="","",INDEX(食材マスタ!$J$10:$J$309,$O18)) | G18: =IF($O18="","",INDEX(食材マスタ!$G$10:$G$309,$O18)) | H18: =IF($O18="","",INDEX(食材マスタ!$P$10:$P$309,$O18)) | I18: =IF($O18="","",INDEX(食材マスタ!$R$10:$R$309,$O18)) | J18: =IF($O18="","",INDEX(食材マスタ!$U$10:$U$309,$O18)) | K18: =IF($O18="","",INDEX(食材マスタ!$H$10:$H$309,$O18)) | L18: =IF($O18="","",INDEX(食材マスタ!$K$10:$K$309,$O18)) | M18: =IF(OR($O18="",L18="",J18=""),"",ROUND(J18*L18,0)) | N18: =IF($O18="","",INDEX(食材マスタ!$T$10:$T$309,$O18)) | O18: =IFERROR(MATCH(10,食材マスタ!$Z$10:$Z$309,0),"")
B19: =IF(O19="","",11) | C19: =IF($O19="","",INDEX(食材マスタ!$C$10:$C$309,$O19)) | D19: =IF($O19="","",INDEX(食材マスタ!$D$10:$D$309,$O19)) | E19: =IF($O19="","",INDEX(食材マスタ!$E$10:$E$309,$O19)) | F19: =IF($O19="","",INDEX(食材マスタ!$J$10:$J$309,$O19)) | G19: =IF($O19="","",INDEX(食材マスタ!$G$10:$G$309,$O19)) | H19: =IF($O19="","",INDEX(食材マスタ!$P$10:$P$309,$O19)) | I19: =IF($O19="","",INDEX(食材マスタ!$R$10:$R$309,$O19)) | J19: =IF($O19="","",INDEX(食材マスタ!$U$10:$U$309,$O19)) | K19: =IF($O19="","",INDEX(食材マスタ!$H$10:$H$309,$O19)) | L19: =IF($O19="","",INDEX(食材マスタ!$K$10:$K$309,$O19)) | M19: =IF(OR($O19="",L19="",J19=""),"",ROUND(J19*L19,0)) | N19: =IF($O19="","",INDEX(食材マスタ!$T$10:$T$309,$O19)) | O19: =IFERROR(MATCH(11,食材マスタ!$Z$10:$Z$309,0),"")
B20: =IF(O20="","",12) | C20: =IF($O20="","",INDEX(食材マスタ!$C$10:$C$309,$O20)) | D20: =IF($O20="","",INDEX(食材マスタ!$D$10:$D$309,$O20)) | E20: =IF($O20="","",INDEX(食材マスタ!$E$10:$E$309,$O20)) | F20: =IF($O20="","",INDEX(食材マスタ!$J$10:$J$309,$O20)) | G20: =IF($O20="","",INDEX(食材マスタ!$G$10:$G$309,$O20)) | H20: =IF($O20="","",INDEX(食材マスタ!$P$10:$P$309,$O20)) | I20: =IF($O20="","",INDEX(食材マスタ!$R$10:$R$309,$O20)) | J20: =IF($O20="","",INDEX(食材マスタ!$U$10:$U$309,$O20)) | K20: =IF($O20="","",INDEX(食材マスタ!$H$10:$H$309,$O20)) | L20: =IF($O20="","",INDEX(食材マスタ!$K$10:$K$309,$O20)) | M20: =IF(OR($O20="",L20="",J20=""),"",ROUND(J20*L20,0)) | N20: =IF($O20="","",INDEX(食材マスタ!$T$10:$T$309,$O20)) | O20: =IFERROR(MATCH(12,食材マスタ!$Z$10:$Z$309,0),"")
B21: =IF(O21="","",13) | C21: =IF($O21="","",INDEX(食材マスタ!$C$10:$C$309,$O21)) | D21: =IF($O21="","",INDEX(食材マスタ!$D$10:$D$309,$O21)) | E21: =IF($O21="","",INDEX(食材マスタ!$E$10:$E$309,$O21)) | F21: =IF($O21="","",INDEX(食材マスタ!$J$10:$J$309,$O21)) | G21: =IF($O21="","",INDEX(食材マスタ!$G$10:$G$309,$O21)) | H21: =IF($O21="","",INDEX(食材マスタ!$P$10:$P$309,$O21)) | I21: =IF($O21="","",INDEX(食材マスタ!$R$10:$R$309,$O21)) | J21: =IF($O21="","",INDEX(食材マスタ!$U$10:$U$309,$O21)) | K21: =IF($O21="","",INDEX(食材マスタ!$H$10:$H$309,$O21)) | L21: =IF($O21="","",INDEX(食材マスタ!$K$10:$K$309,$O21)) | M21: =IF(OR($O21="",L21="",J21=""),"",ROUND(J21*L21,0)) | N21: =IF($O21="","",INDEX(食材マスタ!$T$10:$T$309,$O21)) | O21: =IFERROR(MATCH(13,食材マスタ!$Z$10:$Z$309,0),"")
B22: =IF(O22="","",14) | C22: =IF($O22="","",INDEX(食材マスタ!$C$10:$C$309,$O22)) | D22: =IF($O22="","",INDEX(食材マスタ!$D$10:$D$309,$O22)) | E22: =IF($O22="","",INDEX(食材マスタ!$E$10:$E$309,$O22)) | F22: =IF($O22="","",INDEX(食材マスタ!$J$10:$J$309,$O22)) | G22: =IF($O22="","",INDEX(食材マスタ!$G$10:$G$309,$O22)) | H22: =IF($O22="","",INDEX(食材マスタ!$P$10:$P$309,$O22)) | I22: =IF($O22="","",INDEX(食材マスタ!$R$10:$R$309,$O22)) | J22: =IF($O22="","",INDEX(食材マスタ!$U$10:$U$309,$O22)) | K22: =IF($O22="","",INDEX(食材マスタ!$H$10:$H$309,$O22)) | L22: =IF($O22="","",INDEX(食材マスタ!$K$10:$K$309,$O22)) | M22: =IF(OR($O22="",L22="",J22=""),"",ROUND(J22*L22,0)) | N22: =IF($O22="","",INDEX(食材マスタ!$T$10:$T$309,$O22)) | O22: =IFERROR(MATCH(14,食材マスタ!$Z$10:$Z$309,0),"")
B23: =IF(O23="","",15) | C23: =IF($O23="","",INDEX(食材マスタ!$C$10:$C$309,$O23)) | D23: =IF($O23="","",INDEX(食材マスタ!$D$10:$D$309,$O23)) | E23: =IF($O23="","",INDEX(食材マスタ!$E$10:$E$309,$O23)) | F23: =IF($O23="","",INDEX(食材マスタ!$J$10:$J$309,$O23)) | G23: =IF($O23="","",INDEX(食材マスタ!$G$10:$G$309,$O23)) | H23: =IF($O23="","",INDEX(食材マスタ!$P$10:$P$309,$O23)) | I23: =IF($O23="","",INDEX(食材マスタ!$R$10:$R$309,$O23)) | J23: =IF($O23="","",INDEX(食材マスタ!$U$10:$U$309,$O23)) | K23: =IF($O23="","",INDEX(食材マスタ!$H$10:$H$309,$O23)) | L23: =IF($O23="","",INDEX(食材マスタ!$K$10:$K$309,$O23)) | M23: =IF(OR($O23="",L23="",J23=""),"",ROUND(J23*L23,0)) | N23: =IF($O23="","",INDEX(食材マスタ!$T$10:$T$309,$O23)) | O23: =IFERROR(MATCH(15,食材マスタ!$Z$10:$Z$309,0),"")
B24: =IF(O24="","",16) | C24: =IF($O24="","",INDEX(食材マスタ!$C$10:$C$309,$O24)) | D24: =IF($O24="","",INDEX(食材マスタ!$D$10:$D$309,$O24)) | E24: =IF($O24="","",INDEX(食材マスタ!$E$10:$E$309,$O24)) | F24: =IF($O24="","",INDEX(食材マスタ!$J$10:$J$309,$O24)) | G24: =IF($O24="","",INDEX(食材マスタ!$G$10:$G$309,$O24)) | H24: =IF($O24="","",INDEX(食材マスタ!$P$10:$P$309,$O24)) | I24: =IF($O24="","",INDEX(食材マスタ!$R$10:$R$309,$O24)) | J24: =IF($O24="","",INDEX(食材マスタ!$U$10:$U$309,$O24)) | K24: =IF($O24="","",INDEX(食材マスタ!$H$10:$H$309,$O24)) | L24: =IF($O24="","",INDEX(食材マスタ!$K$10:$K$309,$O24)) | M24: =IF(OR($O24="",L24="",J24=""),"",ROUND(J24*L24,0)) | N24: =IF($O24="","",INDEX(食材マスタ!$T$10:$T$309,$O24)) | O24: =IFERROR(MATCH(16,食材マスタ!$Z$10:$Z$309,0),"")
B25: =IF(O25="","",17) | C25: =IF($O25="","",INDEX(食材マスタ!$C$10:$C$309,$O25)) | D25: =IF($O25="","",INDEX(食材マスタ!$D$10:$D$309,$O25)) | E25: =IF($O25="","",INDEX(食材マスタ!$E$10:$E$309,$O25)) | F25: =IF($O25="","",INDEX(食材マスタ!$J$10:$J$309,$O25)) | G25: =IF($O25="","",INDEX(食材マスタ!$G$10:$G$309,$O25)) | H25: =IF($O25="","",INDEX(食材マスタ!$P$10:$P$309,$O25)) | I25: =IF($O25="","",INDEX(食材マスタ!$R$10:$R$309,$O25)) | J25: =IF($O25="","",INDEX(食材マスタ!$U$10:$U$309,$O25)) | K25: =IF($O25="","",INDEX(食材マスタ!$H$10:$H$309,$O25)) | L25: =IF($O25="","",INDEX(食材マスタ!$K$10:$K$309,$O25)) | M25: =IF(OR($O25="",L25="",J25=""),"",ROUND(J25*L25,0)) | N25: =IF($O25="","",INDEX(食材マスタ!$T$10:$T$309,$O25)) | O25: =IFERROR(MATCH(17,食材マスタ!$Z$10:$Z$309,0),"")
B26: =IF(O26="","",18) | C26: =IF($O26="","",INDEX(食材マスタ!$C$10:$C$309,$O26)) | D26: =IF($O26="","",INDEX(食材マスタ!$D$10:$D$309,$O26)) | E26: =IF($O26="","",INDEX(食材マスタ!$E$10:$E$309,$O26)) | F26: =IF($O26="","",INDEX(食材マスタ!$J$10:$J$309,$O26)) | G26: =IF($O26="","",INDEX(食材マスタ!$G$10:$G$309,$O26)) | H26: =IF($O26="","",INDEX(食材マスタ!$P$10:$P$309,$O26)) | I26: =IF($O26="","",INDEX(食材マスタ!$R$10:$R$309,$O26)) | J26: =IF($O26="","",INDEX(食材マスタ!$U$10:$U$309,$O26)) | K26: =IF($O26="","",INDEX(食材マスタ!$H$10:$H$309,$O26)) | L26: =IF($O26="","",INDEX(食材マスタ!$K$10:$K$309,$O26)) | M26: =IF(OR($O26="",L26="",J26=""),"",ROUND(J26*L26,0)) | N26: =IF($O26="","",INDEX(食材マスタ!$T$10:$T$309,$O26)) | O26: =IFERROR(MATCH(18,食材マスタ!$Z$10:$Z$309,0),"")
B27: =IF(O27="","",19) | C27: =IF($O27="","",INDEX(食材マスタ!$C$10:$C$309,$O27)) | D27: =IF($O27="","",INDEX(食材マスタ!$D$10:$D$309,$O27)) | E27: =IF($O27="","",INDEX(食材マスタ!$E$10:$E$309,$O27)) | F27: =IF($O27="","",INDEX(食材マスタ!$J$10:$J$309,$O27)) | G27: =IF($O27="","",INDEX(食材マスタ!$G$10:$G$309,$O27)) | H27: =IF($O27="","",INDEX(食材マスタ!$P$10:$P$309,$O27)) | I27: =IF($O27="","",INDEX(食材マスタ!$R$10:$R$309,$O27)) | J27: =IF($O27="","",INDEX(食材マスタ!$U$10:$U$309,$O27)) | K27: =IF($O27="","",INDEX(食材マスタ!$H$10:$H$309,$O27)) | L27: =IF($O27="","",INDEX(食材マスタ!$K$10:$K$309,$O27)) | M27: =IF(OR($O27="",L27="",J27=""),"",ROUND(J27*L27,0)) | N27: =IF($O27="","",INDEX(食材マスタ!$T$10:$T$309,$O27)) | O27: =IFERROR(MATCH(19,食材マスタ!$Z$10:$Z$309,0),"")
B28: =IF(O28="","",20) | C28: =IF($O28="","",INDEX(食材マスタ!$C$10:$C$309,$O28)) | D28: =IF($O28="","",INDEX(食材マスタ!$D$10:$D$309,$O28)) | E28: =IF($O28="","",INDEX(食材マスタ!$E$10:$E$309,$O28)) | F28: =IF($O28="","",INDEX(食材マスタ!$J$10:$J$309,$O28)) | G28: =IF($O28="","",INDEX(食材マスタ!$G$10:$G$309,$O28)) | H28: =IF($O28="","",INDEX(食材マスタ!$P$10:$P$309,$O28)) | I28: =IF($O28="","",INDEX(食材マスタ!$R$10:$R$309,$O28)) | J28: =IF($O28="","",INDEX(食材マスタ!$U$10:$U$309,$O28)) | K28: =IF($O28="","",INDEX(食材マスタ!$H$10:$H$309,$O28)) | L28: =IF($O28="","",INDEX(食材マスタ!$K$10:$K$309,$O28)) | M28: =IF(OR($O28="",L28="",J28=""),"",ROUND(J28*L28,0)) | N28: =IF($O28="","",INDEX(食材マスタ!$T$10:$T$309,$O28)) | O28: =IFERROR(MATCH(20,食材マスタ!$Z$10:$Z$309,0),"")
B29: =IF(O29="","",21) | C29: =IF($O29="","",INDEX(食材マスタ!$C$10:$C$309,$O29)) | D29: =IF($O29="","",INDEX(食材マスタ!$D$10:$D$309,$O29)) | E29: =IF($O29="","",INDEX(食材マスタ!$E$10:$E$309,$O29)) | F29: =IF($O29="","",INDEX(食材マスタ!$J$10:$J$309,$O29)) | G29: =IF($O29="","",INDEX(食材マスタ!$G$10:$G$309,$O29)) | H29: =IF($O29="","",INDEX(食材マスタ!$P$10:$P$309,$O29)) | I29: =IF($O29="","",INDEX(食材マスタ!$R$10:$R$309,$O29)) | J29: =IF($O29="","",INDEX(食材マスタ!$U$10:$U$309,$O29)) | K29: =IF($O29="","",INDEX(食材マスタ!$H$10:$H$309,$O29)) | L29: =IF($O29="","",INDEX(食材マスタ!$K$10:$K$309,$O29)) | M29: =IF(OR($O29="",L29="",J29=""),"",ROUND(J29*L29,0)) | N29: =IF($O29="","",INDEX(食材マスタ!$T$10:$T$309,$O29)) | O29: =IFERROR(MATCH(21,食材マスタ!$Z$10:$Z$309,0),"")
B30: =IF(O30="","",22) | C30: =IF($O30="","",INDEX(食材マスタ!$C$10:$C$309,$O30)) | D30: =IF($O30="","",INDEX(食材マスタ!$D$10:$D$309,$O30)) | E30: =IF($O30="","",INDEX(食材マスタ!$E$10:$E$309,$O30)) | F30: =IF($O30="","",INDEX(食材マスタ!$J$10:$J$309,$O30)) | G30: =IF($O30="","",INDEX(食材マスタ!$G$10:$G$309,$O30)) | H30: =IF($O30="","",INDEX(食材マスタ!$P$10:$P$309,$O30)) | I30: =IF($O30="","",INDEX(食材マスタ!$R$10:$R$309,$O30)) | J30: =IF($O30="","",INDEX(食材マスタ!$U$10:$U$309,$O30)) | K30: =IF($O30="","",INDEX(食材マスタ!$H$10:$H$309,$O30)) | L30: =IF($O30="","",INDEX(食材マスタ!$K$10:$K$309,$O30)) | M30: =IF(OR($O30="",L30="",J30=""),"",ROUND(J30*L30,0)) | N30: =IF($O30="","",INDEX(食材マスタ!$T$10:$T$309,$O30)) | O30: =IFERROR(MATCH(22,食材マスタ!$Z$10:$Z$309,0),"")
B31: =IF(O31="","",23) | C31: =IF($O31="","",INDEX(食材マスタ!$C$10:$C$309,$O31)) | D31: =IF($O31="","",INDEX(食材マスタ!$D$10:$D$309,$O31)) | E31: =IF($O31="","",INDEX(食材マスタ!$E$10:$E$309,$O31)) | F31: =IF($O31="","",INDEX(食材マスタ!$J$10:$J$309,$O31)) | G31: =IF($O31="","",INDEX(食材マスタ!$G$10:$G$309,$O31)) | H31: =IF($O31="","",INDEX(食材マスタ!$P$10:$P$309,$O31)) | I31: =IF($O31="","",INDEX(食材マスタ!$R$10:$R$309,$O31)) | J31: =IF($O31="","",INDEX(食材マスタ!$U$10:$U$309,$O31)) | K31: =IF($O31="","",INDEX(食材マスタ!$H$10:$H$309,$O31)) | L31: =IF($O31="","",INDEX(食材マスタ!$K$10:$K$309,$O31)) | M31: =IF(OR($O31="",L31="",J31=""),"",ROUND(J31*L31,0)) | N31: =IF($O31="","",INDEX(食材マスタ!$T$10:$T$309,$O31)) | O31: =IFERROR(MATCH(23,食材マスタ!$Z$10:$Z$309,0),"")
B32: =IF(O32="","",24) | C32: =IF($O32="","",INDEX(食材マスタ!$C$10:$C$309,$O32)) | D32: =IF($O32="","",INDEX(食材マスタ!$D$10:$D$309,$O32)) | E32: =IF($O32="","",INDEX(食材マスタ!$E$10:$E$309,$O32)) | F32: =IF($O32="","",INDEX(食材マスタ!$J$10:$J$309,$O32)) | G32: =IF($O32="","",INDEX(食材マスタ!$G$10:$G$309,$O32)) | H32: =IF($O32="","",INDEX(食材マスタ!$P$10:$P$309,$O32)) | I32: =IF($O32="","",INDEX(食材マスタ!$R$10:$R$309,$O32)) | J32: =IF($O32="","",INDEX(食材マスタ!$U$10:$U$309,$O32)) | K32: =IF($O32="","",INDEX(食材マスタ!$H$10:$H$309,$O32)) | L32: =IF($O32="","",INDEX(食材マスタ!$K$10:$K$309,$O32)) | M32: =IF(OR($O32="",L32="",J32=""),"",ROUND(J32*L32,0)) | N32: =IF($O32="","",INDEX(食材マスタ!$T$10:$T$309,$O32)) | O32: =IFERROR(MATCH(24,食材マスタ!$Z$10:$Z$309,0),"")
B33: =IF(O33="","",25) | C33: =IF($O33="","",INDEX(食材マスタ!$C$10:$C$309,$O33)) | D33: =IF($O33="","",INDEX(食材マスタ!$D$10:$D$309,$O33)) | E33: =IF($O33="","",INDEX(食材マスタ!$E$10:$E$309,$O33)) | F33: =IF($O33="","",INDEX(食材マスタ!$J$10:$J$309,$O33)) | G33: =IF($O33="","",INDEX(食材マスタ!$G$10:$G$309,$O33)) | H33: =IF($O33="","",INDEX(食材マスタ!$P$10:$P$309,$O33)) | I33: =IF($O33="","",INDEX(食材マスタ!$R$10:$R$309,$O33)) | J33: =IF($O33="","",INDEX(食材マスタ!$U$10:$U$309,$O33)) | K33: =IF($O33="","",INDEX(食材マスタ!$H$10:$H$309,$O33)) | L33: =IF($O33="","",INDEX(食材マスタ!$K$10:$K$309,$O33)) | M33: =IF(OR($O33="",L33="",J33=""),"",ROUND(J33*L33,0)) | N33: =IF($O33="","",INDEX(食材マスタ!$T$10:$T$309,$O33)) | O33: =IFERROR(MATCH(25,食材マスタ!$Z$10:$Z$309,0),"")
B34: =IF(O34="","",26) | C34: =IF($O34="","",INDEX(食材マスタ!$C$10:$C$309,$O34)) | D34: =IF($O34="","",INDEX(食材マスタ!$D$10:$D$309,$O34)) | E34: =IF($O34="","",INDEX(食材マスタ!$E$10:$E$309,$O34)) | F34: =IF($O34="","",INDEX(食材マスタ!$J$10:$J$309,$O34)) | G34: =IF($O34="","",INDEX(食材マスタ!$G$10:$G$309,$O34)) | H34: =IF($O34="","",INDEX(食材マスタ!$P$10:$P$309,$O34)) | I34: =IF($O34="","",INDEX(食材マスタ!$R$10:$R$309,$O34)) | J34: =IF($O34="","",INDEX(食材マスタ!$U$10:$U$309,$O34)) | K34: =IF($O34="","",INDEX(食材マスタ!$H$10:$H$309,$O34)) | L34: =IF($O34="","",INDEX(食材マスタ!$K$10:$K$309,$O34)) | M34: =IF(OR($O34="",L34="",J34=""),"",ROUND(J34*L34,0)) | N34: =IF($O34="","",INDEX(食材マスタ!$T$10:$T$309,$O34)) | O34: =IFERROR(MATCH(26,食材マスタ!$Z$10:$Z$309,0),"")
B35: =IF(O35="","",27) | C35: =IF($O35="","",INDEX(食材マスタ!$C$10:$C$309,$O35)) | D35: =IF($O35="","",INDEX(食材マスタ!$D$10:$D$309,$O35)) | E35: =IF($O35="","",INDEX(食材マスタ!$E$10:$E$309,$O35)) | F35: =IF($O35="","",INDEX(食材マスタ!$J$10:$J$309,$O35)) | G35: =IF($O35="","",INDEX(食材マスタ!$G$10:$G$309,$O35)) | H35: =IF($O35="","",INDEX(食材マスタ!$P$10:$P$309,$O35)) | I35: =IF($O35="","",INDEX(食材マスタ!$R$10:$R$309,$O35)) | J35: =IF($O35="","",INDEX(食材マスタ!$U$10:$U$309,$O35)) | K35: =IF($O35="","",INDEX(食材マスタ!$H$10:$H$309,$O35)) | L35: =IF($O35="","",INDEX(食材マスタ!$K$10:$K$309,$O35)) | M35: =IF(OR($O35="",L35="",J35=""),"",ROUND(J35*L35,0)) | N35: =IF($O35="","",INDEX(食材マスタ!$T$10:$T$309,$O35)) | O35: =IFERROR(MATCH(27,食材マスタ!$Z$10:$Z$309,0),"")
B36: =IF(O36="","",28) | C36: =IF($O36="","",INDEX(食材マスタ!$C$10:$C$309,$O36)) | D36: =IF($O36="","",INDEX(食材マスタ!$D$10:$D$309,$O36)) | E36: =IF($O36="","",INDEX(食材マスタ!$E$10:$E$309,$O36)) | F36: =IF($O36="","",INDEX(食材マスタ!$J$10:$J$309,$O36)) | G36: =IF($O36="","",INDEX(食材マスタ!$G$10:$G$309,$O36)) | H36: =IF($O36="","",INDEX(食材マスタ!$P$10:$P$309,$O36)) | I36: =IF($O36="","",INDEX(食材マスタ!$R$10:$R$309,$O36)) | J36: =IF($O36="","",INDEX(食材マスタ!$U$10:$U$309,$O36)) | K36: =IF($O36="","",INDEX(食材マスタ!$H$10:$H$309,$O36)) | L36: =IF($O36="","",INDEX(食材マスタ!$K$10:$K$309,$O36)) | M36: =IF(OR($O36="",L36="",J36=""),"",ROUND(J36*L36,0)) | N36: =IF($O36="","",INDEX(食材マスタ!$T$10:$T$309,$O36)) | O36: =IFERROR(MATCH(28,食材マスタ!$Z$10:$Z$309,0),"")
B37: =IF(O37="","",29) | C37: =IF($O37="","",INDEX(食材マスタ!$C$10:$C$309,$O37)) | D37: =IF($O37="","",INDEX(食材マスタ!$D$10:$D$309,$O37)) | E37: =IF($O37="","",INDEX(食材マスタ!$E$10:$E$309,$O37)) | F37: =IF($O37="","",INDEX(食材マスタ!$J$10:$J$309,$O37)) | G37: =IF($O37="","",INDEX(食材マスタ!$G$10:$G$309,$O37)) | H37: =IF($O37="","",INDEX(食材マスタ!$P$10:$P$309,$O37)) | I37: =IF($O37="","",INDEX(食材マスタ!$R$10:$R$309,$O37)) | J37: =IF($O37="","",INDEX(食材マスタ!$U$10:$U$309,$O37)) | K37: =IF($O37="","",INDEX(食材マスタ!$H$10:$H$309,$O37)) | L37: =IF($O37="","",INDEX(食材マスタ!$K$10:$K$309,$O37)) | M37: =IF(OR($O37="",L37="",J37=""),"",ROUND(J37*L37,0)) | N37: =IF($O37="","",INDEX(食材マスタ!$T$10:$T$309,$O37)) | O37: =IFERROR(MATCH(29,食材マスタ!$Z$10:$Z$309,0),"")
B38: =IF(O38="","",30) | C38: =IF($O38="","",INDEX(食材マスタ!$C$10:$C$309,$O38)) | D38: =IF($O38="","",INDEX(食材マスタ!$D$10:$D$309,$O38)) | E38: =IF($O38="","",INDEX(食材マスタ!$E$10:$E$309,$O38)) | F38: =IF($O38="","",INDEX(食材マスタ!$J$10:$J$309,$O38)) | G38: =IF($O38="","",INDEX(食材マスタ!$G$10:$G$309,$O38)) | H38: =IF($O38="","",INDEX(食材マスタ!$P$10:$P$309,$O38)) | I38: =IF($O38="","",INDEX(食材マスタ!$R$10:$R$309,$O38)) | J38: =IF($O38="","",INDEX(食材マスタ!$U$10:$U$309,$O38)) | K38: =IF($O38="","",INDEX(食材マスタ!$H$10:$H$309,$O38)) | L38: =IF($O38="","",INDEX(食材マスタ!$K$10:$K$309,$O38)) | M38: =IF(OR($O38="",L38="",J38=""),"",ROUND(J38*L38,0)) | N38: =IF($O38="","",INDEX(食材マスタ!$T$10:$T$309,$O38)) | O38: =IFERROR(MATCH(30,食材マスタ!$Z$10:$Z$309,0),"")
B39: =IF(O39="","",31) | C39: =IF($O39="","",INDEX(食材マスタ!$C$10:$C$309,$O39)) | D39: =IF($O39="","",INDEX(食材マスタ!$D$10:$D$309,$O39)) | E39: =IF($O39="","",INDEX(食材マスタ!$E$10:$E$309,$O39)) | F39: =IF($O39="","",INDEX(食材マスタ!$J$10:$J$309,$O39)) | G39: =IF($O39="","",INDEX(食材マスタ!$G$10:$G$309,$O39)) | H39: =IF($O39="","",INDEX(食材マスタ!$P$10:$P$309,$O39)) | I39: =IF($O39="","",INDEX(食材マスタ!$R$10:$R$309,$O39)) | J39: =IF($O39="","",INDEX(食材マスタ!$U$10:$U$309,$O39)) | K39: =IF($O39="","",INDEX(食材マスタ!$H$10:$H$309,$O39)) | L39: =IF($O39="","",INDEX(食材マスタ!$K$10:$K$309,$O39)) | M39: =IF(OR($O39="",L39="",J39=""),"",ROUND(J39*L39,0)) | N39: =IF($O39="","",INDEX(食材マスタ!$T$10:$T$309,$O39)) | O39: =IFERROR(MATCH(31,食材マスタ!$Z$10:$Z$309,0),"")
B40: =IF(O40="","",32) | C40: =IF($O40="","",INDEX(食材マスタ!$C$10:$C$309,$O40)) | D40: =IF($O40="","",INDEX(食材マスタ!$D$10:$D$309,$O40)) | E40: =IF($O40="","",INDEX(食材マスタ!$E$10:$E$309,$O40)) | F40: =IF($O40="","",INDEX(食材マスタ!$J$10:$J$309,$O40)) | G40: =IF($O40="","",INDEX(食材マスタ!$G$10:$G$309,$O40)) | H40: =IF($O40="","",INDEX(食材マスタ!$P$10:$P$309,$O40)) | I40: =IF($O40="","",INDEX(食材マスタ!$R$10:$R$309,$O40)) | J40: =IF($O40="","",INDEX(食材マスタ!$U$10:$U$309,$O40)) | K40: =IF($O40="","",INDEX(食材マスタ!$H$10:$H$309,$O40)) | L40: =IF($O40="","",INDEX(食材マスタ!$K$10:$K$309,$O40)) | M40: =IF(OR($O40="",L40="",J40=""),"",ROUND(J40*L40,0)) | N40: =IF($O40="","",INDEX(食材マスタ!$T$10:$T$309,$O40)) | O40: =IFERROR(MATCH(32,食材マスタ!$Z$10:$Z$309,0),"")
B41: =IF(O41="","",33) | C41: =IF($O41="","",INDEX(食材マスタ!$C$10:$C$309,$O41)) | D41: =IF($O41="","",INDEX(食材マスタ!$D$10:$D$309,$O41)) | E41: =IF($O41="","",INDEX(食材マスタ!$E$10:$E$309,$O41)) | F41: =IF($O41="","",INDEX(食材マスタ!$J$10:$J$309,$O41)) | G41: =IF($O41="","",INDEX(食材マスタ!$G$10:$G$309,$O41)) | H41: =IF($O41="","",INDEX(食材マスタ!$P$10:$P$309,$O41)) | I41: =IF($O41="","",INDEX(食材マスタ!$R$10:$R$309,$O41)) | J41: =IF($O41="","",INDEX(食材マスタ!$U$10:$U$309,$O41)) | K41: =IF($O41="","",INDEX(食材マスタ!$H$10:$H$309,$O41)) | L41: =IF($O41="","",INDEX(食材マスタ!$K$10:$K$309,$O41)) | M41: =IF(OR($O41="",L41="",J41=""),"",ROUND(J41*L41,0)) | N41: =IF($O41="","",INDEX(食材マスタ!$T$10:$T$309,$O41)) | O41: =IFERROR(MATCH(33,食材マスタ!$Z$10:$Z$309,0),"")
B42: =IF(O42="","",34) | C42: =IF($O42="","",INDEX(食材マスタ!$C$10:$C$309,$O42)) | D42: =IF($O42="","",INDEX(食材マスタ!$D$10:$D$309,$O42)) | E42: =IF($O42="","",INDEX(食材マスタ!$E$10:$E$309,$O42)) | F42: =IF($O42="","",INDEX(食材マスタ!$J$10:$J$309,$O42)) | G42: =IF($O42="","",INDEX(食材マスタ!$G$10:$G$309,$O42)) | H42: =IF($O42="","",INDEX(食材マスタ!$P$10:$P$309,$O42)) | I42: =IF($O42="","",INDEX(食材マスタ!$R$10:$R$309,$O42)) | J42: =IF($O42="","",INDEX(食材マスタ!$U$10:$U$309,$O42)) | K42: =IF($O42="","",INDEX(食材マスタ!$H$10:$H$309,$O42)) | L42: =IF($O42="","",INDEX(食材マスタ!$K$10:$K$309,$O42)) | M42: =IF(OR($O42="",L42="",J42=""),"",ROUND(J42*L42,0)) | N42: =IF($O42="","",INDEX(食材マスタ!$T$10:$T$309,$O42)) | O42: =IFERROR(MATCH(34,食材マスタ!$Z$10:$Z$309,0),"")
B43: =IF(O43="","",35) | C43: =IF($O43="","",INDEX(食材マスタ!$C$10:$C$309,$O43)) | D43: =IF($O43="","",INDEX(食材マスタ!$D$10:$D$309,$O43)) | E43: =IF($O43="","",INDEX(食材マスタ!$E$10:$E$309,$O43)) | F43: =IF($O43="","",INDEX(食材マスタ!$J$10:$J$309,$O43)) | G43: =IF($O43="","",INDEX(食材マスタ!$G$10:$G$309,$O43)) | H43: =IF($O43="","",INDEX(食材マスタ!$P$10:$P$309,$O43)) | I43: =IF($O43="","",INDEX(食材マスタ!$R$10:$R$309,$O43)) | J43: =IF($O43="","",INDEX(食材マスタ!$U$10:$U$309,$O43)) | K43: =IF($O43="","",INDEX(食材マスタ!$H$10:$H$309,$O43)) | L43: =IF($O43="","",INDEX(食材マスタ!$K$10:$K$309,$O43)) | M43: =IF(OR($O43="",L43="",J43=""),"",ROUND(J43*L43,0)) | N43: =IF($O43="","",INDEX(食材マスタ!$T$10:$T$309,$O43)) | O43: =IFERROR(MATCH(35,食材マスタ!$Z$10:$Z$309,0),"")
B44: =IF(O44="","",36) | C44: =IF($O44="","",INDEX(食材マスタ!$C$10:$C$309,$O44)) | D44: =IF($O44="","",INDEX(食材マスタ!$D$10:$D$309,$O44)) | E44: =IF($O44="","",INDEX(食材マスタ!$E$10:$E$309,$O44)) | F44: =IF($O44="","",INDEX(食材マスタ!$J$10:$J$309,$O44)) | G44: =IF($O44="","",INDEX(食材マスタ!$G$10:$G$309,$O44)) | H44: =IF($O44="","",INDEX(食材マスタ!$P$10:$P$309,$O44)) | I44: =IF($O44="","",INDEX(食材マスタ!$R$10:$R$309,$O44)) | J44: =IF($O44="","",INDEX(食材マスタ!$U$10:$U$309,$O44)) | K44: =IF($O44="","",INDEX(食材マスタ!$H$10:$H$309,$O44)) | L44: =IF($O44="","",INDEX(食材マスタ!$K$10:$K$309,$O44)) | M44: =IF(OR($O44="",L44="",J44=""),"",ROUND(J44*L44,0)) | N44: =IF($O44="","",INDEX(食材マスタ!$T$10:$T$309,$O44)) | O44: =IFERROR(MATCH(36,食材マスタ!$Z$10:$Z$309,0),"")
B45: =IF(O45="","",37) | C45: =IF($O45="","",INDEX(食材マスタ!$C$10:$C$309,$O45)) | D45: =IF($O45="","",INDEX(食材マスタ!$D$10:$D$309,$O45)) | E45: =IF($O45="","",INDEX(食材マスタ!$E$10:$E$309,$O45)) | F45: =IF($O45="","",INDEX(食材マスタ!$J$10:$J$309,$O45)) | G45: =IF($O45="","",INDEX(食材マスタ!$G$10:$G$309,$O45)) | H45: =IF($O45="","",INDEX(食材マスタ!$P$10:$P$309,$O45)) | I45: =IF($O45="","",INDEX(食材マスタ!$R$10:$R$309,$O45)) | J45: =IF($O45="","",INDEX(食材マスタ!$U$10:$U$309,$O45)) | K45: =IF($O45="","",INDEX(食材マスタ!$H$10:$H$309,$O45)) | L45: =IF($O45="","",INDEX(食材マスタ!$K$10:$K$309,$O45)) | M45: =IF(OR($O45="",L45="",J45=""),"",ROUND(J45*L45,0)) | N45: =IF($O45="","",INDEX(食材マスタ!$T$10:$T$309,$O45)) | O45: =IFERROR(MATCH(37,食材マスタ!$Z$10:$Z$309,0),"")
B46: =IF(O46="","",38) | C46: =IF($O46="","",INDEX(食材マスタ!$C$10:$C$309,$O46)) | D46: =IF($O46="","",INDEX(食材マスタ!$D$10:$D$309,$O46)) | E46: =IF($O46="","",INDEX(食材マスタ!$E$10:$E$309,$O46)) | F46: =IF($O46="","",INDEX(食材マスタ!$J$10:$J$309,$O46)) | G46: =IF($O46="","",INDEX(食材マスタ!$G$10:$G$309,$O46)) | H46: =IF($O46="","",INDEX(食材マスタ!$P$10:$P$309,$O46)) | I46: =IF($O46="","",INDEX(食材マスタ!$R$10:$R$309,$O46)) | J46: =IF($O46="","",INDEX(食材マスタ!$U$10:$U$309,$O46)) | K46: =IF($O46="","",INDEX(食材マスタ!$H$10:$H$309,$O46)) | L46: =IF($O46="","",INDEX(食材マスタ!$K$10:$K$309,$O46)) | M46: =IF(OR($O46="",L46="",J46=""),"",ROUND(J46*L46,0)) | N46: =IF($O46="","",INDEX(食材マスタ!$T$10:$T$309,$O46)) | O46: =IFERROR(MATCH(38,食材マスタ!$Z$10:$Z$309,0),"")
B47: =IF(O47="","",39) | C47: =IF($O47="","",INDEX(食材マスタ!$C$10:$C$309,$O47)) | D47: =IF($O47="","",INDEX(食材マスタ!$D$10:$D$309,$O47)) | E47: =IF($O47="","",INDEX(食材マスタ!$E$10:$E$309,$O47)) | F47: =IF($O47="","",INDEX(食材マスタ!$J$10:$J$309,$O47)) | G47: =IF($O47="","",INDEX(食材マスタ!$G$10:$G$309,$O47)) | H47: =IF($O47="","",INDEX(食材マスタ!$P$10:$P$309,$O47)) | I47: =IF($O47="","",INDEX(食材マスタ!$R$10:$R$309,$O47)) | J47: =IF($O47="","",INDEX(食材マスタ!$U$10:$U$309,$O47)) | K47: =IF($O47="","",INDEX(食材マスタ!$H$10:$H$309,$O47)) | L47: =IF($O47="","",INDEX(食材マスタ!$K$10:$K$309,$O47)) | M47: =IF(OR($O47="",L47="",J47=""),"",ROUND(J47*L47,0)) | N47: =IF($O47="","",INDEX(食材マスタ!$T$10:$T$309,$O47)) | O47: =IFERROR(MATCH(39,食材マスタ!$Z$10:$Z$309,0),"")
B48: =IF(O48="","",40) | C48: =IF($O48="","",INDEX(食材マスタ!$C$10:$C$309,$O48)) | D48: =IF($O48="","",INDEX(食材マスタ!$D$10:$D$309,$O48)) | E48: =IF($O48="","",INDEX(食材マスタ!$E$10:$E$309,$O48)) | F48: =IF($O48="","",INDEX(食材マスタ!$J$10:$J$309,$O48)) | G48: =IF($O48="","",INDEX(食材マスタ!$G$10:$G$309,$O48)) | H48: =IF($O48="","",INDEX(食材マスタ!$P$10:$P$309,$O48)) | I48: =IF($O48="","",INDEX(食材マスタ!$R$10:$R$309,$O48)) | J48: =IF($O48="","",INDEX(食材マスタ!$U$10:$U$309,$O48)) | K48: =IF($O48="","",INDEX(食材マスタ!$H$10:$H$309,$O48)) | L48: =IF($O48="","",INDEX(食材マスタ!$K$10:$K$309,$O48)) | M48: =IF(OR($O48="",L48="",J48=""),"",ROUND(J48*L48,0)) | N48: =IF($O48="","",INDEX(食材マスタ!$T$10:$T$309,$O48)) | O48: =IFERROR(MATCH(40,食材マスタ!$Z$10:$Z$309,0),"")
B49: =IF(O49="","",41) | C49: =IF($O49="","",INDEX(食材マスタ!$C$10:$C$309,$O49)) | D49: =IF($O49="","",INDEX(食材マスタ!$D$10:$D$309,$O49)) | E49: =IF($O49="","",INDEX(食材マスタ!$E$10:$E$309,$O49)) | F49: =IF($O49="","",INDEX(食材マスタ!$J$10:$J$309,$O49)) | G49: =IF($O49="","",INDEX(食材マスタ!$G$10:$G$309,$O49)) | H49: =IF($O49="","",INDEX(食材マスタ!$P$10:$P$309,$O49)) | I49: =IF($O49="","",INDEX(食材マスタ!$R$10:$R$309,$O49)) | J49: =IF($O49="","",INDEX(食材マスタ!$U$10:$U$309,$O49)) | K49: =IF($O49="","",INDEX(食材マスタ!$H$10:$H$309,$O49)) | L49: =IF($O49="","",INDEX(食材マスタ!$K$10:$K$309,$O49)) | M49: =IF(OR($O49="",L49="",J49=""),"",ROUND(J49*L49,0)) | N49: =IF($O49="","",INDEX(食材マスタ!$T$10:$T$309,$O49)) | O49: =IFERROR(MATCH(41,食材マスタ!$Z$10:$Z$309,0),"")
B50: =IF(O50="","",42) | C50: =IF($O50="","",INDEX(食材マスタ!$C$10:$C$309,$O50)) | D50: =IF($O50="","",INDEX(食材マスタ!$D$10:$D$309,$O50)) | E50: =IF($O50="","",INDEX(食材マスタ!$E$10:$E$309,$O50)) | F50: =IF($O50="","",INDEX(食材マスタ!$J$10:$J$309,$O50)) | G50: =IF($O50="","",INDEX(食材マスタ!$G$10:$G$309,$O50)) | H50: =IF($O50="","",INDEX(食材マスタ!$P$10:$P$309,$O50)) | I50: =IF($O50="","",INDEX(食材マスタ!$R$10:$R$309,$O50)) | J50: =IF($O50="","",INDEX(食材マスタ!$U$10:$U$309,$O50)) | K50: =IF($O50="","",INDEX(食材マスタ!$H$10:$H$309,$O50)) | L50: =IF($O50="","",INDEX(食材マスタ!$K$10:$K$309,$O50)) | M50: =IF(OR($O50="",L50="",J50=""),"",ROUND(J50*L50,0)) | N50: =IF($O50="","",INDEX(食材マスタ!$T$10:$T$309,$O50)) | O50: =IFERROR(MATCH(42,食材マスタ!$Z$10:$Z$309,0),"")
B51: =IF(O51="","",43) | C51: =IF($O51="","",INDEX(食材マスタ!$C$10:$C$309,$O51)) | D51: =IF($O51="","",INDEX(食材マスタ!$D$10:$D$309,$O51)) | E51: =IF($O51="","",INDEX(食材マスタ!$E$10:$E$309,$O51)) | F51: =IF($O51="","",INDEX(食材マスタ!$J$10:$J$309,$O51)) | G51: =IF($O51="","",INDEX(食材マスタ!$G$10:$G$309,$O51)) | H51: =IF($O51="","",INDEX(食材マスタ!$P$10:$P$309,$O51)) | I51: =IF($O51="","",INDEX(食材マスタ!$R$10:$R$309,$O51)) | J51: =IF($O51="","",INDEX(食材マスタ!$U$10:$U$309,$O51)) | K51: =IF($O51="","",INDEX(食材マスタ!$H$10:$H$309,$O51)) | L51: =IF($O51="","",INDEX(食材マスタ!$K$10:$K$309,$O51)) | M51: =IF(OR($O51="",L51="",J51=""),"",ROUND(J51*L51,0)) | N51: =IF($O51="","",INDEX(食材マスタ!$T$10:$T$309,$O51)) | O51: =IFERROR(MATCH(43,食材マスタ!$Z$10:$Z$309,0),"")
B52: =IF(O52="","",44) | C52: =IF($O52="","",INDEX(食材マスタ!$C$10:$C$309,$O52)) | D52: =IF($O52="","",INDEX(食材マスタ!$D$10:$D$309,$O52)) | E52: =IF($O52="","",INDEX(食材マスタ!$E$10:$E$309,$O52)) | F52: =IF($O52="","",INDEX(食材マスタ!$J$10:$J$309,$O52)) | G52: =IF($O52="","",INDEX(食材マスタ!$G$10:$G$309,$O52)) | H52: =IF($O52="","",INDEX(食材マスタ!$P$10:$P$309,$O52)) | I52: =IF($O52="","",INDEX(食材マスタ!$R$10:$R$309,$O52)) | J52: =IF($O52="","",INDEX(食材マスタ!$U$10:$U$309,$O52)) | K52: =IF($O52="","",INDEX(食材マスタ!$H$10:$H$309,$O52)) | L52: =IF($O52="","",INDEX(食材マスタ!$K$10:$K$309,$O52)) | M52: =IF(OR($O52="",L52="",J52=""),"",ROUND(J52*L52,0)) | N52: =IF($O52="","",INDEX(食材マスタ!$T$10:$T$309,$O52)) | O52: =IFERROR(MATCH(44,食材マスタ!$Z$10:$Z$309,0),"")
B53: =IF(O53="","",45) | C53: =IF($O53="","",INDEX(食材マスタ!$C$10:$C$309,$O53)) | D53: =IF($O53="","",INDEX(食材マスタ!$D$10:$D$309,$O53)) | E53: =IF($O53="","",INDEX(食材マスタ!$E$10:$E$309,$O53)) | F53: =IF($O53="","",INDEX(食材マスタ!$J$10:$J$309,$O53)) | G53: =IF($O53="","",INDEX(食材マスタ!$G$10:$G$309,$O53)) | H53: =IF($O53="","",INDEX(食材マスタ!$P$10:$P$309,$O53)) | I53: =IF($O53="","",INDEX(食材マスタ!$R$10:$R$309,$O53)) | J53: =IF($O53="","",INDEX(食材マスタ!$U$10:$U$309,$O53)) | K53: =IF($O53="","",INDEX(食材マスタ!$H$10:$H$309,$O53)) | L53: =IF($O53="","",INDEX(食材マスタ!$K$10:$K$309,$O53)) | M53: =IF(OR($O53="",L53="",J53=""),"",ROUND(J53*L53,0)) | N53: =IF($O53="","",INDEX(食材マスタ!$T$10:$T$309,$O53)) | O53: =IFERROR(MATCH(45,食材マスタ!$Z$10:$Z$309,0),"")
B54: =IF(O54="","",46) | C54: =IF($O54="","",INDEX(食材マスタ!$C$10:$C$309,$O54)) | D54: =IF($O54="","",INDEX(食材マスタ!$D$10:$D$309,$O54)) | E54: =IF($O54="","",INDEX(食材マスタ!$E$10:$E$309,$O54)) | F54: =IF($O54="","",INDEX(食材マスタ!$J$10:$J$309,$O54)) | G54: =IF($O54="","",INDEX(食材マスタ!$G$10:$G$309,$O54)) | H54: =IF($O54="","",INDEX(食材マスタ!$P$10:$P$309,$O54)) | I54: =IF($O54="","",INDEX(食材マスタ!$R$10:$R$309,$O54)) | J54: =IF($O54="","",INDEX(食材マスタ!$U$10:$U$309,$O54)) | K54: =IF($O54="","",INDEX(食材マスタ!$H$10:$H$309,$O54)) | L54: =IF($O54="","",INDEX(食材マスタ!$K$10:$K$309,$O54)) | M54: =IF(OR($O54="",L54="",J54=""),"",ROUND(J54*L54,0)) | N54: =IF($O54="","",INDEX(食材マスタ!$T$10:$T$309,$O54)) | O54: =IFERROR(MATCH(46,食材マスタ!$Z$10:$Z$309,0),"")
B55: =IF(O55="","",47) | C55: =IF($O55="","",INDEX(食材マスタ!$C$10:$C$309,$O55)) | D55: =IF($O55="","",INDEX(食材マスタ!$D$10:$D$309,$O55)) | E55: =IF($O55="","",INDEX(食材マスタ!$E$10:$E$309,$O55)) | F55: =IF($O55="","",INDEX(食材マスタ!$J$10:$J$309,$O55)) | G55: =IF($O55="","",INDEX(食材マスタ!$G$10:$G$309,$O55)) | H55: =IF($O55="","",INDEX(食材マスタ!$P$10:$P$309,$O55)) | I55: =IF($O55="","",INDEX(食材マスタ!$R$10:$R$309,$O55)) | J55: =IF($O55="","",INDEX(食材マスタ!$U$10:$U$309,$O55)) | K55: =IF($O55="","",INDEX(食材マスタ!$H$10:$H$309,$O55)) | L55: =IF($O55="","",INDEX(食材マスタ!$K$10:$K$309,$O55)) | M55: =IF(OR($O55="",L55="",J55=""),"",ROUND(J55*L55,0)) | N55: =IF($O55="","",INDEX(食材マスタ!$T$10:$T$309,$O55)) | O55: =IFERROR(MATCH(47,食材マスタ!$Z$10:$Z$309,0),"")
B56: =IF(O56="","",48) | C56: =IF($O56="","",INDEX(食材マスタ!$C$10:$C$309,$O56)) | D56: =IF($O56="","",INDEX(食材マスタ!$D$10:$D$309,$O56)) | E56: =IF($O56="","",INDEX(食材マスタ!$E$10:$E$309,$O56)) | F56: =IF($O56="","",INDEX(食材マスタ!$J$10:$J$309,$O56)) | G56: =IF($O56="","",INDEX(食材マスタ!$G$10:$G$309,$O56)) | H56: =IF($O56="","",INDEX(食材マスタ!$P$10:$P$309,$O56)) | I56: =IF($O56="","",INDEX(食材マスタ!$R$10:$R$309,$O56)) | J56: =IF($O56="","",INDEX(食材マスタ!$U$10:$U$309,$O56)) | K56: =IF($O56="","",INDEX(食材マスタ!$H$10:$H$309,$O56)) | L56: =IF($O56="","",INDEX(食材マスタ!$K$10:$K$309,$O56)) | M56: =IF(OR($O56="",L56="",J56=""),"",ROUND(J56*L56,0)) | N56: =IF($O56="","",INDEX(食材マスタ!$T$10:$T$309,$O56)) | O56: =IFERROR(MATCH(48,食材マスタ!$Z$10:$Z$309,0),"")
B57: =IF(O57="","",49) | C57: =IF($O57="","",INDEX(食材マスタ!$C$10:$C$309,$O57)) | D57: =IF($O57="","",INDEX(食材マスタ!$D$10:$D$309,$O57)) | E57: =IF($O57="","",INDEX(食材マスタ!$E$10:$E$309,$O57)) | F57: =IF($O57="","",INDEX(食材マスタ!$J$10:$J$309,$O57)) | G57: =IF($O57="","",INDEX(食材マスタ!$G$10:$G$309,$O57)) | H57: =IF($O57="","",INDEX(食材マスタ!$P$10:$P$309,$O57)) | I57: =IF($O57="","",INDEX(食材マスタ!$R$10:$R$309,$O57)) | J57: =IF($O57="","",INDEX(食材マスタ!$U$10:$U$309,$O57)) | K57: =IF($O57="","",INDEX(食材マスタ!$H$10:$H$309,$O57)) | L57: =IF($O57="","",INDEX(食材マスタ!$K$10:$K$309,$O57)) | M57: =IF(OR($O57="",L57="",J57=""),"",ROUND(J57*L57,0)) | N57: =IF($O57="","",INDEX(食材マスタ!$T$10:$T$309,$O57)) | O57: =IFERROR(MATCH(49,食材マスタ!$Z$10:$Z$309,0),"")
B58: =IF(O58="","",50) | C58: =IF($O58="","",INDEX(食材マスタ!$C$10:$C$309,$O58)) | D58: =IF($O58="","",INDEX(食材マスタ!$D$10:$D$309,$O58)) | E58: =IF($O58="","",INDEX(食材マスタ!$E$10:$E$309,$O58)) | F58: =IF($O58="","",INDEX(食材マスタ!$J$10:$J$309,$O58)) | G58: =IF($O58="","",INDEX(食材マスタ!$G$10:$G$309,$O58)) | H58: =IF($O58="","",INDEX(食材マスタ!$P$10:$P$309,$O58)) | I58: =IF($O58="","",INDEX(食材マスタ!$R$10:$R$309,$O58)) | J58: =IF($O58="","",INDEX(食材マスタ!$U$10:$U$309,$O58)) | K58: =IF($O58="","",INDEX(食材マスタ!$H$10:$H$309,$O58)) | L58: =IF($O58="","",INDEX(食材マスタ!$K$10:$K$309,$O58)) | M58: =IF(OR($O58="",L58="",J58=""),"",ROUND(J58*L58,0)) | N58: =IF($O58="","",INDEX(食材マスタ!$T$10:$T$309,$O58)) | O58: =IFERROR(MATCH(50,食材マスタ!$Z$10:$Z$309,0),"")

Sheet 集計
A1: 他にも魅力的な情報がたっぷり！テンプレート倉庫
B2: 在庫・廃棄の集計
B4: 分類別（現在）
B5: 分類 | C5: 品目数 | D5: 在庫金額（円） | E5: 構成比 | F5: 要発注・欠品 | G5: 期限切れ・間近
B6: =IF(設定!B8="","",設定!B8) -> 肉類 | C6: =IF($B6="","",COUNTIF(食材マスタ!$F$10:$F$309,$B6)) -> 1 | D6: =IF($B6="","",SUMIFS(食材マスタ!$Q$10:$Q$309,食材マスタ!$F$10:$F$309,$B6)) -> 7350 | E6: =IF($B6="","",IFERROR(D6/$D$26,0)) -> 0.29682578 | F6: =IF($B6="","",COUNTIFS(食材マスタ!$F$10:$F$309,$B6,食材マスタ!$T$10:$T$309,"要発注")+COUNTIFS(食材マスタ!$F$10:$F$309,$B6,食材マスタ!$T$10:$T$309,"欠品")) -> 0 | G6: =IF($B6="","",COUNTIFS(食材マスタ!$F$10:$F$309,$B6,食材マスタ!$W$10:$W$309,"期限切れ")+COUNTIFS(食材マスタ!$F$10:$F$309,$B6,食材マスタ!$W$10:$W$309,"期限間近")) -> 1
B7: =IF(設定!B9="","",設定!B9) -> 魚介類 | C7: =IF($B7="","",COUNTIF(食材マスタ!$F$10:$F$309,$B7)) -> 1 | D7: =IF($B7="","",SUMIFS(食材マスタ!$Q$10:$Q$309,食材マスタ!$F$10:$F$309,$B7)) -> 5600 | E7: =IF($B7="","",IFERROR(D7/$D$26,0)) -> 0.22615298 | F7: =IF($B7="","",COUNTIFS(食材マスタ!$F$10:$F$309,$B7,食材マスタ!$T$10:$T$309,"要発注")+COUNTIFS(食材マスタ!$F$10:$F$309,$B7,食材マスタ!$T$10:$T$309,"欠品")) -> 1 | G7: =IF($B7="","",COUNTIFS(食材マスタ!$F$10:$F$309,$B7,食材マスタ!$W$10:$W$309,"期限切れ")+COUNTIFS(食材マスタ!$F$10:$F$309,$B7,食材マスタ!$W$10:$W$309,"期限間近")) -> 0
B8: =IF(設定!B10="","",設定!B10) -> 野菜・果物 | C8: =IF($B8="","",COUNTIF(食材マスタ!$F$10:$F$309,$B8)) -> 2 | D8: =IF($B8="","",SUMIFS(食材マスタ!$Q$10:$Q$309,食材マスタ!$F$10:$F$309,$B8)) -> 3292 | E8: =IF($B8="","",IFERROR(D8/$D$26,0)) -> 0.13294564 | F8: =IF($B8="","",COUNTIFS(食材マスタ!$F$10:$F$309,$B8,食材マスタ!$T$10:$T$309,"要発注")+COUNTIFS(食材マスタ!$F$10:$F$309,$B8,食材マスタ!$T$10:$T$309,"欠品")) -> 1 | G8: =IF($B8="","",COUNTIFS(食材マスタ!$F$10:$F$309,$B8,食材マスタ!$W$10:$W$309,"期限切れ")+COUNTIFS(食材マスタ!$F$10:$F$309,$B8,食材マスタ!$W$10:$W$309,"期限間近")) -> 1
B9: =IF(設定!B11="","",設定!B11) -> 乳製品・卵 | C9: =IF($B9="","",COUNTIF(食材マスタ!$F$10:$F$309,$B9)) -> 2 | D9: =IF($B9="","",SUMIFS(食材マスタ!$Q$10:$Q$309,食材マスタ!$F$10:$F$309,$B9)) -> 1380 | E9: =IF($B9="","",IFERROR(D9/$D$26,0)) -> 0.055730555 | F9: =IF($B9="","",COUNTIFS(食材マスタ!$F$10:$F$309,$B9,食材マスタ!$T$10:$T$309,"要発注")+COUNTIFS(食材マスタ!$F$10:$F$309,$B9,食材マスタ!$T$10:$T$309,"欠品")) -> 2 | G9: =IF($B9="","",COUNTIFS(食材マスタ!$F$10:$F$309,$B9,食材マスタ!$W$10:$W$309,"期限切れ")+COUNTIFS(食材マスタ!$F$10:$F$309,$B9,食材マスタ!$W$10:$W$309,"期限間近")) -> 1
B10: =IF(設定!B12="","",設定!B12) -> 調味料 | C10: =IF($B10="","",COUNTIF(食材マスタ!$F$10:$F$309,$B10)) -> 1 | D10: =IF($B10="","",SUMIFS(食材マスタ!$Q$10:$Q$309,食材マスタ!$F$10:$F$309,$B10)) -> 2080 | E10: =IF($B10="","",IFERROR(D10/$D$26,0)) -> 0.083999677 | F10: =IF($B10="","",COUNTIFS(食材マスタ!$F$10:$F$309,$B10,食材マスタ!$T$10:$T$309,"要発注")+COUNTIFS(食材マスタ!$F$10:$F$309,$B10,食材マスタ!$T$10:$T$309,"欠品")) -> 0 | G10: =IF($B10="","",COUNTIFS(食材マスタ!$F$10:$F$309,$B10,食材マスタ!$W$10:$W$309,"期限切れ")+COUNTIFS(食材マスタ!$F$10:$F$309,$B10,食材マスタ!$W$10:$W$309,"期限間近")) -> 0
B11: =IF(設定!B13="","",設定!B13) -> 粉・乾物 | C11: =IF($B11="","",COUNTIF(食材マスタ!$F$10:$F$309,$B11)) -> 1 | D11: =IF($B11="","",SUMIFS(食材マスタ!$Q$10:$Q$309,食材マスタ!$F$10:$F$309,$B11)) -> 1820 | E11: =IF($B11="","",IFERROR(D11/$D$26,0)) -> 0.073499717 | F11: =IF($B11="","",COUNTIFS(食材マスタ!$F$10:$F$309,$B11,食材マスタ!$T$10:$T$309,"要発注")+COUNTIFS(食材マスタ!$F$10:$F$309,$B11,食材マスタ!$T$10:$T$309,"欠品")) -> 0 | G11: =IF($B11="","",COUNTIFS(食材マスタ!$F$10:$F$309,$B11,食材マスタ!$W$10:$W$309,"期限切れ")+COUNTIFS(食材マスタ!$F$10:$F$309,$B11,食材マスタ!$W$10:$W$309,"期限間近")) -> 0
B12: =IF(設定!B14="","",設定!B14) -> 冷凍食品 | C12: =IF($B12="","",COUNTIF(食材マスタ!$F$10:$F$309,$B12)) -> 0 | D12: =IF($B12="","",SUMIFS(食材マスタ!$Q$10:$Q$309,食材マスタ!$F$10:$F$309,$B12)) -> 0 | E12: =IF($B12="","",IFERROR(D12/$D$26,0)) -> 0 | F12: =IF($B12="","",COUNTIFS(食材マスタ!$F$10:$F$309,$B12,食材マスタ!$T$10:$T$309,"要発注")+COUNTIFS(食材マスタ!$F$10:$F$309,$B12,食材マスタ!$T$10:$T$309,"欠品")) -> 0 | G12: =IF($B12="","",COUNTIFS(食材マスタ!$F$10:$F$309,$B12,食材マスタ!$W$10:$W$309,"期限切れ")+COUNTIFS(食材マスタ!$F$10:$F$309,$B12,食材マスタ!$W$10:$W$309,"期限間近")) -> 0
B13: =IF(設定!B15="","",設定!B15) -> 飲料 | C13: =IF($B13="","",COUNTIF(食材マスタ!$F$10:$F$309,$B13)) -> 0 | D13: =IF($B13="","",SUMIFS(食材マスタ!$Q$10:$Q$309,食材マスタ!$F$10:$F$309,$B13)) -> 0 | E13: =IF($B13="","",IFERROR(D13/$D$26,0)) -> 0 | F13: =IF($B13="","",COUNTIFS(食材マスタ!$F$10:$F$309,$B13,食材マスタ!$T$10:$T$309,"要発注")+COUNTIFS(食材マスタ!$F$10:$F$309,$B13,食材マスタ!$T$10:$T$309,"欠品")) -> 0 | G13: =IF($B13="","",COUNTIFS(食材マスタ!$F$10:$F$309,$B13,食材マスタ!$W$10:$W$309,"期限切れ")+COUNTIFS(食材マスタ!$F$10:$F$309,$B13,食材マスタ!$W$10:$W$309,"期限間近")) -> 0
B14: =IF(設定!B16="","",設定!B16) -> 包材・消耗品 | C14: =IF($B14="","",COUNTIF(食材マスタ!$F$10:$F$309,$B14)) -> 1 | D14: =IF($B14="","",SUMIFS(食材マスタ!$Q$10:$Q$309,食材マスタ!$F$10:$F$309,$B14)) -> 3240 | E14: =IF($B14="","",IFERROR(D14/$D$26,0)) -> 0.13084565 | F14: =IF($B14="","",COUNTIFS(食材マスタ!$F$10:$F$309,$B14,食材マスタ!$T$10:$T$309,"要発注")+COUNTIFS(食材マスタ!$F$10:$F$309,$B14,食材マスタ!$T$10:$T$309,"欠品")) -> 0 | G14: =IF($B14="","",COUNTIFS(食材マスタ!$F$10:$F$309,$B14,食材マスタ!$W$10:$W$309,"期限切れ")+COUNTIFS(食材マスタ!$F$10:$F$309,$B14,食材マスタ!$W$10:$W$309,"期限間近")) -> 0
B15: =IF(設定!B17="","",設定!B17) | C15: =IF($B15="","",COUNTIF(食材マスタ!$F$10:$F$309,$B15)) | D15: =IF($B15="","",SUMIFS(食材マスタ!$Q$10:$Q$309,食材マスタ!$F$10:$F$309,$B15)) | E15: =IF($B15="","",IFERROR(D15/$D$26,0)) | F15: =IF($B15="","",COUNTIFS(食材マスタ!$F$10:$F$309,$B15,食材マスタ!$T$10:$T$309,"要発注")+COUNTIFS(食材マスタ!$F$10:$F$309,$B15,食材マスタ!$T$10:$T$309,"欠品")) | G15: =IF($B15="","",COUNTIFS(食材マスタ!$F$10:$F$309,$B15,食材マスタ!$W$10:$W$309,"期限切れ")+COUNTIFS(食材マスタ!$F$10:$F$309,$B15,食材マスタ!$W$10:$W$309,"期限間近"))
B16: =IF(設定!B18="","",設定!B18) | C16: =IF($B16="","",COUNTIF(食材マスタ!$F$10:$F$309,$B16)) | D16: =IF($B16="","",SUMIFS(食材マスタ!$Q$10:$Q$309,食材マスタ!$F$10:$F$309,$B16)) | E16: =IF($B16="","",IFERROR(D16/$D$26,0)) | F16: =IF($B16="","",COUNTIFS(食材マスタ!$F$10:$F$309,$B16,食材マスタ!$T$10:$T$309,"要発注")+COUNTIFS(食材マスタ!$F$10:$F$309,$B16,食材マスタ!$T$10:$T$309,"欠品")) | G16: =IF($B16="","",COUNTIFS(食材マスタ!$F$10:$F$309,$B16,食材マスタ!$W$10:$W$309,"期限切れ")+COUNTIFS(食材マスタ!$F$10:$F$309,$B16,食材マスタ!$W$10:$W$309,"期限間近"))
B17: =IF(設定!B19="","",設定!B19) | C17: =IF($B17="","",COUNTIF(食材マスタ!$F$10:$F$309,$B17)) | D17: =IF($B17="","",SUMIFS(食材マスタ!$Q$10:$Q$309,食材マスタ!$F$10:$F$309,$B17)) | E17: =IF($B17="","",IFERROR(D17/$D$26,0)) | F17: =IF($B17="","",COUNTIFS(食材マスタ!$F$10:$F$309,$B17,食材マスタ!$T$10:$T$309,"要発注")+COUNTIFS(食材マスタ!$F$10:$F$309,$B17,食材マスタ!$T$10:$T$309,"欠品")) | G17: =IF($B17="","",COUNTIFS(食材マスタ!$F$10:$F$309,$B17,食材マスタ!$W$10:$W$309,"期限切れ")+COUNTIFS(食材マスタ!$F$10:$F$309,$B17,食材マスタ!$W$10:$W$309,"期限間近"))
... B25: =IF(設定!B27="","",設定!B27) | C25: =IF($B25="","",COUNTIF(食材マスタ!$F$10:$F$309,$B25)) | D25: =IF($B25="","",SUMIFS(食材マスタ!$Q$10:$Q$309,食材マスタ!$F$10:$F$309,$B25)) | E25: =IF($B25="","",IFERROR(D25/$D$26,0)) | F25: =IF($B25="","",COUNTIFS(食材マスタ!$F$10:$F$309,$B25,食材マスタ!$T$10:$T$309,"要発注")+COUNTIFS(食材マスタ!$F$10:$F$309,$B25,食材マスタ!$T$10:$T$309,"欠品")) | G25: =IF($B25="","",COUNTIFS(食材マスタ!$F$10:$F$309,$B25,食材マスタ!$W$10:$W$309,"期限切れ")+COUNTIFS(食材マスタ!$F$10:$F$309,$B25,食材マスタ!$W$10:$W$309,"期限間近"))
B26: 合計 | C26: =SUM(C6:C25) -> 9 | D26: =SUM(D6:D25) -> 24762 | E26: =IF(D26=0,"",1) -> 1 | F26: =SUM(F6:F25) -> 4 | G26: =SUM(G6:G25) -> 3
B29: 月別の入出庫・廃棄
B30: 集計開始月 | C30: 46113 | D30: ここから12か月分（日付で分類）。廃棄率＝廃棄金額÷（出庫金額＋廃棄金額）
B32: 月 | C32: 入庫金額（円） | D32: 出庫金額（円） | E32: 廃棄金額（円） | F32: 廃棄件数 | G32: 廃棄率
B33: =EDATE($C$30,0) -> 46113 | C33: =SUMIFS(入出庫履歴!$J$10:$J$1009,入出庫履歴!$D$10:$D$1009,"入庫",入出庫履歴!$C$10:$C$1009,">="&EDATE($C$30,0),入出庫履歴!$C$10:$C$1009,"<"&EDATE($C$30,1)) -> 0 | D33: =SUMIFS(入出庫履歴!$J$10:$J$1009,入出庫履歴!$D$10:$D$1009,"出庫",入出庫履歴!$C$10:$C$1009,">="&EDATE($C$30,0),入出庫履歴!$C$10:$C$1009,"<"&EDATE($C$30,1)) -> 0 | E33: =SUMIFS(入出庫履歴!$J$10:$J$1009,入出庫履歴!$D$10:$D$1009,"廃棄",入出庫履歴!$C$10:$C$1009,">="&EDATE($C$30,0),入出庫履歴!$C$10:$C$1009,"<"&EDATE($C$30,1)) -> 0 | F33: =COUNTIFS(入出庫履歴!$D$10:$D$1009,"廃棄",入出庫履歴!$C$10:$C$1009,">="&EDATE($C$30,0),入出庫履歴!$C$10:$C$1009,"<"&EDATE($C$30,1)) -> 0 | G33: =IF(D33+E33=0,"",E33/(D33+E33))
B34: =EDATE($C$30,1) -> 46143 | C34: =SUMIFS(入出庫履歴!$J$10:$J$1009,入出庫履歴!$D$10:$D$1009,"入庫",入出庫履歴!$C$10:$C$1009,">="&EDATE($C$30,1),入出庫履歴!$C$10:$C$1009,"<"&EDATE($C$30,2)) -> 0 | D34: =SUMIFS(入出庫履歴!$J$10:$J$1009,入出庫履歴!$D$10:$D$1009,"出庫",入出庫履歴!$C$10:$C$1009,">="&EDATE($C$30,1),入出庫履歴!$C$10:$C$1009,"<"&EDATE($C$30,2)) -> 0 | E34: =SUMIFS(入出庫履歴!$J$10:$J$1009,入出庫履歴!$D$10:$D$1009,"廃棄",入出庫履歴!$C$10:$C$1009,">="&EDATE($C$30,1),入出庫履歴!$C$10:$C$1009,"<"&EDATE($C$30,2)) -> 0 | F34: =COUNTIFS(入出庫履歴!$D$10:$D$1009,"廃棄",入出庫履歴!$C$10:$C$1009,">="&EDATE($C$30,1),入出庫履歴!$C$10:$C$1009,"<"&EDATE($C$30,2)) -> 0 | G34: =IF(D34+E34=0,"",E34/(D34+E34))
B35: =EDATE($C$30,2) -> 46174 | C35: =SUMIFS(入出庫履歴!$J$10:$J$1009,入出庫履歴!$D$10:$D$1009,"入庫",入出庫履歴!$C$10:$C$1009,">="&EDATE($C$30,2),入出庫履歴!$C$10:$C$1009,"<"&EDATE($C$30,3)) -> 0 | D35: =SUMIFS(入出庫履歴!$J$10:$J$1009,入出庫履歴!$D$10:$D$1009,"出庫",入出庫履歴!$C$10:$C$1009,">="&EDATE($C$30,2),入出庫履歴!$C$10:$C$1009,"<"&EDATE($C$30,3)) -> 0 | E35: =SUMIFS(入出庫履歴!$J$10:$J$1009,入出庫履歴!$D$10:$D$1009,"廃棄",入出庫履歴!$C$10:$C$1009,">="&EDATE($C$30,2),入出庫履歴!$C$10:$C$1009,"<"&EDATE($C$30,3)) -> 0 | F35: =COUNTIFS(入出庫履歴!$D$10:$D$1009,"廃棄",入出庫履歴!$C$10:$C$1009,">="&EDATE($C$30,2),入出庫履歴!$C$10:$C$1009,"<"&EDATE($C$30,3)) -> 0 | G35: =IF(D35+E35=0,"",E35/(D35+E35))
B36: =EDATE($C$30,3) -> 46204 | C36: =SUMIFS(入出庫履歴!$J$10:$J$1009,入出庫履歴!$D$10:$D$1009,"入庫",入出庫履歴!$C$10:$C$1009,">="&EDATE($C$30,3),入出庫履歴!$C$10:$C$1009,"<"&EDATE($C$30,4)) -> 0 | D36: =SUMIFS(入出庫履歴!$J$10:$J$1009,入出庫履歴!$D$10:$D$1009,"出庫",入出庫履歴!$C$10:$C$1009,">="&EDATE($C$30,3),入出庫履歴!$C$10:$C$1009,"<"&EDATE($C$30,4)) -> 0 | E36: =SUMIFS(入出庫履歴!$J$10:$J$1009,入出庫履歴!$D$10:$D$1009,"廃棄",入出庫履歴!$C$10:$C$1009,">="&EDATE($C$30,3),入出庫履歴!$C$10:$C$1009,"<"&EDATE($C$30,4)) -> 0 | F36: =COUNTIFS(入出庫履歴!$D$10:$D$1009,"廃棄",入出庫履歴!$C$10:$C$1009,">="&EDATE($C$30,3),入出庫履歴!$C$10:$C$1009,"<"&EDATE($C$30,4)) -> 0 | G36: =IF(D36+E36=0,"",E36/(D36+E36))
B37: =EDATE($C$30,4) -> 46235 | C37: =SUMIFS(入出庫履歴!$J$10:$J$1009,入出庫履歴!$D$10:$D$1009,"入庫",入出庫履歴!$C$10:$C$1009,">="&EDATE($C$30,4),入出庫履歴!$C$10:$C$1009,"<"&EDATE($C$30,5)) -> 0 | D37: =SUMIFS(入出庫履歴!$J$10:$J$1009,入出庫履歴!$D$10:$D$1009,"出庫",入出庫履歴!$C$10:$C$1009,">="&EDATE($C$30,4),入出庫履歴!$C$10:$C$1009,"<"&EDATE($C$30,5)) -> 0 | E37: =SUMIFS(入出庫履歴!$J$10:$J$1009,入出庫履歴!$D$10:$D$1009,"廃棄",入出庫履歴!$C$10:$C$1009,">="&EDATE($C$30,4),入出庫履歴!$C$10:$C$1009,"<"&EDATE($C$30,5)) -> 0 | F37: =COUNTIFS(入出庫履歴!$D$10:$D$1009,"廃棄",入出庫履歴!$C$10:$C$1009,">="&EDATE($C$30,4),入出庫履歴!$C$10:$C$1009,"<"&EDATE($C$30,5)) -> 0 | G37: =IF(D37+E37=0,"",E37/(D37+E37))
B38: =EDATE($C$30,5) -> 46266 | C38: =SUMIFS(入出庫履歴!$J$10:$J$1009,入出庫履歴!$D$10:$D$1009,"入庫",入出庫履歴!$C$10:$C$1009,">="&EDATE($C$30,5),入出庫履歴!$C$10:$C$1009,"<"&EDATE($C$30,6)) -> 0 | D38: =SUMIFS(入出庫履歴!$J$10:$J$1009,入出庫履歴!$D$10:$D$1009,"出庫",入出庫履歴!$C$10:$C$1009,">="&EDATE($C$30,5),入出庫履歴!$C$10:$C$1009,"<"&EDATE($C$30,6)) -> 0 | E38: =SUMIFS(入出庫履歴!$J$10:$J$1009,入出庫履歴!$D$10:$D$1009,"廃棄",入出庫履歴!$C$10:$C$1009,">="&EDATE($C$30,5),入出庫履歴!$C$10:$C$1009,"<"&EDATE($C$30,6)) -> 0 | F38: =COUNTIFS(入出庫履歴!$D$10:$D$1009,"廃棄",入出庫履歴!$C$10:$C$1009,">="&EDATE($C$30,5),入出庫履歴!$C$10:$C$1009,"<"&EDATE($C$30,6)) -> 0 | G38: =IF(D38+E38=0,"",E38/(D38+E38))
B39: =EDATE($C$30,6) -> 46296 | C39: =SUMIFS(入出庫履歴!$J$10:$J$1009,入出庫履歴!$D$10:$D$1009,"入庫",入出庫履歴!$C$10:$C$1009,">="&EDATE($C$30,6),入出庫履歴!$C$10:$C$1009,"<"&EDATE($C$30,7)) -> 56480 | D39: =SUMIFS(入出庫履歴!$J$10:$J$1009,入出庫履歴!$D$10:$D$1009,"出庫",入出庫履歴!$C$10:$C$1009,">="&EDATE($C$30,6),入出庫履歴!$C$10:$C$1009,"<"&EDATE($C$30,7)) -> 31538 | E39: =SUMIFS(入出庫履歴!$J$10:$J$1009,入出庫履歴!$D$10:$D$1009,"廃棄",入出庫履歴!$C$10:$C$1009,">="&EDATE($C$30,6),入出庫履歴!$C$10:$C$1009,"<"&EDATE($C$30,7)) -> 180 | F39: =COUNTIFS(入出庫履歴!$D$10:$D$1009,"廃棄",入出庫履歴!$C$10:$C$1009,">="&EDATE($C$30,6),入出庫履歴!$C$10:$C$1009,"<"&EDATE($C$30,7)) -> 1 | G39: =IF(D39+E39=0,"",E39/(D39+E39)) -> 0.005675011
B40: =EDATE($C$30,7) -> 46327 | C40: =SUMIFS(入出庫履歴!$J$10:$J$1009,入出庫履歴!$D$10:$D$1009,"入庫",入出庫履歴!$C$10:$C$1009,">="&EDATE($C$30,7),入出庫履歴!$C$10:$C$1009,"<"&EDATE($C$30,8)) -> 0 | D40: =SUMIFS(入出庫履歴!$J$10:$J$1009,入出庫履歴!$D$10:$D$1009,"出庫",入出庫履歴!$C$10:$C$1009,">="&EDATE($C$30,7),入出庫履歴!$C$10:$C$1009,"<"&EDATE($C$30,8)) -> 0 | E40: =SUMIFS(入出庫履歴!$J$10:$J$1009,入出庫履歴!$D$10:$D$1009,"廃棄",入出庫履歴!$C$10:$C$1009,">="&EDATE($C$30,7),入出庫履歴!$C$10:$C$1009,"<"&EDATE($C$30,8)) -> 0 | F40: =COUNTIFS(入出庫履歴!$D$10:$D$1009,"廃棄",入出庫履歴!$C$10:$C$1009,">="&EDATE($C$30,7),入出庫履歴!$C$10:$C$1009,"<"&EDATE($C$30,8)) -> 0 | G40: =IF(D40+E40=0,"",E40/(D40+E40))
B41: =EDATE($C$30,8) -> 46357 | C41: =SUMIFS(入出庫履歴!$J$10:$J$1009,入出庫履歴!$D$10:$D$1009,"入庫",入出庫履歴!$C$10:$C$1009,">="&EDATE($C$30,8),入出庫履歴!$C$10:$C$1009,"<"&EDATE($C$30,9)) -> 0 | D41: =SUMIFS(入出庫履歴!$J$10:$J$1009,入出庫履歴!$D$10:$D$1009,"出庫",入出庫履歴!$C$10:$C$1009,">="&EDATE($C$30,8),入出庫履歴!$C$10:$C$1009,"<"&EDATE($C$30,9)) -> 0 | E41: =SUMIFS(入出庫履歴!$J$10:$J$1009,入出庫履歴!$D$10:$D$1009,"廃棄",入出庫履歴!$C$10:$C$1009,">="&EDATE($C$30,8),入出庫履歴!$C$10:$C$1009,"<"&EDATE($C$30,9)) -> 0 | F41: =COUNTIFS(入出庫履歴!$D$10:$D$1009,"廃棄",入出庫履歴!$C$10:$C$1009,">="&EDATE($C$30,8),入出庫履歴!$C$10:$C$1009,"<"&EDATE($C$30,9)) -> 0 | G41: =IF(D41+E41=0,"",E41/(D41+E41))
B42: =EDATE($C$30,9) -> 46388 | C42: =SUMIFS(入出庫履歴!$J$10:$J$1009,入出庫履歴!$D$10:$D$1009,"入庫",入出庫履歴!$C$10:$C$1009,">="&EDATE($C$30,9),入出庫履歴!$C$10:$C$1009,"<"&EDATE($C$30,10)) -> 0 | D42: =SUMIFS(入出庫履歴!$J$10:$J$1009,入出庫履歴!$D$10:$D$1009,"出庫",入出庫履歴!$C$10:$C$1009,">="&EDATE($C$30,9),入出庫履歴!$C$10:$C$1009,"<"&EDATE($C$30,10)) -> 0 | E42: =SUMIFS(入出庫履歴!$J$10:$J$1009,入出庫履歴!$D$10:$D$1009,"廃棄",入出庫履歴!$C$10:$C$1009,">="&EDATE($C$30,9),入出庫履歴!$C$10:$C$1009,"<"&EDATE($C$30,10)) -> 0 | F42: =COUNTIFS(入出庫履歴!$D$10:$D$1009,"廃棄",入出庫履歴!$C$10:$C$1009,">="&EDATE($C$30,9),入出庫履歴!$C$10:$C$1009,"<"&EDATE($C$30,10)) -> 0 | G42: =IF(D42+E42=0,"",E42/(D42+E42))
B43: =EDATE($C$30,10) -> 46419 | C43: =SUMIFS(入出庫履歴!$J$10:$J$1009,入出庫履歴!$D$10:$D$1009,"入庫",入出庫履歴!$C$10:$C$1009,">="&EDATE($C$30,10),入出庫履歴!$C$10:$C$1009,"<"&EDATE($C$30,11)) -> 0 | D43: =SUMIFS(入出庫履歴!$J$10:$J$1009,入出庫履歴!$D$10:$D$1009,"出庫",入出庫履歴!$C$10:$C$1009,">="&EDATE($C$30,10),入出庫履歴!$C$10:$C$1009,"<"&EDATE($C$30,11)) -> 0 | E43: =SUMIFS(入出庫履歴!$J$10:$J$1009,入出庫履歴!$D$10:$D$1009,"廃棄",入出庫履歴!$C$10:$C$1009,">="&EDATE($C$30,10),入出庫履歴!$C$10:$C$1009,"<"&EDATE($C$30,11)) -> 0 | F43: =COUNTIFS(入出庫履歴!$D$10:$D$1009,"廃棄",入出庫履歴!$C$10:$C$1009,">="&EDATE($C$30,10),入出庫履歴!$C$10:$C$1009,"<"&EDATE($C$30,11)) -> 0 | G43: =IF(D43+E43=0,"",E43/(D43+E43))
B44: =EDATE($C$30,11) -> 46447 | C44: =SUMIFS(入出庫履歴!$J$10:$J$1009,入出庫履歴!$D$10:$D$1009,"入庫",入出庫履歴!$C$10:$C$1009,">="&EDATE($C$30,11),入出庫履歴!$C$10:$C$1009,"<"&EDATE($C$30,12)) -> 0 | D44: =SUMIFS(入出庫履歴!$J$10:$J$1009,入出庫履歴!$D$10:$D$1009,"出庫",入出庫履歴!$C$10:$C$1009,">="&EDATE($C$30,11),入出庫履歴!$C$10:$C$1009,"<"&EDATE($C$30,12)) -> 0 | E44: =SUMIFS(入出庫履歴!$J$10:$J$1009,入出庫履歴!$D$10:$D$1009,"廃棄",入出庫履歴!$C$10:$C$1009,">="&EDATE($C$30,11),入出庫履歴!$C$10:$C$1009,"<"&EDATE($C$30,12)) -> 0 | F44: =COUNTIFS(入出庫履歴!$D$10:$D$1009,"廃棄",入出庫履歴!$C$10:$C$1009,">="&EDATE($C$30,11),入出庫履歴!$C$10:$C$1009,"<"&EDATE($C$30,12)) -> 0 | G44: =IF(D44+E44=0,"",E44/(D44+E44))
B45: 合計 | C45: =SUM(C33:C44) -> 56480 | D45: =SUM(D33:D44) -> 31538 | E45: =SUM(E33:E44) -> 180 | F45: =SUM(F33:F44) -> 1 | G45: =IF(D45+E45=0,"",E45/(D45+E45)) -> 0.005675011

Sheet 設定
A1: 他にも魅力的な情報がたっぷり！テンプレート倉庫
B2: 設定
B4: 期限間近の日数 | C4: 3 | D4: 期限までの日数がこの日数以内になると「期限間近」として表示します
B5: 各一覧は空欄に追記できます（最大20件）。名称を変えると入力済みの表記とずれるので注意してください。
B7: 分類 | D7: 保存区分 | F7: 単位 | H7: 保管場所 | J7: 担当者 | L7: 入出庫区分（固定）
B8: 肉類 | D8: 常温 | F8: kg | H8: 冷蔵庫1 | J8: 佐藤 | L8: 入庫
B9: 魚介類 | D9: 冷蔵 | F9: g | H9: 冷蔵庫2 | J9: 鈴木 | L9: 出庫
B10: 野菜・果物 | D10: 冷凍 | F10: L | H10: 冷凍庫 | J10: 高橋 | L10: 廃棄
B11: 乳製品・卵 | F11: ml | H11: 常温棚A | J11: 田中 | L11: 棚卸調整
B12: 調味料 | F12: 個 | H12: 常温棚B | J12: 伊藤
B13: 粉・乾物 | F13: 本 | H13: 倉庫
B14: 冷凍食品 | F14: 袋
B15: 飲料 | F15: パック
B16: 包材・消耗品 | F16: 缶
F17: 箱
F18: 枚
