Workbook
Name ロットリスト: 入出庫履歴!$L$10:$L$1009
Name 区分リスト: 設定!$L$8:$L$11
Name 食材コードリスト: 食材マスタ!$C$10:$C$309
Name 単位リスト: 設定!$F$8:$F$27
Name 担当者リスト: 設定!$J$8:$J$27
Name 分類リスト: 設定!$B$8:$B$27
Name 保管場所リスト: 設定!$H$8:$H$27
Name 保存区分リスト: 設定!$D$8:$D$27

Sheet 食材マスタ
A1: 他にも魅力的な情報がたっぷり！テンプレート倉庫
B2: 水色の欄に食材を登録します。入庫・出庫・廃棄は「入出庫履歴」に記録すると、現在庫・在庫金額・期限が自動で更新されます。期限が近いロットは「期限チェック」、発注が必要な食材は「発注リスト」に自動で並びます。
B3: 食品・材料在庫管理表
B6: 登録品目数 | E6: 在庫金額合計 | G6: 要発注 | I6: 欠品 | K6: 期限切れ | N6: 期限間近 | Q6: 今月の廃棄金額
B7: =COUNTA($C$10:$C$309) -> 9 | E7: =SUM($Q$10:$Q$309) -> 24762 | G7: =COUNTIF($T$10:$T$309,"要発注") -> 3 | I7: =COUNTIF($T$10:$T$309,"欠品") -> 1 | K7: =COUNTIF($W$10:$W$309,"期限切れ") -> 1 | N7: =COUNTIF($W$10:$W$309,"期限間近") -> 2 | Q7: =SUMIFS(入出庫履歴!$J$10:$J$1009,入出庫履歴!$D$10:$D$1009,"廃棄",入出庫履歴!$C$10:$C$1009,">="&EOMONTH(TODAY(),-1)+1,入出庫履歴!$C$10:$C$1009,"<="&EOMONTH(TODAY(),0)) -> 180
B9: No | C9: 食材コード | D9: 食材名 | E9: 規格・産地 | F9: 分類 | G9: 保存区分 | H9: 単位 | I9: 保管場所 | J9: 仕入先 | K9: 単価（円） | L9: 入庫累計 | M9: 出庫累計 | N9: 廃棄累計 | O9: 棚卸調整 | P9: 現在庫 | Q9: 在庫金額（円） | R9: 発注点 | S9: 発注ロット | T9: 在庫状態 | U9: 推奨発注数 | V9: 最短期限 | W9: 期限状態 | X9: アレルゲン | Y9: 備考
B10: =IF(C10="","",COUNTA($C$10:C10)) -> 1 | C10: MT-001 | D10: 鶏もも肉 | E10: 国産 皮付き | F10: 肉類 | G10: 冷蔵 | H10: kg | I10: 冷蔵庫1 | J10: ○○精肉 | K10: 980 | L10: =IF(C10="","",SUMIFS(入出庫履歴!$G$10:$G$1009,入出庫履歴!$E$10:$E$1009,C10,入出庫履歴!$D$10:$D$1009,"入庫")) -> 20 | M10: =IF(C10="","",SUMIFS(入出庫履歴!$G$10:$G$1009,入出庫履歴!$E$10:$E$1009,C10,入出庫履歴!$D$10:$D$1009,"出庫")) -> 12.5 | N10: =IF(C10="","",SUMIFS(入出庫履歴!$G$10:$G$1009,入出庫履歴!$E$10:$E$1009,C10,入出庫履歴!$D$10:$D$1009,"廃棄")) -> 0 | O10: =IF(C10="","",SUMIFS(入出庫履歴!$G$10:$G$1009,入出庫履歴!$E$10:$E$1009,C10,入出庫履歴!$D$10:$D$1009,"棚卸調整")) -> 0 | P10: =IF(C10="","",L10-M10-N10+O10) -> 7.5 | Q10: =IF(OR(C10="",K10=""),"",ROUND(P10*K10,0)) -> 7350 | R10: 5 | S10: 10 | T10: =IF(C10="","",IF(P10<0,"在庫異常",IF(P10=0,"欠品",IF(AND(R10<>"",P10<=R10),"要発注","適正")))) -> 適正 | U10: =IF(OR(T10="要発注",T10="欠品"),IF(S10>0,CEILING(MAX(R10-P10,0)+S10*0.0001,S10),MAX(R10-P10,0)),"") | V10: =IF(C10="","",IF(_xlfn.MINIFS(入出庫履歴!$K$10:$K$1009,入出庫履歴!$E$10:$E$1009,C10,入出庫履歴!$N$10:$N$1009,">0")=0,"",_xlfn.MINIFS(入出庫履歴!$K$10:$K$1009,入出庫履歴!$E$10:$E$1009,C10,入出庫履歴!$N$10:$N$1009,">0"))) -> 46320 | W10: =IF(OR(V10="",P10<=0),"",IF(V10<TODAY(),"期限切れ",IF(V10-TODAY()<=設定!$C$4,"期限間近",""))) -> 期限切れ | X10: － | Z10: =IF(OR(T10="要発注",T10="欠品",T10="在庫異常"),COUNTIF($T$10:T10,"要発注")+COUNTIF($T$10:T10,"欠品")+COUNTIF($T$10:T10,"在庫異常"),"")
B11: =IF(C11="","",COUNTA($C$10:C11)) -> 2 | C11: FS-001 | D11: サーモン切身 | E11: ノルウェー産 80g | F11: 魚介類 | G11: 冷凍 | H11: kg | I11: 冷凍庫 | J11: ○○水産 | K11: 2800 | L11: =IF(C11="","",SUMIFS(入出庫履歴!$G$10:$G$1009,入出庫履歴!$E$10:$E$1009,C11,入出庫履歴!$D$10:$D$1009,"入庫")) -> 5 | M11: =IF(C11="","",SUMIFS(入出庫履歴!$G$10:$G$1009,入出庫履歴!$E$10:$E$1009,C11,入出庫履歴!$D$10:$D$1009,"出庫")) -> 3 | N11: =IF(C11="","",SUMIFS(入出庫履歴!$G$10:$G$1009,入出庫履歴!$E$10:$E$1009,C11,入出庫履歴!$D$10:$D$1009,"廃棄")) -> 0 | O11: =IF(C11="","",SUMIFS(入出庫履歴!$G$10:$G$1009,入出庫履歴!$E$10:$E$1009,C11,入出庫履歴!$D$10:$D$1009,"棚卸調整")) -> 0 | P11: =IF(C11="","",L11-M11-N11+O11) -> 2 | Q11: =IF(OR(C11="",K11=""),"",ROUND(P11*K11,0)) -> 5600 | R11: 3 | S11: 5 | T11: =IF(C11="","",IF(P11<0,"在庫異常",IF(P11=0,"欠品",IF(AND(R11<>"",P11<=R11),"要発注","適正")))) -> 要発注 | U11: =IF(OR(T11="要発注",T11="欠品"),IF(S11>0,CEILING(MAX(R11-P11,0)+S11*0.0001,S11),MAX(R11-P11,0)),"") -> 5 | V11: =IF(C11="","",IF(_xlfn.MINIFS(入出庫履歴!$K$10:$K$1009,入出庫履歴!$E$10:$E$1009,C11,入出庫履歴!$N$10:$N$1009,">0")=0,"",_xlfn.MINIFS(入出庫履歴!$K$10:$K$1009,入出庫履歴!$E$10:$E$1009,C11,入出庫履歴!$N$10:$N$1009,">0"))) -> 46402 | W11: =IF(OR(V11="",P11<=0),"",IF(V11<TODAY(),"期限切れ",IF(V11-TODAY()<=設定!$C$4,"期限間近",""))) | X11: さけ | Z11: =IF(OR(T11="要発注",T11="欠品",T11="在庫異常"),COUNTIF($T$10:T11,"要発注")+COUNTIF($T$10:T11,"欠品")+COUNTIF($T$10:T11,"在庫異常"),"") -> 1
B12: =IF(C12="","",COUNTA($C$10:C12)) -> 3 | C12: VG-001 | D12: 玉ねぎ | E12: 北海道産 L | F12: 野菜・果物 | G12: 常温 | H12: kg | I12: 常温棚A | J12: ○○青果 | K12: 220 | L12: =IF(C12="","",SUMIFS(入出庫履歴!$G$10:$G$1009,入出庫履歴!$E$10:$E$1009,C12,入出庫履歴!$D$10:$D$1009,"入庫")) -> 20 | M12: =IF(C12="","",SUMIFS(入出庫履歴!$G$10:$G$1009,入出庫履歴!$E$10:$E$1009,C12,入出庫履歴!$D$10:$D$1009,"出庫")) -> 12.4 | N12: =IF(C12="","",SUMIFS(入出庫履歴!$G$10:$G$1009,入出庫履歴!$E$10:$E$1009,C12,入出庫履歴!$D$10:$D$1009,"廃棄")) -> 0 | O12: =IF(C12="","",SUMIFS(入出庫履歴!$G$10:$G$1009,入出庫履歴!$E$10:$E$1009,C12,入出庫履歴!$D$10:$D$1009,"棚卸調整")) -> 0 | P12: =IF(C12="","",L12-M12-N12+O12) -> 7.6 | Q12: =IF(OR(C12="",K12=""),"",ROUND(P12*K12,0)) -> 1672 | R12: 10 | S12: 20 | T12: =IF(C12="","",IF(P12<0,"在庫異常",IF(P12=0,"欠品",IF(AND(R12<>"",P12<=R12),"要発注","適正")))) -> 要発注 | U12: =IF(OR(T12="要発注",T12="欠品"),IF(S12>0,CEILING(MAX(R12-P12,0)+S12*0.0001,S12),MAX(R12-P12,0)),"") -> 20 | V12: =IF(C12="","",IF(_xlfn.MINIFS(入出庫履歴!$K$10:$K$1009,入出庫履歴!$E$10:$E$1009,C12,入出庫履歴!$N$10:$N$1009,">0")=0,"",_xlfn.MINIFS(入出庫履歴!$K$10:$K$1009,入出庫履歴!$E$10:$E$1009,C12,入出庫履歴!$N$10:$N$1009,">0"))) | W12: =IF(OR(V12="",P12<=0),"",IF(V12<TODAY(),"期限切れ",IF(V12-TODAY()<=設定!$C$4,"期限間近",""))) | X12: － | Z12: =IF(OR(T12="要発注",T12="欠品",T12="在庫異常"),COUNTIF($T$10:T12,"要発注")+COUNTIF($T$10:T12,"欠品")+COUNTIF($T$10:T12,"在庫異常"),"") -> 2
B13: =IF(C13="","",COUNTA($C$10:C13)) -> 4 | C13: VG-002 | D13: キャベツ | E13: 国産 | F13: 野菜・果物 | G13: 冷蔵 | H13: 個 | I13: 冷蔵庫2 | J13: ○○青果 | K13: 180 | L13: =IF(C13="","",SUMIFS(入出庫履歴!$G$10:$G$1009,入出庫履歴!$E$10:$E$1009,C13,入出庫履歴!$D$10:$D$1009,"入庫")) -> 10 | M13: =IF(C13="","",SUMIFS(入出庫履歴!$G$10:$G$1009,入出庫履歴!$E$10:$E$1009,C13,入出庫履歴!$D$10:$D$1009,"出庫")) -> 0 | N13: =IF(C13="","",SUMIFS(入出庫履歴!$G$10:$G$1009,入出庫履歴!$E$10:$E$1009,C13,入出庫履歴!$D$10:$D$1009,"廃棄")) -> 1 | O13: =IF(C13="","",SUMIFS(入出庫履歴!$G$10:$G$1009,入出庫履歴!$E$10:$E$1009,C13,入出庫履歴!$D$10:$D$1009,"棚卸調整")) -> 0 | P13: =IF(C13="","",L13-M13-N13+O13) -> 9 | Q13: =IF(OR(C13="",K13=""),"",ROUND(P13*K13,0)) -> 1620 | R13: 5 | S13: 10 | T13: =IF(C13="","",IF(P13<0,"在庫異常",IF(P13=0,"欠品",IF(AND(R13<>"",P13<=R13),"要発注","適正")))) -> 適正 | U13: =IF(OR(T13="要発注",T13="欠品"),IF(S13>0,CEILING(MAX(R13-P13,0)+S13*0.0001,S13),MAX(R13-P13,0)),"") | V13: =IF(C13="","",IF(_xlfn.MINIFS(入出庫履歴!$K$10:$K$1009,入出庫履歴!$E$10:$E$1009,C13,入出庫履歴!$N$10:$N$1009,">0")=0,"",_xlfn.MINIFS(入出庫履歴!$K$10:$K$1009,入出庫履歴!$E$10:$E$1009,C13,入出庫履歴!$N$10:$N$1009,">0"))) -> 46329 | W13: =IF(OR(V13="",P13<=0),"",IF(V13<TODAY(),"期限切れ",IF(V13-TODAY()<=設定!$C$4,"期限間近",""))) -> 期限間近 | X13: － | Z13: =IF(OR(T13="要発注",T13="欠品",T13="在庫異常"),COUNTIF($T$10:T13,"要発注")+COUNTIF($T$10:T13,"欠品")+COUNTIF($T$10:T13,"在庫異常"),"")
B14: =IF(C14="","",COUNTA($C$10:C14)) -> 5 | C14: DY-001 | D14: 牛乳 | E14: 1L 成分無調整 | F14: 乳製品・卵 | G14: 冷蔵 | H14: 本 | I14: 冷蔵庫2 | J14: ○○乳業 | K14: 230 | L14: =IF(C14="","",SUMIFS(入出庫履歴!$G$10:$G$1009,入出庫履歴!$E$10:$E$1009,C14,入出庫履歴!$D$10:$D$1009,"入庫")) -> 12 | M14: =IF(C14="","",SUMIFS(入出庫履歴!$G$10:$G$1009,入出庫履歴!$E$10:$E$1009,C14,入出庫履歴!$D$10:$D$1009,"出庫")) -> 6 | N14: =IF(C14="","",SUMIFS(入出庫履歴!$G$10:$G$1009,入出庫履歴!$E$10:$E$1009,C14,入出庫履歴!$D$10:$D$1009,"廃棄")) -> 0 | O14: =IF(C14="","",SUMIFS(入出庫履歴!$G$10:$G$1009,入出庫履歴!$E$10:$E$1009,C14,入出庫履歴!$D$10:$D$1009,"棚卸調整")) -> 0 | P14: =IF(C14="","",L14-M14-N14+O14) -> 6 | Q14: =IF(OR(C14="",K14=""),"",ROUND(P14*K14,0)) -> 1380 | R14: 6 | S14: 12 | T14: =IF(C14="","",IF(P14<0,"在庫異常",IF(P14=0,"欠品",IF(AND(R14<>"",P14<=R14),"要発注","適正")))) -> 要発注 | U14: =IF(OR(T14="要発注",T14="欠品"),IF(S14>0,CEILING(MAX(R14-P14,0)+S14*0.0001,S14),MAX(R14-P14,0)),"") -> 12 | V14: =IF(C14="","",IF(_xlfn.MINIFS(入出庫履歴!$K$10:$K$1009,入出庫履歴!$E$10:$E$1009,C14,入出庫履歴!$N$10:$N$1009,">0")=0,"",_xlfn.MINIFS(入出庫履歴!$K$10:$K$1009,入出庫履歴!$E$10:$E$1009,C14,入出庫履歴!$N$10:$N$1009,">0"))) -> 46328 | W14: =IF(OR(V14="",P14<=0),"",IF(V14<TODAY(),"期限切れ",IF(V14-TODAY()<=設定!$C$4,"期限間近",""))) -> 期限間近 | X14: 乳 | Z14: =IF(OR(T14="要発注",T14="欠品",T14="在庫異常"),COUNTIF($T$10:T14,"要発注")+COUNTIF($T$10:T14,"欠品")+COUNTIF($T$10:T14,"在庫異常"),"") -> 3
B15: =IF(C15="","",COUNTA($C$10:C15)) -> 6 | C15: DY-002 | D15: 鶏卵 | E15: M 10個入 | F15: 乳製品・卵 | G15: 冷蔵 | H15: パック | I15: 冷蔵庫2 | J15: ○○養鶏 | K15: 280 | L15: =IF(C15="","",SUMIFS(入出庫履歴!$G$10:$G$1009,入出庫履歴!$E$10:$E$1009,C15,入出庫履歴!$D$10:$D$1009,"入庫")) -> 10 | M15: =IF(C15="","",SUMIFS(入出庫履歴!$G$10:$G$1009,入出庫履歴!$E$10:$E$1009,C15,入出庫履歴!$D$10:$D$1009,"出庫")) -> 10 | N15: =IF(C15="","",SUMIFS(入出庫履歴!$G$10:$G$1009,入出庫履歴!$E$10:$E$1009,C15,入出庫履歴!$D$10:$D$1009,"廃棄")) -> 0 | O15: =IF(C15="","",SUMIFS(入出庫履歴!$G$10:$G$1009,入出庫履歴!$E$10:$E$1009,C15,入出庫履歴!$D$10:$D$1009,"棚卸調整")) -> 0 | P15: =IF(C15="","",L15-M15-N15+O15) -> 0 | Q15: =IF(OR(C15="",K15=""),"",ROUND(P15*K15,0)) -> 0 | R15: 4 | S15: 10 | T15: =IF(C15="","",IF(P15<0,"在庫異常",IF(P15=0,"欠品",IF(AND(R15<>"",P15<=R15),"要発注","適正")))) -> 欠品 | U15: =IF(OR(T15="要発注",T15="欠品"),IF(S15>0,CEILING(MAX(R15-P15,0)+S15*0.0001,S15),MAX(R15-P15,0)),"") -> 10 | V15: =IF(C15="","",IF(_xlfn.MINIFS(入出庫履歴!$K$10:$K$1009,入出庫履歴!$E$10:$E$1009,C15,入出庫履歴!$N$10:$N$1009,">0")=0,"",_xlfn.MINIFS(入出庫履歴!$K$10:$K$1009,入出庫履歴!$E$10:$E$1009,C15,入出庫履歴!$N$10:$N$1009,">0"))) | W15: =IF(OR(V15="",P15<=0),"",IF(V15<TODAY(),"期限切れ",IF(V15-TODAY()<=設定!$C$4,"期限間近",""))) | X15: 卵 | Z15: =IF(OR(T15="要発注",T15="欠品",T15="在庫異常"),COUNTIF($T$10:T15,"要発注")+COUNTIF($T$10:T15,"欠品")+COUNTIF($T$10:T15,"在庫異常"),"") -> 4
B16: =IF(C16="","",COUNTA($C$10:C16)) -> 7 | C16: SE-001 | D16: 濃口醤油 | E16: 1.8L | F16: 調味料 | G16: 常温 | H16: 本 | I16: 常温棚B | J16: ○○醸造 | K16: 520 | L16: =IF(C16="","",SUMIFS(入出庫履歴!$G$10:$G$1009,入出庫履歴!$E$10:$E$1009,C16,入出庫履歴!$D$10:$D$1009,"入庫")) -> 6 | M16: =IF(C16="","",SUMIFS(入出庫履歴!$G$10:$G$1009,入出庫履歴!$E$10:$E$1009,C16,入出庫履歴!$D$10:$D$1009,"出庫")) -> 2 | N16: =IF(C16="","",SUMIFS(入出庫履歴!$G$10:$G$1009,入出庫履歴!$E$10:$E$1009,C16,入出庫履歴!$D$10:$D$1009,"廃棄")) -> 0 | O16: =IF(C16="","",SUMIFS(入出庫履歴!$G$10:$G$1009,入出庫履歴!$E$10:$E$1009,C16,入出庫履歴!$D$10:$D$1009,"棚卸調整")) -> 0 | P16: =IF(C16="","",L16-M16-N16+O16) -> 4 | Q16: =IF(OR(C16="",K16=""),"",ROUND(P16*K16,0)) -> 2080 | R16: 2 | S16: 6 | T16: =IF(C16="","",IF(P16<0,"在庫異常",IF(P16=0,"欠品",IF(AND(R16<>"",P16<=R16),"要発注","適正")))) -> 適正 | U16: =IF(OR(T16="要発注",T16="欠品"),IF(S16>0,CEILING(MAX(R16-P16,0)+S16*0.0001,S16),MAX(R16-P16,0)),"") | V16: =IF(C16="","",IF(_xlfn.MINIFS(入出庫履歴!$K$10:$K$1009,入出庫履歴!$E$10:$E$1009,C16,入出庫履歴!$N$10:$N$1009,">0")=0,"",_xlfn.MINIFS(入出庫履歴!$K$10:$K$1009,入出庫履歴!$E$10:$E$1009,C16,入出庫履歴!$N$10:$N$1009,">0"))) -> 46568 | W16: =IF(OR(V16="",P16<=0),"",IF(V16<TODAY(),"期限切れ",IF(V16-TODAY()<=設定!$C$4,"期限間近",""))) | X16: 小麦・大豆 | Z16: =IF(OR(T16="要発注",T16="欠品",T16="在庫異常"),COUNTIF($T$10:T16,"要発注")+COUNTIF($T$10:T16,"欠品")+COUNTIF($T$10:T16,"在庫異常"),"")
B17: =IF(C17="","",COUNTA($C$10:C17)) -> 8 | C17: PW-001 | D17: 薄力粉 | E17: 1kg | F17: 粉・乾物 | G17: 常温 | H17: 袋 | I17: 常温棚B | J17: ○○製粉 | K17: 260 | L17: =IF(C17="","",SUMIFS(入出庫履歴!$G$10:$G$1009,入出庫履歴!$E$10:$E$1009,C17,入出庫履歴!$D$10:$D$1009,"入庫")) -> 10 | M17: =IF(C17="","",SUMIFS(入出庫履歴!$G$10:$G$1009,入出庫履歴!$E$10:$E$1009,C17,入出庫履歴!$D$10:$D$1009,"出庫")) -> 3 | N17: =IF(C17="","",SUMIFS(入出庫履歴!$G$10:$G$1009,入出庫履歴!$E$10:$E$1009,C17,入出庫履歴!$D$10:$D$1009,"廃棄")) -> 0 | O17: =IF(C17="","",SUMIFS(入出庫履歴!$G$10:$G$1009,入出庫履歴!$E$10:$E$1009,C17,入出庫履歴!$D$10:$D$1009,"棚卸調整")) -> 0 | P17: =IF(C17="","",L17-M17-N17+O17) -> 7 | Q17: =IF(OR(C17="",K17=""),"",ROUND(P17*K17,0)) -> 1820 | R17: 3 | S17: 10 | T17: =IF(C17="","",IF(P17<0,"在庫異常",IF(P17=0,"欠品",IF(AND(R17<>"",P17<=R17),"要発注","適正")))) -> 適正 | U17: =IF(OR(T17="要発注",T17="欠品"),IF(S17>0,CEILING(MAX(R17-P17,0)+S17*0.0001,S17),MAX(R17-P17,0)),"") | V17: =IF(C17="","",IF(_xlfn.MINIFS(入出庫履歴!$K$10:$K$1009,入出庫履歴!$E$10:$E$1009,C17,入出庫履歴!$N$10:$N$1009,">0")=0,"",_xlfn.MINIFS(入出庫履歴!$K$10:$K$1009,入出庫履歴!$E$10:$E$1009,C17,入出庫履歴!$N$10:$N$1009,">0"))) -> 46477 | W17: =IF(OR(V17="",P17<=0),"",IF(V17<TODAY(),"期限切れ",IF(V17-TODAY()<=設定!$C$4,"期限間近",""))) | X17: 小麦 | Z17: =IF(OR(T17="要発注",T17="欠品",T17="在庫異常"),COUNTIF($T$10:T17,"要発注")+COUNTIF($T$10:T17,"欠品")+COUNTIF($T$10:T17,"在庫異常"),"")
B18: =IF(C18="","",COUNTA($C$10:C18)) -> 9 | C18: PK-001 | D18: テイクアウト容器 | E18: 中 蓋付き | F18: 包材・消耗品 | G18: 常温 | H18: 個 | I18: 倉庫 | J18: ○○包材 | K18: 18 | L18: =IF(C18="","",SUMIFS(入出庫履歴!$G$10:$G$1009,入出庫履歴!$E$10:$E$1009,C18,入出庫履歴!$D$10:$D$1009,"入庫")) -> 300 | M18: =IF(C18="","",SUMIFS(入出庫履歴!$G$10:$G$1009,入出庫履歴!$E$10:$E$1009,C18,入出庫履歴!$D$10:$D$1009,"出庫")) -> 120 | N18: =IF(C18="","",SUMIFS(入出庫履歴!$G$10:$G$1009,入出庫履歴!$E$10:$E$1009,C18,入出庫履歴!$D$10:$D$1009,"廃棄")) -> 0 | O18: =IF(C18="","",SUMIFS(入出庫履歴!$G$10:$G$1009,入出庫履歴!$E$10:$E$1009,C18,入出庫履歴!$D$10:$D$1009,"棚卸調整")) -> 0 | P18: =IF(C18="","",L18-M18-N18+O18) -> 180 | Q18: =IF(OR(C18="",K18=""),"",ROUND(P18*K18,0)) -> 3240 | R18: 100 | S18: 300 | T18: =IF(C18="","",IF(P18<0,"在庫異常",IF(P18=0,"欠品",IF(AND(R18<>"",P18<=R18),"要発注","適正")))) -> 適正 | U18: =IF(OR(T18="要発注",T18="欠品"),IF(S18>0,CEILING(MAX(R18-P18,0)+S18*0.0001,S18),MAX(R18-P18,0)),"") | V18: =IF(C18="","",IF(_xlfn.MINIFS(入出庫履歴!$K$10:$K$1009,入出庫履歴!$E$10:$E$1009,C18,入出庫履歴!$N$10:$N$1009,">0")=0,"",_xlfn.MINIFS(入出庫履歴!$K$10:$K$1009,入出庫履歴!$E$10:$E$1009,C18,入出庫履歴!$N$10:$N$1009,">0"))) | W18: =IF(OR(V18="",P18<=0),"",IF(V18<TODAY(),"期限切れ",IF(V18-TODAY()<=設定!$C$4,"期限間近",""))) | X18: － | Z18: =IF(OR(T18="要発注",T18="欠品",T18="在庫異常"),COUNTIF($T$10:T18,"要発注")+COUNTIF($T$10:T18,"欠品")+COUNTIF($T$10:T18,"在庫異常"),"")
B19: =IF(C19="","",COUNTA($C$10:C19)) | L19: =IF(C19="","",SUMIFS(入出庫履歴!$G$10:$G$1009,入出庫履歴!$E$10:$E$1009,C19,入出庫履歴!$D$10:$D$1009,"入庫")) | M19: =IF(C19="","",SUMIFS(入出庫履歴!$G$10:$G$1009,入出庫履歴!$E$10:$E$1009,C19,入出庫履歴!$D$10:$D$1009,"出庫")) | N19: =IF(C19="","",SUMIFS(入出庫履歴!$G$10:$G$1009,入出庫履歴!$E$10:$E$1009,C19,入出庫履歴!$D$10:$D$1009,"廃棄")) | O19: =IF(C19="","",SUMIFS(入出庫履歴!$G$10:$G$1009,入出庫履歴!$E$10:$E$1009,C19,入出庫履歴!$D$10:$D$1009,"棚卸調整")) | P19: =IF(C19="","",L19-M19-N19+O19) | Q19: =IF(OR(C19="",K19=""),"",ROUND(P19*K19,0)) | T19: =IF(C19="","",IF(P19<0,"在庫異常",IF(P19=0,"欠品",IF(AND(R19<>"",P19<=R19),"要発注","適正")))) | U19: =IF(OR(T19="要発注",T19="欠品"),IF(S19>0,CEILING(MAX(R19-P19,0)+S19*0.0001,S19),MAX(R19-P19,0)),"") | V19: =IF(C19="","",IF(_xlfn.MINIFS(入出庫履歴!$K$10:$K$1009,入出庫履歴!$E$10:$E$1009,C19,入出庫履歴!$N$10:$N$1009,">0")=0,"",_xlfn.MINIFS(入出庫履歴!$K$10:$K$1009,入出庫履歴!$E$10:$E$1009,C19,入出庫履歴!$N$10:$N$1009,">0"))) | W19: =IF(OR(V19="",P19<=0),"",IF(V19<TODAY(),"期限切れ",IF(V19-TODAY()<=設定!$C$4,"期限間近",""))) | Z19: =IF(OR(T19="要発注",T19="欠品",T19="在庫異常"),COUNTIF($T$10:T19,"要発注")+COUNTIF($T$10:T19,"欠品")+COUNTIF($T$10:T19,"在庫異常"),"")
B20: =IF(C20="","",COUNTA($C$10:C20)) | L20: =IF(C20="","",SUMIFS(入出庫履歴!$G$10:$G$1009,入出庫履歴!$E$10:$E$1009,C20,入出庫履歴!$D$10:$D$1009,"入庫")) | M20: =IF(C20="","",SUMIFS(入出庫履歴!$G$10:$G$1009,入出庫履歴!$E$10:$E$1009,C20,入出庫履歴!$D$10:$D$1009,"出庫")) | N20: =IF(C20="","",SUMIFS(入出庫履歴!$G$10:$G$1009,入出庫履歴!$E$10:$E$1009,C20,入出庫履歴!$D$10:$D$1009,"廃棄")) | O20: =IF(C20="","",SUMIFS(入出庫履歴!$G$10:$G$1009,入出庫履歴!$E$10:$E$1009,C20,入出庫履歴!$D$10:$D$1009,"棚卸調整")) | P20: =IF(C20="","",L20-M20-N20+O20) | Q20: =IF(OR(C20="",K20=""),"",ROUND(P20*K20,0)) | T20: =IF(C20="","",IF(P20<0,"在庫異常",IF(P20=0,"欠品",IF(AND(R20<>"",P20<=R20),"要発注","適正")))) | U20: =IF(OR(T20="要発注",T20="欠品"),IF(S20>0,CEILING(MAX(R20-P20,0)+S20*0.0001,S20),MAX(R20-P20,0)),"") | V20: =IF(C20="","",IF(_xlfn.MINIFS(入出庫履歴!$K$10:$K$1009,入出庫履歴!$E$10:$E$1009,C20,入出庫履歴!$N$10:$N$1009,">0")=0,"",_xlfn.MINIFS(入出庫履歴!$K$10:$K$1009,入出庫履歴!$E$10:$E$1009,C20,入出庫履歴!$N$10:$N$1009,">0"))) | W20: =IF(OR(V20="",P20<=0),"",IF(V20<TODAY(),"期限切れ",IF(V20-TODAY()<=設定!$C$4,"期限間近",""))) | Z20: =IF(OR(T20="要発注",T20="欠品",T20="在庫異常"),COUNTIF($T$10:T20,"要発注")+COUNTIF($T$10:T20,"欠品")+COUNTIF($T$10:T20,"在庫異常"),"")
B21: =IF(C21="","",COUNTA($C$10:C21)) | L21: =IF(C21="","",SUMIFS(入出庫履歴!$G$10:$G$1009,入出庫履歴!$E$10:$E$1009,C21,入出庫履歴!$D$10:$D$1009,"入庫")) | M21: =IF(C21="","",SUMIFS(入出庫履歴!$G$10:$G$1009,入出庫履歴!$E$10:$E$1009,C21,入出庫履歴!$D$10:$D$1009,"出庫")) | N21: =IF(C21="","",SUMIFS(入出庫履歴!$G$10:$G$1009,入出庫履歴!$E$10:$E$1009,C21,入出庫履歴!$D$10:$D$1009,"廃棄")) | O21: =IF(C21="","",SUMIFS(入出庫履歴!$G$10:$G$1009,入出庫履歴!$E$10:$E$1009,C21,入出庫履歴!$D$10:$D$1009,"棚卸調整")) | P21: =IF(C21="","",L21-M21-N21+O21) | Q21: =IF(OR(C21="",K21=""),"",ROUND(P21*K21,0)) | T21: =IF(C21="","",IF(P21<0,"在庫異常",IF(P21=0,"欠品",IF(AND(R21<>"",P21<=R21),"要発注","適正")))) | U21: =IF(OR(T21="要発注",T21="欠品"),IF(S21>0,CEILING(MAX(R21-P21,0)+S21*0.0001,S21),MAX(R21-P21,0)),"") | V21: =IF(C21="","",IF(_xlfn.MINIFS(入出庫履歴!$K$10:$K$1009,入出庫履歴!$E$10:$E$1009,C21,入出庫履歴!$N$10:$N$1009,">0")=0,"",_xlfn.MINIFS(入出庫履歴!$K$10:$K$1009,入出庫履歴!$E$10:$E$1009,C21,入出庫履歴!$N$10:$N$1009,">0"))) | W21: =IF(OR(V21="",P21<=0),"",IF(V21<TODAY(),"期限切れ",IF(V21-TODAY()<=設定!$C$4,"期限間近",""))) | Z21: =IF(OR(T21="要発注",T21="欠品",T21="在庫異常"),COUNTIF($T$10:T21,"要発注")+COUNTIF($T$10:T21,"欠品")+COUNTIF($T$10:T21,"在庫異常"),"")
B22: =IF(C22="","",COUNTA($C$10:C22)) | L22: =IF(C22="","",SUMIFS(入出庫履歴!$G$10:$G$1009,入出庫履歴!$E$10:$E$1009,C22,入出庫履歴!$D$10:$D$1009,"入庫")) | M22: =IF(C22="","",SUMIFS(入出庫履歴!$G$10:$G$1009,入出庫履歴!$E$10:$E$1009,C22,入出庫履歴!$D$10:$D$1009,"出庫")) | N22: =IF(C22="","",SUMIFS(入出庫履歴!$G$10:$G$1009,入出庫履歴!$E$10:$E$1009,C22,入出庫履歴!$D$10:$D$1009,"廃棄")) | O22: =IF(C22="","",SUMIFS(入出庫履歴!$G$10:$G$1009,入出庫履歴!$E$10:$E$1009,C22,入出庫履歴!$D$10:$D$1009,"棚卸調整")) | P22: =IF(C22="","",L22-M22-N22+O22) | Q22: =IF(OR(C22="",K22=""),"",ROUND(P22*K22,0)) | T22: =IF(C22="","",IF(P22<0,"在庫異常",IF(P22=0,"欠品",IF(AND(R22<>"",P22<=R22),"要発注","適正")))) | U22: =IF(OR(T22="要発注",T22="欠品"),IF(S22>0,CEILING(MAX(R22-P22,0)+S22*0.0001,S22),MAX(R22-P22,0)),"") | V22: =IF(C22="","",IF(_xlfn.MINIFS(入出庫履歴!$K$10:$K$1009,入出庫履歴!$E$10:$E$1009,C22,入出庫履歴!$N$10:$N$1009,">0")=0,"",_xlfn.MINIFS(入出庫履歴!$K$10:$K$1009,入出庫履歴!$E$10:$E$1009,C22,入出庫履歴!$N$10:$N$1009,">0"))) | W22: =IF(OR(V22="",P22<=0),"",IF(V22<TODAY(),"期限切れ",IF(V22-TODAY()<=設定!$C$4,"期限間近",""))) | Z22: =IF(OR(T22="要発注",T22="欠品",T22="在庫異常"),COUNTIF($T$10:T22,"要発注")+COUNTIF($T$10:T22,"欠品")+COUNTIF($T$10:T22,"在庫異常"),"")
B23: =IF(C23="","",COUNTA($C$10:C23)) | L23: =IF(C23="","",SUMIFS(入出庫履歴!$G$10:$G$1009,入出庫履歴!$E$10:$E$1009,C23,入出庫履歴!$D$10:$D$1009,"入庫")) | M23: =IF(C23="","",SUMIFS(入出庫履歴!$G$10:$G$1009,入出庫履歴!$E$10:$E$1009,C23,入出庫履歴!$D$10:$D$1009,"出庫")) | N23: =IF(C23="","",SUMIFS(入出庫履歴!$G$10:$G$1009,入出庫履歴!$E$10:$E$1009,C23,入出庫履歴!$D$10:$D$1009,"廃棄")) | O23: =IF(C23="","",SUMIFS(入出庫履歴!$G$10:$G$1009,入出庫履歴!$E$10:$E$1009,C23,入出庫履歴!$D$10:$D$1009,"棚卸調整")) | P23: =IF(C23="","",L23-M23-N23+O23) | Q23: =IF(OR(C23="",K23=""),"",ROUND(P23*K23,0)) | T23: =IF(C23="","",IF(P23<0,"在庫異常",IF(P23=0,"欠品",IF(AND(R23<>"",P23<=R23),"要発注","適正")))) | U23: =IF(OR(T23="要発注",T23="欠品"),IF(S23>0,CEILING(MAX(R23-P23,0)+S23*0.0001,S23),MAX(R23-P23,0)),"") | V23: =IF(C23="","",IF(_xlfn.MINIFS(入出庫履歴!$K$10:$K$1009,入出庫履歴!$E$10:$E$1009,C23,入出庫履歴!$N$10:$N$1009,">0")=0,"",_xlfn.MINIFS(入出庫履歴!$K$10:$K$1009,入出庫履歴!$E$10:$E$1009,C23,入出庫履歴!$N$10:$N$1009,">0"))) | W23: =IF(OR(V23="",P23<=0),"",IF(V23<TODAY(),"期限切れ",IF(V23-TODAY()<=設定!$C$4,"期限間近",""))) | Z23: =IF(OR(T23="要発注",T23="欠品",T23="在庫異常"),COUNTIF($T$10:T23,"要発注")+COUNTIF($T$10:T23,"欠品")+COUNTIF($T$10:T23,"在庫異常"),"")
B24: =IF(C24="","",COUNTA($C$10:C24)) | L24: =IF(C24="","",SUMIFS(入出庫履歴!$G$10:$G$1009,入出庫履歴!$E$10:$E$1009,C24,入出庫履歴!$D$10:$D$1009,"入庫")) | M24: =IF(C24="","",SUMIFS(入出庫履歴!$G$10:$G$1009,入出庫履歴!$E$10:$E$1009,C24,入出庫履歴!$D$10:$D$1009,"出庫")) | N24: =IF(C24="","",SUMIFS(入出庫履歴!$G$10:$G$1009,入出庫履歴!$E$10:$E$1009,C24,入出庫履歴!$D$10:$D$1009,"廃棄")) | O24: =IF(C24="","",SUMIFS(入出庫履歴!$G$10:$G$1009,入出庫履歴!$E$10:$E$1009,C24,入出庫履歴!$D$10:$D$1009,"棚卸調整")) | P24: =IF(C24="","",L24-M24-N24+O24) | Q24: =IF(OR(C24="",K24=""),"",ROUND(P24*K24,0)) | T24: =IF(C24="","",IF(P24<0,"在庫異常",IF(P24=0,"欠品",IF(AND(R24<>"",P24<=R24),"要発注","適正")))) | U24: =IF(OR(T24="要発注",T24="欠品"),IF(S24>0,CEILING(MAX(R24-P24,0)+S24*0.0001,S24),MAX(R24-P24,0)),"") | V24: =IF(C24="","",IF(_xlfn.MINIFS(入出庫履歴!$K$10:$K$1009,入出庫履歴!$E$10:$E$1009,C24,入出庫履歴!$N$10:$N$1009,">0")=0,"",_xlfn.MINIFS(入出庫履歴!$K$10:$K$1009,入出庫履歴!$E$10:$E$1009,C24,入出庫履歴!$N$10:$N$1009,">0"))) | W24: =IF(OR(V24="",P24<=0),"",IF(V24<TODAY(),"期限切れ",IF(V24-TODAY()<=設定!$C$4,"期限間近",""))) | Z24: =IF(OR(T24="要発注",T24="欠品",T24="在庫異常"),COUNTIF($T$10:T24,"要発注")+COUNTIF($T$10:T24,"欠品")+COUNTIF($T$10:T24,"在庫異常"),"")
B25: =IF(C25="","",COUNTA($C$10:C25)) | L25: =IF(C25="","",SUMIFS(入出庫履歴!$G$10:$G$1009,入出庫履歴!$E$10:$E$1009,C25,入出庫履歴!$D$10:$D$1009,"入庫")) | M25: =IF(C25="","",SUMIFS(入出庫履歴!$G$10:$G$1009,入出庫履歴!$E$10:$E$1009,C25,入出庫履歴!$D$10:$D$1009,"出庫")) | N25: =IF(C25="","",SUMIFS(入出庫履歴!$G$10:$G$1009,入出庫履歴!$E$10:$E$1009,C25,入出庫履歴!$D$10:$D$1009,"廃棄")) | O25: =IF(C25="","",SUMIFS(入出庫履歴!$G$10:$G$1009,入出庫履歴!$E$10:$E$1009,C25,入出庫履歴!$D$10:$D$1009,"棚卸調整")) | P25: =IF(C25="","",L25-M25-N25+O25) | Q25: =IF(OR(C25="",K25=""),"",ROUND(P25*K25,0)) | T25: =IF(C25="","",IF(P25<0,"在庫異常",IF(P25=0,"欠品",IF(AND(R25<>"",P25<=R25),"要発注","適正")))) | U25: =IF(OR(T25="要発注",T25="欠品"),IF(S25>0,CEILING(MAX(R25-P25,0)+S25*0.0001,S25),MAX(R25-P25,0)),"") | V25: =IF(C25="","",IF(_xlfn.MINIFS(入出庫履歴!$K$10:$K$1009,入出庫履歴!$E$10:$E$1009,C25,入出庫履歴!$N$10:$N$1009,">0")=0,"",_xlfn.MINIFS(入出庫履歴!$K$10:$K$1009,入出庫履歴!$E$10:$E$1009,C25,入出庫履歴!$N$10:$N$1009,">0"))) | W25: =IF(OR(V25="",P25<=0),"",IF(V25<TODAY(),"期限切れ",IF(V25-TODAY()<=設定!$C$4,"期限間近",""))) | Z25: =IF(OR(T25="要発注",T25="欠品",T25="在庫異常"),COUNTIF($T$10:T25,"要発注")+COUNTIF($T$10:T25,"欠品")+COUNTIF($T$10:T25,"在庫異常"),"")
B26: =IF(C26="","",COUNTA($C$10:C26)) | L26: =IF(C26="","",SUMIFS(入出庫履歴!$G$10:$G$1009,入出庫履歴!$E$10:$E$1009,C26,入出庫履歴!$D$10:$D$1009,"入庫")) | M26: =IF(C26="","",SUMIFS(入出庫履歴!$G$10:$G$1009,入出庫履歴!$E$10:$E$1009,C26,入出庫履歴!$D$10:$D$1009,"出庫")) | N26: =IF(C26="","",SUMIFS(入出庫履歴!$G$10:$G$1009,入出庫履歴!$E$10:$E$1009,C26,入出庫履歴!$D$10:$D$1009,"廃棄")) | O26: =IF(C26="","",SUMIFS(入出庫履歴!$G$10:$G$1009,入出庫履歴!$E$10:$E$1009,C26,入出庫履歴!$D$10:$D$1009,"棚卸調整")) | P26: =IF(C26="","",L26-M26-N26+O26) | Q26: =IF(OR(C26="",K26=""),"",ROUND(P26*K26,0)) | T26: =IF(C26="","",IF(P26<0,"在庫異常",IF(P26=0,"欠品",IF(AND(R26<>"",P26<=R26),"要発注","適正")))) | U26: =IF(OR(T26="要発注",T26="欠品"),IF(S26>0,CEILING(MAX(R26-P26,0)+S26*0.0001,S26),MAX(R26-P26,0)),"") | V26: =IF(C26="","",IF(_xlfn.MINIFS(入出庫履歴!$K$10:$K$1009,入出庫履歴!$E$10:$E$1009,C26,入出庫履歴!$N$10:$N$1009,">0")=0,"",_xlfn.MINIFS(入出庫履歴!$K$10:$K$1009,入出庫履歴!$E$10:$E$1009,C26,入出庫履歴!$N$10:$N$1009,">0"))) | W26: =IF(OR(V26="",P26<=0),"",IF(V26<TODAY(),"期限切れ",IF(V26-TODAY()<=設定!$C$4,"期限間近",""))) | Z26: =IF(OR(T26="要発注",T26="欠品",T26="在庫異常"),COUNTIF($T$10:T26,"要発注")+COUNTIF($T$10:T26,"欠品")+COUNTIF($T$10:T26,"在庫異常"),"")
B27: =IF(C27="","",COUNTA($C$10:C27)) | L27: =IF(C27="","",SUMIFS(入出庫履歴!$G$10:$G$1009,入出庫履歴!$E$10:$E$1009,C27,入出庫履歴!$D$10:$D$1009,"入庫")) | M27: =IF(C27="","",SUMIFS(入出庫履歴!$G$10:$G$1009,入出庫履歴!$E$10:$E$1009,C27,入出庫履歴!$D$10:$D$1009,"出庫")) | N27: =IF(C27="","",SUMIFS(入出庫履歴!$G$10:$G$1009,入出庫履歴!$E$10:$E$1009,C27,入出庫履歴!$D$10:$D$1009,"廃棄")) | O27: =IF(C27="","",SUMIFS(入出庫履歴!$G$10:$G$1009,入出庫履歴!$E$10:$E$1009,C27,入出庫履歴!$D$10:$D$1009,"棚卸調整")) | P27: =IF(C27="","",L27-M27-N27+O27) | Q27: =IF(OR(C27="",K27=""),"",ROUND(P27*K27,0)) | T27: =IF(C27="","",IF(P27<0,"在庫異常",IF(P27=0,"欠品",IF(AND(R27<>"",P27<=R27),"要発注","適正")))) | U27: =IF(OR(T27="要発注",T27="欠品"),IF(S27>0,CEILING(MAX(R27-P27,0)+S27*0.0001,S27),MAX(R27-P27,0)),"") | V27: =IF(C27="","",IF(_xlfn.MINIFS(入出庫履歴!$K$10:$K$1009,入出庫履歴!$E$10:$E$1009,C27,入出庫履歴!$N$10:$N$1009,">0")=0,"",_xlfn.MINIFS(入出庫履歴!$K$10:$K$1009,入出庫履歴!$E$10:$E$1009,C27,入出庫履歴!$N$10:$N$1009,">0"))) | W27: =IF(OR(V27="",P27<=0),"",IF(V27<TODAY(),"期限切れ",IF(V27-TODAY()<=設定!$C$4,"期限間近",""))) | Z27: =IF(OR(T27="要発注",T27="欠品",T27="在庫異常"),COUNTIF($T$10:T27,"要発注")+COUNTIF($T$10:T27,"欠品")+COUNTIF($T$10:T27,"在庫異常"),"")
B28: =IF(C28="","",COUNTA($C$10:C28)) | L28: =IF(C28="","",SUMIFS(入出庫履歴!$G$10:$G$1009,入出庫履歴!$E$10:$E$1009,C28,入出庫履歴!$D$10:$D$1009,"入庫")) | M28: =IF(C28="","",SUMIFS(入出庫履歴!$G$10:$G$1009,入出庫履歴!$E$10:$E$1009,C28,入出庫履歴!$D$10:$D$1009,"出庫")) | N28: =IF(C28="","",SUMIFS(入出庫履歴!$G$10:$G$1009,入出庫履歴!$E$10:$E$1009,C28,入出庫履歴!$D$10:$D$1009,"廃棄")) | O28: =IF(C28="","",SUMIFS(入出庫履歴!$G$10:$G$1009,入出庫履歴!$E$10:$E$1009,C28,入出庫履歴!$D$10:$D$1009,"棚卸調整")) | P28: =IF(C28="","",L28-M28-N28+O28) | Q28: =IF(OR(C28="",K28=""),"",ROUND(P28*K28,0)) | T28: =IF(C28="","",IF(P28<0,"在庫異常",IF(P28=0,"欠品",IF(AND(R28<>"",P28<=R28),"要発注","適正")))) | U28: =IF(OR(T28="要発注",T28="欠品"),IF(S28>0,CEILING(MAX(R28-P28,0)+S28*0.0001,S28),MAX(R28-P28,0)),"") | V28: =IF(C28="","",IF(_xlfn.MINIFS(入出庫履歴!$K$10:$K$1009,入出庫履歴!$E$10:$E$1009,C28,入出庫履歴!$N$10:$N$1009,">0")=0,"",_xlfn.MINIFS(入出庫履歴!$K$10:$K$1009,入出庫履歴!$E$10:$E$1009,C28,入出庫履歴!$N$10:$N$1009,">0"))) | W28: =IF(OR(V28="",P28<=0),"",IF(V28<TODAY(),"期限切れ",IF(V28-TODAY()<=設定!$C$4,"期限間近",""))) | Z28: =IF(OR(T28="要発注",T28="欠品",T28="在庫異常"),COUNTIF($T$10:T28,"要発注")+COUNTIF($T$10:T28,"欠品")+COUNTIF($T$10:T28,"在庫異常"),"")
B29: =IF(C29="","",COUNTA($C$10:C29)) | L29: =IF(C29="","",SUMIFS(入出庫履歴!$G$10:$G$1009,入出庫履歴!$E$10:$E$1009,C29,入出庫履歴!$D$10:$D$1009,"入庫")) | M29: =IF(C29="","",SUMIFS(入出庫履歴!$G$10:$G$1009,入出庫履歴!$E$10:$E$1009,C29,入出庫履歴!$D$10:$D$1009,"出庫")) | N29: =IF(C29="","",SUMIFS(入出庫履歴!$G$10:$G$1009,入出庫履歴!$E$10:$E$1009,C29,入出庫履歴!$D$10:$D$1009,"廃棄")) | O29: =IF(C29="","",SUMIFS(入出庫履歴!$G$10:$G$1009,入出庫履歴!$E$10:$E$1009,C29,入出庫履歴!$D$10:$D$1009,"棚卸調整")) | P29: =IF(C29="","",L29-M29-N29+O29) | Q29: =IF(OR(C29="",K29=""),"",ROUND(P29*K29,0)) | T29: =IF(C29="","",IF(P29<0,"在庫異常",IF(P29=0,"欠品",IF(AND(R29<>"",P29<=R29),"要発注","適正")))) | U29: =IF(OR(T29="要発注",T29="欠品"),IF(S29>0,CEILING(MAX(R29-P29,0)+S29*0.0001,S29),MAX(R29-P29,0)),"") | V29: =IF(C29="","",IF(_xlfn.MINIFS(入出庫履歴!$K$10:$K$1009,入出庫履歴!$E$10:$E$1009,C29,入出庫履歴!$N$10:$N$1009,">0")=0,"",_xlfn.MINIFS(入出庫履歴!$K$10:$K$1009,入出庫履歴!$E$10:$E$1009,C29,入出庫履歴!$N$10:$N$1009,">0"))) | W29: =IF(OR(V29="",P29<=0),"",IF(V29<TODAY(),"期限切れ",IF(V29-TODAY()<=設定!$C$4,"期限間近",""))) | Z29: =IF(OR(T29="要発注",T29="欠品",T29="在庫異常"),COUNTIF($T$10:T29,"要発注")+COUNTIF($T$10:T29,"欠品")+COUNTIF($T$10:T29,"在庫異常"),"")
B30: =IF(C30="","",COUNTA($C$10:C30)) | L30: =IF(C30="","",SUMIFS(入出庫履歴!$G$10:$G$1009,入出庫履歴!$E$10:$E$1009,C30,入出庫履歴!$D$10:$D$1009,"入庫")) | M30: =IF(C30="","",SUMIFS(入出庫履歴!$G$10:$G$1009,入出庫履歴!$E$10:$E$1009,C30,入出庫履歴!$D$10:$D$1009,"出庫")) | N30: =IF(C30="","",SUMIFS(入出庫履歴!$G$10:$G$1009,入出庫履歴!$E$10:$E$1009,C30,入出庫履歴!$D$10:$D$1009,"廃棄")) | O30: =IF(C30="","",SUMIFS(入出庫履歴!$G$10:$G$1009,入出庫履歴!$E$10:$E$1009,C30,入出庫履歴!$D$10:$D$1009,"棚卸調整")) | P30: =IF(C30="","",L30-M30-N30+O30) | Q30: =IF(OR(C30="",K30=""),"",ROUND(P30*K30,0)) | T30: =IF(C30="","",IF(P30<0,"在庫異常",IF(P30=0,"欠品",IF(AND(R30<>"",P30<=R30),"要発注","適正")))) | U30: =IF(OR(T30="要発注",T30="欠品"),IF(S30>0,CEILING(MAX(R30-P30,0)+S30*0.0001,S30),MAX(R30-P30,0)),"") | V30: =IF(C30="","",IF(_xlfn.MINIFS(入出庫履歴!$K$10:$K$1009,入出庫履歴!$E$10:$E$1009,C30,入出庫履歴!$N$10:$N$1009,">0")=0,"",_xlfn.MINIFS(入出庫履歴!$K$10:$K$1009,入出庫履歴!$E$10:$E$1009,C30,入出庫履歴!$N$10:$N$1009,">0"))) | W30: =IF(OR(V30="",P30<=0),"",IF(V30<TODAY(),"期限切れ",IF(V30-TODAY()<=設定!$C$4,"期限間近",""))) | Z30: =IF(OR(T30="要発注",T30="欠品",T30="在庫異常"),COUNTIF($T$10:T30,"要発注")+COUNTIF($T$10:T30,"欠品")+COUNTIF($T$10:T30,"在庫異常"),"")
... B309: =IF(C309="","",COUNTA($C$10:C309)) | L309: =IF(C309="","",SUMIFS(入出庫履歴!$G$10:$G$1009,入出庫履歴!$E$10:$E$1009,C309,入出庫履歴!$D$10:$D$1009,"入庫")) | M309: =IF(C309="","",SUMIFS(入出庫履歴!$G$10:$G$1009,入出庫履歴!$E$10:$E$1009,C309,入出庫履歴!$D$10:$D$1009,"出庫")) | N309: =IF(C309="","",SUMIFS(入出庫履歴!$G$10:$G$1009,入出庫履歴!$E$10:$E$1009,C309,入出庫履歴!$D$10:$D$1009,"廃棄")) | O309: =IF(C309="","",SUMIFS(入出庫履歴!$G$10:$G$1009,入出庫履歴!$E$10:$E$1009,C309,入出庫履歴!$D$10:$D$1009,"棚卸調整")) | P309: =IF(C309="","",L309-M309-N309+O309) | Q309: =IF(OR(C309="",K309=""),"",ROUND(P309*K309,0)) | T309: =IF(C309="","",IF(P309<0,"在庫異常",IF(P309=0,"欠品",IF(AND(R309<>"",P309<=R309),"要発注","適正")))) | U309: =IF(OR(T309="要発注",T309="欠品"),IF(S309>0,CEILING(MAX(R309-P309,0)+S309*0.0001,S309),MAX(R309-P309,0)),"") | V309: =IF(C309="","",IF(_xlfn.MINIFS(入出庫履歴!$K$10:$K$1009,入出庫履歴!$E$10:$E$1009,C309,入出庫履歴!$N$10:$N$1009,">0")=0,"",_xlfn.MINIFS(入出庫履歴!$K$10:$K$1009,入出庫履歴!$E$10:$E$1009,C309,入出庫履歴!$N$10:$N$1009,">0"))) | W309: =IF(OR(V309="",P309<=0),"",IF(V309<TODAY(),"期限切れ",IF(V309-TODAY()<=設定!$C$4,"期限間近",""))) | Z309: =IF(OR(T309="要発注",T309="欠品",T309="在庫異常"),COUNTIF($T$10:T309,"要発注")+COUNTIF($T$10:T309,"欠品")+COUNTIF($T$10:T309,"在庫異常"),"")

Sheet 入出庫履歴
A1: 他にも魅力的な情報がたっぷり！テンプレート倉庫
B2: 入庫するときは賞味・消費期限を入れると、入庫ロットが自動で付きます。出庫・廃棄のときは「対象ロット」をプルダウンから選ぶと、そのロットの残数が減り、期限管理ができます（古いロットから使う＝先入れ先出し）。
B3: 入出庫履歴
B6: 登録件数 | D6: 今月の入庫金額 | F6: 今月の出庫金額 | H6: 今月の廃棄金額 | K6: 要確認の行
B7: =COUNT($C$10:$C$1009) -> 20 | D7: =SUMIFS($J$10:$J$1009,$D$10:$D$1009,"入庫",$C$10:$C$1009,">="&EOMONTH(TODAY(),-1)+1,$C$10:$C$1009,"<="&EOMONTH(TODAY(),0)) -> 56480 | F7: =SUMIFS($J$10:$J$1009,$D$10:$D$1009,"出庫",$C$10:$C$1009,">="&EOMONTH(TODAY(),-1)+1,$C$10:$C$1009,"<="&EOMONTH(TODAY(),0)) -> 31538 | H7: =SUMIFS($J$10:$J$1009,$D$10:$D$1009,"廃棄",$C$10:$C$1009,">="&EOMONTH(TODAY(),-1)+1,$C$10:$C$1009,"<="&EOMONTH(TODAY(),0)) -> 180 | K7: =COUNTIF($P$10:$P$1009,"?*") -> 0
B9: No | C9: 日付 | D9: 区分 | E9: 食材コード | F9: 食材名 | G9: 数量 | H9: 単位 | I9: 単価（円） | J9: 金額（円） | K9: 賞味・消費期限（入庫時） | L9: 入庫ロット | M9: 対象ロット（出庫・廃棄時） | N9: ロット残数 | O9: 期限まで（日） | P9: 入力チェック | Q9: 担当者 | R9: 用途・入荷元 | S9: 備考
B10: =IF(C10="","",COUNT($C$10:C10)) -> 1 | C10: 46296 | D10: 入庫 | E10: PK-001 | F10: =IF(E10="","",IFERROR(INDEX(食材マスタ!$D$10:$D$309,MATCH(E10,食材マスタ!$C$10:$C$309,0)),"※コード未登録")) -> テイクアウト容器 | G10: 300 | H10: =IF(E10="","",IFERROR(INDEX(食材マスタ!$H$10:$H$309,MATCH(E10,食材マスタ!$C$10:$C$309,0)),"")) -> 個 | I10: =IF(E10="","",IFERROR(INDEX(食材マスタ!$K$10:$K$309,MATCH(E10,食材マスタ!$C$10:$C$309,0)),"")) -> 18 | J10: =IF(OR(G10="",I10=""),"",ROUND(ABS(G10)*I10,0)) -> 5400 | L10: =IF(AND(D10="入庫",E10<>""),E10&"-"&TEXT(ROW()-9,"0000"),"") -> PK-001-0001 | N10: =IF(L10="","",G10-SUMIFS($G$10:$G$1009,$M$10:$M$1009,L10,$D$10:$D$1009,"出庫")-SUMIFS($G$10:$G$1009,$M$10:$M$1009,L10,$D$10:$D$1009,"廃棄")+SUMIFS($G$10:$G$1009,$M$10:$M$1009,L10,$D$10:$D$1009,"棚卸調整")) -> 180 | O10: =IF(OR(L10="",K10=""),"",IF(N10<=0,"",K10-TODAY())) | P10: =IF(E10="","",IF(F10="※コード未登録","コード未登録",IF(AND(OR(D10="出庫",D10="廃棄"),M10=""),"ロット未指定",IF(AND(M10<>"",LEFT(M10,LEN(E10)+1)<>E10&"-"),"ロット違い",IF(AND(L10<>"",N10<0),"ロット残マイナス",""))))) | Q10: 高橋 | R10: ○○包材 | U10: =IF(AND(ISNUMBER(O10),O10<=設定!$C$4),1,0) -> 0 | V10: =IF(U10=1,SUM($U$10:U10),"")
B11: =IF(C11="","",COUNT($C$10:C11)) -> 2 | C11: 46296 | D11: 入庫 | E11: SE-001 | F11: =IF(E11="","",IFERROR(INDEX(食材マスタ!$D$10:$D$309,MATCH(E11,食材マスタ!$C$10:$C$309,0)),"※コード未登録")) -> 濃口醤油 | G11: 6 | H11: =IF(E11="","",IFERROR(INDEX(食材マスタ!$H$10:$H$309,MATCH(E11,食材マスタ!$C$10:$C$309,0)),"")) -> 本 | I11: =IF(E11="","",IFERROR(INDEX(食材マスタ!$K$10:$K$309,MATCH(E11,食材マスタ!$C$10:$C$309,0)),"")) -> 520 | J11: =IF(OR(G11="",I11=""),"",ROUND(ABS(G11)*I11,0)) -> 3120 | K11: 46568 | L11: =IF(AND(D11="入庫",E11<>""),E11&"-"&TEXT(ROW()-9,"0000"),"") -> SE-001-0002 | N11: =IF(L11="","",G11-SUMIFS($G$10:$G$1009,$M$10:$M$1009,L11,$D$10:$D$1009,"出庫")-SUMIFS($G$10:$G$1009,$M$10:$M$1009,L11,$D$10:$D$1009,"廃棄")+SUMIFS($G$10:$G$1009,$M$10:$M$1009,L11,$D$10:$D$1009,"棚卸調整")) -> 4 | O11: =IF(OR(L11="",K11=""),"",IF(N11<=0,"",K11-TODAY())) -> 242 | P11: =IF(E11="","",IF(F11="※コード未登録","コード未登録",IF(AND(OR(D11="出庫",D11="廃棄"),M11=""),"ロット未指定",IF(AND(M11<>"",LEFT(M11,LEN(E11)+1)<>E11&"-"),"ロット違い",IF(AND(L11<>"",N11<0),"ロット残マイナス",""))))) | Q11: 高橋 | R11: ○○醸造 | U11: =IF(AND(ISNUMBER(O11),O11<=設定!$C$4),1,0) -> 0 | V11: =IF(U11=1,SUM($U$10:U11),"")
B12: =IF(C12="","",COUNT($C$10:C12)) -> 3 | C12: 46296 | D12: 入庫 | E12: PW-001 | F12: =IF(E12="","",IFERROR(INDEX(食材マスタ!$D$10:$D$309,MATCH(E12,食材マスタ!$C$10:$C$309,0)),"※コード未登録")) -> 薄力粉 | G12: 10 | H12: =IF(E12="","",IFERROR(INDEX(食材マスタ!$H$10:$H$309,MATCH(E12,食材マスタ!$C$10:$C$309,0)),"")) -> 袋 | I12: =IF(E12="","",IFERROR(INDEX(食材マスタ!$K$10:$K$309,MATCH(E12,食材マスタ!$C$10:$C$309,0)),"")) -> 260 | J12: =IF(OR(G12="",I12=""),"",ROUND(ABS(G12)*I12,0)) -> 2600 | K12: 46477 | L12: =IF(AND(D12="入庫",E12<>""),E12&"-"&TEXT(ROW()-9,"0000"),"") -> PW-001-0003 | N12: =IF(L12="","",G12-SUMIFS($G$10:$G$1009,$M$10:$M$1009,L12,$D$10:$D$1009,"出庫")-SUMIFS($G$10:$G$1009,$M$10:$M$1009,L12,$D$10:$D$1009,"廃棄")+SUMIFS($G$10:$G$1009,$M$10:$M$1009,L12,$D$10:$D$1009,"棚卸調整")) -> 7 | O12: =IF(OR(L12="",K12=""),"",IF(N12<=0,"",K12-TODAY())) -> 151 | P12: =IF(E12="","",IF(F12="※コード未登録","コード未登録",IF(AND(OR(D12="出庫",D12="廃棄"),M12=""),"ロット未指定",IF(AND(M12<>"",LEFT(M12,LEN(E12)+1)<>E12&"-"),"ロット違い",IF(AND(L12<>"",N12<0),"ロット残マイナス",""))))) | Q12: 高橋 | R12: ○○製粉 | U12: =IF(AND(ISNUMBER(O12),O12<=設定!$C$4),1,0) -> 0 | V12: =IF(U12=1,SUM($U$10:U12),"")
B13: =IF(C13="","",COUNT($C$10:C13)) -> 4 | C13: 46310 | D13: 入庫 | E13: FS-001 | F13: =IF(E13="","",IFERROR(INDEX(食材マスタ!$D$10:$D$309,MATCH(E13,食材マスタ!$C$10:$C$309,0)),"※コード未登録")) -> サーモン切身 | G13: 5 | H13: =IF(E13="","",IFERROR(INDEX(食材マスタ!$H$10:$H$309,MATCH(E13,食材マスタ!$C$10:$C$309,0)),"")) -> kg | I13: =IF(E13="","",IFERROR(INDEX(食材マスタ!$K$10:$K$309,MATCH(E13,食材マスタ!$C$10:$C$309,0)),"")) -> 2800 | J13: =IF(OR(G13="",I13=""),"",ROUND(ABS(G13)*I13,0)) -> 14000 | K13: 46402 | L13: =IF(AND(D13="入庫",E13<>""),E13&"-"&TEXT(ROW()-9,"0000"),"") -> FS-001-0004 | N13: =IF(L13="","",G13-SUMIFS($G$10:$G$1009,$M$10:$M$1009,L13,$D$10:$D$1009,"出庫")-SUMIFS($G$10:$G$1009,$M$10:$M$1009,L13,$D$10:$D$1009,"廃棄")+SUMIFS($G$10:$G$1009,$M$10:$M$1009,L13,$D$10:$D$1009,"棚卸調整")) -> 2 | O13: =IF(OR(L13="",K13=""),"",IF(N13<=0,"",K13-TODAY())) -> 76 | P13: =IF(E13="","",IF(F13="※コード未登録","コード未登録",IF(AND(OR(D13="出庫",D13="廃棄"),M13=""),"ロット未指定",IF(AND(M13<>"",LEFT(M13,LEN(E13)+1)<>E13&"-"),"ロット違い",IF(AND(L13<>"",N13<0),"ロット残マイナス",""))))) | Q13: 高橋 | R13: ○○水産 | U13: =IF(AND(ISNUMBER(O13),O13<=設定!$C$4),1,0) -> 0 | V13: =IF(U13=1,SUM($U$10:U13),"")
B14: =IF(C14="","",COUNT($C$10:C14)) -> 5 | C14: 46315 | D14: 入庫 | E14: MT-001 | F14: =IF(E14="","",IFERROR(INDEX(食材マスタ!$D$10:$D$309,MATCH(E14,食材マスタ!$C$10:$C$309,0)),"※コード未登録")) -> 鶏もも肉 | G14: 10 | H14: =IF(E14="","",IFERROR(INDEX(食材マスタ!$H$10:$H$309,MATCH(E14,食材マスタ!$C$10:$C$309,0)),"")) -> kg | I14: =IF(E14="","",IFERROR(INDEX(食材マスタ!$K$10:$K$309,MATCH(E14,食材マスタ!$C$10:$C$309,0)),"")) -> 980 | J14: =IF(OR(G14="",I14=""),"",ROUND(ABS(G14)*I14,0)) -> 9800 | K14: 46320 | L14: =IF(AND(D14="入庫",E14<>""),E14&"-"&TEXT(ROW()-9,"0000"),"") -> MT-001-0005 | N14: =IF(L14="","",G14-SUMIFS($G$10:$G$1009,$M$10:$M$1009,L14,$D$10:$D$1009,"出庫")-SUMIFS($G$10:$G$1009,$M$10:$M$1009,L14,$D$10:$D$1009,"廃棄")+SUMIFS($G$10:$G$1009,$M$10:$M$1009,L14,$D$10:$D$1009,"棚卸調整")) -> 2 | O14: =IF(OR(L14="",K14=""),"",IF(N14<=0,"",K14-TODAY())) -> -6 | P14: =IF(E14="","",IF(F14="※コード未登録","コード未登録",IF(AND(OR(D14="出庫",D14="廃棄"),M14=""),"ロット未指定",IF(AND(M14<>"",LEFT(M14,LEN(E14)+1)<>E14&"-"),"ロット違い",IF(AND(L14<>"",N14<0),"ロット残マイナス",""))))) | Q14: 高橋 | R14: ○○精肉 | U14: =IF(AND(ISNUMBER(O14),O14<=設定!$C$4),1,0) -> 1 | V14: =IF(U14=1,SUM($U$10:U14),"") -> 1
B15: =IF(C15="","",COUNT($C$10:C15)) -> 6 | C15: 46315 | D15: 入庫 | E15: VG-001 | F15: =IF(E15="","",IFERROR(INDEX(食材マスタ!$D$10:$D$309,MATCH(E15,食材マスタ!$C$10:$C$309,0)),"※コード未登録")) -> 玉ねぎ | G15: 20 | H15: =IF(E15="","",IFERROR(INDEX(食材マスタ!$H$10:$H$309,MATCH(E15,食材マスタ!$C$10:$C$309,0)),"")) -> kg | I15: =IF(E15="","",IFERROR(INDEX(食材マスタ!$K$10:$K$309,MATCH(E15,食材マスタ!$C$10:$C$309,0)),"")) -> 220 | J15: =IF(OR(G15="",I15=""),"",ROUND(ABS(G15)*I15,0)) -> 4400 | L15: =IF(AND(D15="入庫",E15<>""),E15&"-"&TEXT(ROW()-9,"0000"),"") -> VG-001-0006 | N15: =IF(L15="","",G15-SUMIFS($G$10:$G$1009,$M$10:$M$1009,L15,$D$10:$D$1009,"出庫")-SUMIFS($G$10:$G$1009,$M$10:$M$1009,L15,$D$10:$D$1009,"廃棄")+SUMIFS($G$10:$G$1009,$M$10:$M$1009,L15,$D$10:$D$1009,"棚卸調整")) -> 7.6 | O15: =IF(OR(L15="",K15=""),"",IF(N15<=0,"",K15-TODAY())) | P15: =IF(E15="","",IF(F15="※コード未登録","コード未登録",IF(AND(OR(D15="出庫",D15="廃棄"),M15=""),"ロット未指定",IF(AND(M15<>"",LEFT(M15,LEN(E15)+1)<>E15&"-"),"ロット違い",IF(AND(L15<>"",N15<0),"ロット残マイナス",""))))) | Q15: 高橋 | R15: ○○青果 | U15: =IF(AND(ISNUMBER(O15),O15<=設定!$C$4),1,0) -> 0 | V15: =IF(U15=1,SUM($U$10:U15),"")
B16: =IF(C16="","",COUNT($C$10:C16)) -> 7 | C16: 46315 | D16: 入庫 | E16: DY-002 | F16: =IF(E16="","",IFERROR(INDEX(食材マスタ!$D$10:$D$309,MATCH(E16,食材マスタ!$C$10:$C$309,0)),"※コード未登録")) -> 鶏卵 | G16: 10 | H16: =IF(E16="","",IFERROR(INDEX(食材マスタ!$H$10:$H$309,MATCH(E16,食材マスタ!$C$10:$C$309,0)),"")) -> パック | I16: =IF(E16="","",IFERROR(INDEX(食材マスタ!$K$10:$K$309,MATCH(E16,食材マスタ!$C$10:$C$309,0)),"")) -> 280 | J16: =IF(OR(G16="",I16=""),"",ROUND(ABS(G16)*I16,0)) -> 2800 | K16: 46329 | L16: =IF(AND(D16="入庫",E16<>""),E16&"-"&TEXT(ROW()-9,"0000"),"") -> DY-002-0007 | N16: =IF(L16="","",G16-SUMIFS($G$10:$G$1009,$M$10:$M$1009,L16,$D$10:$D$1009,"出庫")-SUMIFS($G$10:$G$1009,$M$10:$M$1009,L16,$D$10:$D$1009,"廃棄")+SUMIFS($G$10:$G$1009,$M$10:$M$1009,L16,$D$10:$D$1009,"棚卸調整")) -> 0 | O16: =IF(OR(L16="",K16=""),"",IF(N16<=0,"",K16-TODAY())) | P16: =IF(E16="","",IF(F16="※コード未登録","コード未登録",IF(AND(OR(D16="出庫",D16="廃棄"),M16=""),"ロット未指定",IF(AND(M16<>"",LEFT(M16,LEN(E16)+1)<>E16&"-"),"ロット違い",IF(AND(L16<>"",N16<0),"ロット残マイナス",""))))) | Q16: 高橋 | R16: ○○養鶏 | U16: =IF(AND(ISNUMBER(O16),O16<=設定!$C$4),1,0) -> 0 | V16: =IF(U16=1,SUM($U$10:U16),"")
B17: =IF(C17="","",COUNT($C$10:C17)) -> 8 | C17: 46317 | D17: 出庫 | E17: MT-001 | F17: =IF(E17="","",IFERROR(INDEX(食材マスタ!$D$10:$D$309,MATCH(E17,食材マスタ!$C$10:$C$309,0)),"※コード未登録")) -> 鶏もも肉 | G17: 8 | H17: =IF(E17="","",IFERROR(INDEX(食材マスタ!$H$10:$H$309,MATCH(E17,食材マスタ!$C$10:$C$309,0)),"")) -> kg | I17: =IF(E17="","",IFERROR(INDEX(食材マスタ!$K$10:$K$309,MATCH(E17,食材マスタ!$C$10:$C$309,0)),"")) -> 980 | J17: =IF(OR(G17="",I17=""),"",ROUND(ABS(G17)*I17,0)) -> 7840 | L17: =IF(AND(D17="入庫",E17<>""),E17&"-"&TEXT(ROW()-9,"0000"),"") | M17: MT-001-0005 | N17: =IF(L17="","",G17-SUMIFS($G$10:$G$1009,$M$10:$M$1009,L17,$D$10:$D$1009,"出庫")-SUMIFS($G$10:$G$1009,$M$10:$M$1009,L17,$D$10:$D$1009,"廃棄")+SUMIFS($G$10:$G$1009,$M$10:$M$1009,L17,$D$10:$D$1009,"棚卸調整")) | O17: =IF(OR(L17="",K17=""),"",IF(N17<=0,"",K17-TODAY())) | P17: =IF(E17="","",IF(F17="※コード未登録","コード未登録",IF(AND(OR(D17="出庫",D17="廃棄"),M17=""),"ロット未指定",IF(AND(M17<>"",LEFT(M17,LEN(E17)+1)<>E17&"-"),"ロット違い",IF(AND(L17<>"",N17<0),"ロット残マイナス",""))))) | Q17: 佐藤 | R17: ランチ仕込み | U17: =IF(AND(ISNUMBER(O17),O17<=設定!$C$4),1,0) -> 0 | V17: =IF(U17=1,SUM($U$10:U17),"")
B18: =IF(C18="","",COUNT($C$10:C18)) -> 9 | C18: 46319 | D18: 出庫 | E18: FS-001 | F18: =IF(E18="","",IFERROR(INDEX(食材マスタ!$D$10:$D$309,MATCH(E18,食材マスタ!$C$10:$C$309,0)),"※コード未登録")) -> サーモン切身 | G18: 3 | H18: =IF(E18="","",IFERROR(INDEX(食材マスタ!$H$10:$H$309,MATCH(E18,食材マスタ!$C$10:$C$309,0)),"")) -> kg | I18: =IF(E18="","",IFERROR(INDEX(食材マスタ!$K$10:$K$309,MATCH(E18,食材マスタ!$C$10:$C$309,0)),"")) -> 2800 | J18: =IF(OR(G18="",I18=""),"",ROUND(ABS(G18)*I18,0)) -> 8400 | L18: =IF(AND(D18="入庫",E18<>""),E18&"-"&TEXT(ROW()-9,"0000"),"") | M18: FS-001-0004 | N18: =IF(L18="","",G18-SUMIFS($G$10:$G$1009,$M$10:$M$1009,L18,$D$10:$D$1009,"出庫")-SUMIFS($G$10:$G$1009,$M$10:$M$1009,L18,$D$10:$D$1009,"廃棄")+SUMIFS($G$10:$G$1009,$M$10:$M$1009,L18,$D$10:$D$1009,"棚卸調整")) | O18: =IF(OR(L18="",K18=""),"",IF(N18<=0,"",K18-TODAY())) | P18: =IF(E18="","",IF(F18="※コード未登録","コード未登録",IF(AND(OR(D18="出庫",D18="廃棄"),M18=""),"ロット未指定",IF(AND(M18<>"",LEFT(M18,LEN(E18)+1)<>E18&"-"),"ロット違い",IF(AND(L18<>"",N18<0),"ロット残マイナス",""))))) | Q18: 佐藤 | R18: ディナー仕込み | U18: =IF(AND(ISNUMBER(O18),O18<=設定!$C$4),1,0) -> 0 | V18: =IF(U18=1,SUM($U$10:U18),"")
B19: =IF(C19="","",COUNT($C$10:C19)) -> 10 | C19: 46320 | D19: 入庫 | E19: VG-002 | F19: =IF(E19="","",IFERROR(INDEX(食材マスタ!$D$10:$D$309,MATCH(E19,食材マスタ!$C$10:$C$309,0)),"※コード未登録")) -> キャベツ | G19: 10 | H19: =IF(E19="","",IFERROR(INDEX(食材マスタ!$H$10:$H$309,MATCH(E19,食材マスタ!$C$10:$C$309,0)),"")) -> 個 | I19: =IF(E19="","",IFERROR(INDEX(食材マスタ!$K$10:$K$309,MATCH(E19,食材マスタ!$C$10:$C$309,0)),"")) -> 180 | J19: =IF(OR(G19="",I19=""),"",ROUND(ABS(G19)*I19,0)) -> 1800 | K19: 46329 | L19: =IF(AND(D19="入庫",E19<>""),E19&"-"&TEXT(ROW()-9,"0000"),"") -> VG-002-0010 | N19: =IF(L19="","",G19-SUMIFS($G$10:$G$1009,$M$10:$M$1009,L19,$D$10:$D$1009,"出庫")-SUMIFS($G$10:$G$1009,$M$10:$M$1009,L19,$D$10:$D$1009,"廃棄")+SUMIFS($G$10:$G$1009,$M$10:$M$1009,L19,$D$10:$D$1009,"棚卸調整")) -> 9 | O19: =IF(OR(L19="",K19=""),"",IF(N19<=0,"",K19-TODAY())) -> 3 | P19: =IF(E19="","",IF(F19="※コード未登録","コード未登録",IF(AND(OR(D19="出庫",D19="廃棄"),M19=""),"ロット未指定",IF(AND(M19<>"",LEFT(M19,LEN(E19)+1)<>E19&"-"),"ロット違い",IF(AND(L19<>"",N19<0),"ロット残マイナス",""))))) | Q19: 高橋 | R19: ○○青果 | U19: =IF(AND(ISNUMBER(O19),O19<=設定!$C$4),1,0) -> 1 | V19: =IF(U19=1,SUM($U$10:U19),"") -> 2
B20: =IF(C20="","",COUNT($C$10:C20)) -> 11 | C20: 46321 | D20: 入庫 | E20: MT-001 | F20: =IF(E20="","",IFERROR(INDEX(食材マスタ!$D$10:$D$309,MATCH(E20,食材マスタ!$C$10:$C$309,0)),"※コード未登録")) -> 鶏もも肉 | G20: 10 | H20: =IF(E20="","",IFERROR(INDEX(食材マスタ!$H$10:$H$309,MATCH(E20,食材マスタ!$C$10:$C$309,0)),"")) -> kg | I20: =IF(E20="","",IFERROR(INDEX(食材マスタ!$K$10:$K$309,MATCH(E20,食材マスタ!$C$10:$C$309,0)),"")) -> 980 | J20: =IF(OR(G20="",I20=""),"",ROUND(ABS(G20)*I20,0)) -> 9800 | K20: 46327 | L20: =IF(AND(D20="入庫",E20<>""),E20&"-"&TEXT(ROW()-9,"0000"),"") -> MT-001-0011 | N20: =IF(L20="","",G20-SUMIFS($G$10:$G$1009,$M$10:$M$1009,L20,$D$10:$D$1009,"出庫")-SUMIFS($G$10:$G$1009,$M$10:$M$1009,L20,$D$10:$D$1009,"廃棄")+SUMIFS($G$10:$G$1009,$M$10:$M$1009,L20,$D$10:$D$1009,"棚卸調整")) -> 5.5 | O20: =IF(OR(L20="",K20=""),"",IF(N20<=0,"",K20-TODAY())) -> 1 | P20: =IF(E20="","",IF(F20="※コード未登録","コード未登録",IF(AND(OR(D20="出庫",D20="廃棄"),M20=""),"ロット未指定",IF(AND(M20<>"",LEFT(M20,LEN(E20)+1)<>E20&"-"),"ロット違い",IF(AND(L20<>"",N20<0),"ロット残マイナス",""))))) | Q20: 高橋 | R20: ○○精肉 | U20: =IF(AND(ISNUMBER(O20),O20<=設定!$C$4),1,0) -> 1 | V20: =IF(U20=1,SUM($U$10:U20),"") -> 3
B21: =IF(C21="","",COUNT($C$10:C21)) -> 12 | C21: 46322 | D21: 入庫 | E21: DY-001 | F21: =IF(E21="","",IFERROR(INDEX(食材マスタ!$D$10:$D$309,MATCH(E21,食材マスタ!$C$10:$C$309,0)),"※コード未登録")) -> 牛乳 | G21: 12 | H21: =IF(E21="","",IFERROR(INDEX(食材マスタ!$H$10:$H$309,MATCH(E21,食材マスタ!$C$10:$C$309,0)),"")) -> 本 | I21: =IF(E21="","",IFERROR(INDEX(食材マスタ!$K$10:$K$309,MATCH(E21,食材マスタ!$C$10:$C$309,0)),"")) -> 230 | J21: =IF(OR(G21="",I21=""),"",ROUND(ABS(G21)*I21,0)) -> 2760 | K21: 46328 | L21: =IF(AND(D21="入庫",E21<>""),E21&"-"&TEXT(ROW()-9,"0000"),"") -> DY-001-0012 | N21: =IF(L21="","",G21-SUMIFS($G$10:$G$1009,$M$10:$M$1009,L21,$D$10:$D$1009,"出庫")-SUMIFS($G$10:$G$1009,$M$10:$M$1009,L21,$D$10:$D$1009,"廃棄")+SUMIFS($G$10:$G$1009,$M$10:$M$1009,L21,$D$10:$D$1009,"棚卸調整")) -> 6 | O21: =IF(OR(L21="",K21=""),"",IF(N21<=0,"",K21-TODAY())) -> 2 | P21: =IF(E21="","",IF(F21="※コード未登録","コード未登録",IF(AND(OR(D21="出庫",D21="廃棄"),M21=""),"ロット未指定",IF(AND(M21<>"",LEFT(M21,LEN(E21)+1)<>E21&"-"),"ロット違い",IF(AND(L21<>"",N21<0),"ロット残マイナス",""))))) | Q21: 高橋 | R21: ○○乳業 | U21: =IF(AND(ISNUMBER(O21),O21<=設定!$C$4),1,0) -> 1 | V21: =IF(U21=1,SUM($U$10:U21),"") -> 4
B22: =IF(C22="","",COUNT($C$10:C22)) -> 13 | C22: 46322 | D22: 出庫 | E22: MT-001 | F22: =IF(E22="","",IFERROR(INDEX(食材マスタ!$D$10:$D$309,MATCH(E22,食材マスタ!$C$10:$C$309,0)),"※コード未登録")) -> 鶏もも肉 | G22: 4.5 | H22: =IF(E22="","",IFERROR(INDEX(食材マスタ!$H$10:$H$309,MATCH(E22,食材マスタ!$C$10:$C$309,0)),"")) -> kg | I22: =IF(E22="","",IFERROR(INDEX(食材マスタ!$K$10:$K$309,MATCH(E22,食材マスタ!$C$10:$C$309,0)),"")) -> 980 | J22: =IF(OR(G22="",I22=""),"",ROUND(ABS(G22)*I22,0)) -> 4410 | L22: =IF(AND(D22="入庫",E22<>""),E22&"-"&TEXT(ROW()-9,"0000"),"") | M22: MT-001-0011 | N22: =IF(L22="","",G22-SUMIFS($G$10:$G$1009,$M$10:$M$1009,L22,$D$10:$D$1009,"出庫")-SUMIFS($G$10:$G$1009,$M$10:$M$1009,L22,$D$10:$D$1009,"廃棄")+SUMIFS($G$10:$G$1009,$M$10:$M$1009,L22,$D$10:$D$1009,"棚卸調整")) | O22: =IF(OR(L22="",K22=""),"",IF(N22<=0,"",K22-TODAY())) | P22: =IF(E22="","",IF(F22="※コード未登録","コード未登録",IF(AND(OR(D22="出庫",D22="廃棄"),M22=""),"ロット未指定",IF(AND(M22<>"",LEFT(M22,LEN(E22)+1)<>E22&"-"),"ロット違い",IF(AND(L22<>"",N22<0),"ロット残マイナス",""))))) | Q22: 佐藤 | R22: ランチ仕込み | U22: =IF(AND(ISNUMBER(O22),O22<=設定!$C$4),1,0) -> 0 | V22: =IF(U22=1,SUM($U$10:U22),"")
B23: =IF(C23="","",COUNT($C$10:C23)) -> 14 | C23: 46323 | D23: 出庫 | E23: VG-001 | F23: =IF(E23="","",IFERROR(INDEX(食材マスタ!$D$10:$D$309,MATCH(E23,食材マスタ!$C$10:$C$309,0)),"※コード未登録")) -> 玉ねぎ | G23: 12.4 | H23: =IF(E23="","",IFERROR(INDEX(食材マスタ!$H$10:$H$309,MATCH(E23,食材マスタ!$C$10:$C$309,0)),"")) -> kg | I23: =IF(E23="","",IFERROR(INDEX(食材マスタ!$K$10:$K$309,MATCH(E23,食材マスタ!$C$10:$C$309,0)),"")) -> 220 | J23: =IF(OR(G23="",I23=""),"",ROUND(ABS(G23)*I23,0)) -> 2728 | L23: =IF(AND(D23="入庫",E23<>""),E23&"-"&TEXT(ROW()-9,"0000"),"") | M23: VG-001-0006 | N23: =IF(L23="","",G23-SUMIFS($G$10:$G$1009,$M$10:$M$1009,L23,$D$10:$D$1009,"出庫")-SUMIFS($G$10:$G$1009,$M$10:$M$1009,L23,$D$10:$D$1009,"廃棄")+SUMIFS($G$10:$G$1009,$M$10:$M$1009,L23,$D$10:$D$1009,"棚卸調整")) | O23: =IF(OR(L23="",K23=""),"",IF(N23<=0,"",K23-TODAY())) | P23: =IF(E23="","",IF(F23="※コード未登録","コード未登録",IF(AND(OR(D23="出庫",D23="廃棄"),M23=""),"ロット未指定",IF(AND(M23<>"",LEFT(M23,LEN(E23)+1)<>E23&"-"),"ロット違い",IF(AND(L23<>"",N23<0),"ロット残マイナス",""))))) | Q23: 鈴木 | R23: カレー仕込み | U23: =IF(AND(ISNUMBER(O23),O23<=設定!$C$4),1,0) -> 0 | V23: =IF(U23=1,SUM($U$10:U23),"")
B24: =IF(C24="","",COUNT($C$10:C24)) -> 15 | C24: 46323 | D24: 廃棄 | E24: VG-002 | F24: =IF(E24="","",IFERROR(INDEX(食材マスタ!$D$10:$D$309,MATCH(E24,食材マスタ!$C$10:$C$309,0)),"※コード未登録")) -> キャベツ | G24: 1 | H24: =IF(E24="","",IFERROR(INDEX(食材マスタ!$H$10:$H$309,MATCH(E24,食材マスタ!$C$10:$C$309,0)),"")) -> 個 | I24: =IF(E24="","",IFERROR(INDEX(食材マスタ!$K$10:$K$309,MATCH(E24,食材マスタ!$C$10:$C$309,0)),"")) -> 180 | J24: =IF(OR(G24="",I24=""),"",ROUND(ABS(G24)*I24,0)) -> 180 | L24: =IF(AND(D24="入庫",E24<>""),E24&"-"&TEXT(ROW()-9,"0000"),"") | M24: VG-002-0010 | N24: =IF(L24="","",G24-SUMIFS($G$10:$G$1009,$M$10:$M$1009,L24,$D$10:$D$1009,"出庫")-SUMIFS($G$10:$G$1009,$M$10:$M$1009,L24,$D$10:$D$1009,"廃棄")+SUMIFS($G$10:$G$1009,$M$10:$M$1009,L24,$D$10:$D$1009,"棚卸調整")) | O24: =IF(OR(L24="",K24=""),"",IF(N24<=0,"",K24-TODAY())) | P24: =IF(E24="","",IF(F24="※コード未登録","コード未登録",IF(AND(OR(D24="出庫",D24="廃棄"),M24=""),"ロット未指定",IF(AND(M24<>"",LEFT(M24,LEN(E24)+1)<>E24&"-"),"ロット違い",IF(AND(L24<>"",N24<0),"ロット残マイナス",""))))) | Q24: 鈴木 | S24: 外葉の傷み | U24: =IF(AND(ISNUMBER(O24),O24<=設定!$C$4),1,0) -> 0 | V24: =IF(U24=1,SUM($U$10:U24),"")
B25: =IF(C25="","",COUNT($C$10:C25)) -> 16 | C25: 46324 | D25: 出庫 | E25: DY-001 | F25: =IF(E25="","",IFERROR(INDEX(食材マスタ!$D$10:$D$309,MATCH(E25,食材マスタ!$C$10:$C$309,0)),"※コード未登録")) -> 牛乳 | G25: 6 | H25: =IF(E25="","",IFERROR(INDEX(食材マスタ!$H$10:$H$309,MATCH(E25,食材マスタ!$C$10:$C$309,0)),"")) -> 本 | I25: =IF(E25="","",IFERROR(INDEX(食材マスタ!$K$10:$K$309,MATCH(E25,食材マスタ!$C$10:$C$309,0)),"")) -> 230 | J25: =IF(OR(G25="",I25=""),"",ROUND(ABS(G25)*I25,0)) -> 1380 | L25: =IF(AND(D25="入庫",E25<>""),E25&"-"&TEXT(ROW()-9,"0000"),"") | M25: DY-001-0012 | N25: =IF(L25="","",G25-SUMIFS($G$10:$G$1009,$M$10:$M$1009,L25,$D$10:$D$1009,"出庫")-SUMIFS($G$10:$G$1009,$M$10:$M$1009,L25,$D$10:$D$1009,"廃棄")+SUMIFS($G$10:$G$1009,$M$10:$M$1009,L25,$D$10:$D$1009,"棚卸調整")) | O25: =IF(OR(L25="",K25=""),"",IF(N25<=0,"",K25-TODAY())) | P25: =IF(E25="","",IF(F25="※コード未登録","コード未登録",IF(AND(OR(D25="出庫",D25="廃棄"),M25=""),"ロット未指定",IF(AND(M25<>"",LEFT(M25,LEN(E25)+1)<>E25&"-"),"ロット違い",IF(AND(L25<>"",N25<0),"ロット残マイナス",""))))) | Q25: 田中 | R25: デザート仕込み | U25: =IF(AND(ISNUMBER(O25),O25<=設定!$C$4),1,0) -> 0 | V25: =IF(U25=1,SUM($U$10:U25),"")
B26: =IF(C26="","",COUNT($C$10:C26)) -> 17 | C26: 46324 | D26: 出庫 | E26: DY-002 | F26: =IF(E26="","",IFERROR(INDEX(食材マスタ!$D$10:$D$309,MATCH(E26,食材マスタ!$C$10:$C$309,0)),"※コード未登録")) -> 鶏卵 | G26: 10 | H26: =IF(E26="","",IFERROR(INDEX(食材マスタ!$H$10:$H$309,MATCH(E26,食材マスタ!$C$10:$C$309,0)),"")) -> パック | I26: =IF(E26="","",IFERROR(INDEX(食材マスタ!$K$10:$K$309,MATCH(E26,食材マスタ!$C$10:$C$309,0)),"")) -> 280 | J26: =IF(OR(G26="",I26=""),"",ROUND(ABS(G26)*I26,0)) -> 2800 | L26: =IF(AND(D26="入庫",E26<>""),E26&"-"&TEXT(ROW()-9,"0000"),"") | M26: DY-002-0007 | N26: =IF(L26="","",G26-SUMIFS($G$10:$G$1009,$M$10:$M$1009,L26,$D$10:$D$1009,"出庫")-SUMIFS($G$10:$G$1009,$M$10:$M$1009,L26,$D$10:$D$1009,"廃棄")+SUMIFS($G$10:$G$1009,$M$10:$M$1009,L26,$D$10:$D$1009,"棚卸調整")) | O26: =IF(OR(L26="",K26=""),"",IF(N26<=0,"",K26-TODAY())) | P26: =IF(E26="","",IF(F26="※コード未登録","コード未登録",IF(AND(OR(D26="出庫",D26="廃棄"),M26=""),"ロット未指定",IF(AND(M26<>"",LEFT(M26,LEN(E26)+1)<>E26&"-"),"ロット違い",IF(AND(L26<>"",N26<0),"ロット残マイナス",""))))) | Q26: 田中 | R26: モーニング | U26: =IF(AND(ISNUMBER(O26),O26<=設定!$C$4),1,0) -> 0 | V26: =IF(U26=1,SUM($U$10:U26),"")
B27: =IF(C27="","",COUNT($C$10:C27)) -> 18 | C27: 46324 | D27: 出庫 | E27: PK-001 | F27: =IF(E27="","",IFERROR(INDEX(食材マスタ!$D$10:$D$309,MATCH(E27,食材マスタ!$C$10:$C$309,0)),"※コード未登録")) -> テイクアウト容器 | G27: 120 | H27: =IF(E27="","",IFERROR(INDEX(食材マスタ!$H$10:$H$309,MATCH(E27,食材マスタ!$C$10:$C$309,0)),"")) -> 個 | I27: =IF(E27="","",IFERROR(INDEX(食材マスタ!$K$10:$K$309,MATCH(E27,食材マスタ!$C$10:$C$309,0)),"")) -> 18 | J27: =IF(OR(G27="",I27=""),"",ROUND(ABS(G27)*I27,0)) -> 2160 | L27: =IF(AND(D27="入庫",E27<>""),E27&"-"&TEXT(ROW()-9,"0000"),"") | M27: PK-001-0001 | N27: =IF(L27="","",G27-SUMIFS($G$10:$G$1009,$M$10:$M$1009,L27,$D$10:$D$1009,"出庫")-SUMIFS($G$10:$G$1009,$M$10:$M$1009,L27,$D$10:$D$1009,"廃棄")+SUMIFS($G$10:$G$1009,$M$10:$M$1009,L27,$D$10:$D$1009,"棚卸調整")) | O27: =IF(OR(L27="",K27=""),"",IF(N27<=0,"",K27-TODAY())) | P27: =IF(E27="","",IF(F27="※コード未登録","コード未登録",IF(AND(OR(D27="出庫",D27="廃棄"),M27=""),"ロット未指定",IF(AND(M27<>"",LEFT(M27,LEN(E27)+1)<>E27&"-"),"ロット違い",IF(AND(L27<>"",N27<0),"ロット残マイナス",""))))) | Q27: 伊藤 | R27: テイクアウト | U27: =IF(AND(ISNUMBER(O27),O27<=設定!$C$4),1,0) -> 0 | V27: =IF(U27=1,SUM($U$10:U27),"")
B28: =IF(C28="","",COUNT($C$10:C28)) -> 19 | C28: 46324 | D28: 出庫 | E28: SE-001 | F28: =IF(E28="","",IFERROR(INDEX(食材マスタ!$D$10:$D$309,MATCH(E28,食材マスタ!$C$10:$C$309,0)),"※コード未登録")) -> 濃口醤油 | G28: 2 | H28: =IF(E28="","",IFERROR(INDEX(食材マスタ!$H$10:$H$309,MATCH(E28,食材マスタ!$C$10:$C$309,0)),"")) -> 本 | I28: =IF(E28="","",IFERROR(INDEX(食材マスタ!$K$10:$K$309,MATCH(E28,食材マスタ!$C$10:$C$309,0)),"")) -> 520 | J28: =IF(OR(G28="",I28=""),"",ROUND(ABS(G28)*I28,0)) -> 1040 | L28: =IF(AND(D28="入庫",E28<>""),E28&"-"&TEXT(ROW()-9,"0000"),"") | M28: SE-001-0002 | N28: =IF(L28="","",G28-SUMIFS($G$10:$G$1009,$M$10:$M$1009,L28,$D$10:$D$1009,"出庫")-SUMIFS($G$10:$G$1009,$M$10:$M$1009,L28,$D$10:$D$1009,"廃棄")+SUMIFS($G$10:$G$1009,$M$10:$M$1009,L28,$D$10:$D$1009,"棚卸調整")) | O28: =IF(OR(L28="",K28=""),"",IF(N28<=0,"",K28-TODAY())) | P28: =IF(E28="","",IF(F28="※コード未登録","コード未登録",IF(AND(OR(D28="出庫",D28="廃棄"),M28=""),"ロット未指定",IF(AND(M28<>"",LEFT(M28,LEN(E28)+1)<>E28&"-"),"ロット違い",IF(AND(L28<>"",N28<0),"ロット残マイナス",""))))) | Q28: 佐藤 | R28: 仕込み | U28: =IF(AND(ISNUMBER(O28),O28<=設定!$C$4),1,0) -> 0 | V28: =IF(U28=1,SUM($U$10:U28),"")
B29: =IF(C29="","",COUNT($C$10:C29)) -> 20 | C29: 46324 | D29: 出庫 | E29: PW-001 | F29: =IF(E29="","",IFERROR(INDEX(食材マスタ!$D$10:$D$309,MATCH(E29,食材マスタ!$C$10:$C$309,0)),"※コード未登録")) -> 薄力粉 | G29: 3 | H29: =IF(E29="","",IFERROR(INDEX(食材マスタ!$H$10:$H$309,MATCH(E29,食材マスタ!$C$10:$C$309,0)),"")) -> 袋 | I29: =IF(E29="","",IFERROR(INDEX(食材マスタ!$K$10:$K$309,MATCH(E29,食材マスタ!$C$10:$C$309,0)),"")) -> 260 | J29: =IF(OR(G29="",I29=""),"",ROUND(ABS(G29)*I29,0)) -> 780 | L29: =IF(AND(D29="入庫",E29<>""),E29&"-"&TEXT(ROW()-9,"0000"),"") | M29: PW-001-0003 | N29: =IF(L29="","",G29-SUMIFS($G$10:$G$1009,$M$10:$M$1009,L29,$D$10:$D$1009,"出庫")-SUMIFS($G$10:$G$1009,$M$10:$M$1009,L29,$D$10:$D$1009,"廃棄")+SUMIFS($G$10:$G$1009,$M$10:$M$1009,L29,$D$10:$D$1009,"棚卸調整")) | O29: =IF(OR(L29="",K29=""),"",IF(N29<=0,"",K29-TODAY())) | P29: =IF(E29="","",IF(F29="※コード未登録","コード未登録",IF(AND(OR(D29="出庫",D29="廃棄"),M29=""),"ロット未指定",IF(AND(M29<>"",LEFT(M29,LEN(E29)+1)<>E29&"-"),"ロット違い",IF(AND(L29<>"",N29<0),"ロット残マイナス",""))))) | Q29: 田中 | R29: デザート仕込み | U29: =IF(AND(ISNUMBER(O29),O29<=設定!$C$4),1,0) -> 0 | V29: =IF(U29=1,SUM($U$10:U29),"")
B30: =IF(C30="","",COUNT($C$10:C30)) | F30: =IF(E30="","",IFERROR(INDEX(食材マスタ!$D$10:$D$309,MATCH(E30,食材マスタ!$C$10:$C$309,0)),"※コード未登録")) | H30: =IF(E30="","",IFERROR(INDEX(食材マスタ!$H$10:$H$309,MATCH(E30,食材マスタ!$C$10:$C$309,0)),"")) | I30: =IF(E30="","",IFERROR(INDEX(食材マスタ!$K$10:$K$309,MATCH(E30,食材マスタ!$C$10:$C$309,0)),"")) | J30: =IF(OR(G30="",I30=""),"",ROUND(ABS(G30)*I30,0)) | L30: =IF(AND(D30="入庫",E30<>""),E30&"-"&TEXT(ROW()-9,"0000"),"") | N30: =IF(L30="","",G30-SUMIFS($G$10:$G$1009,$M$10:$M$1009,L30,$D$10:$D$1009,"出庫")-SUMIFS($G$10:$G$1009,$M$10:$M$1009,L30,$D$10:$D$1009,"廃棄")+SUMIFS($G$10:$G$1009,$M$10:$M$1009,L30,$D$10:$D$1009,"棚卸調整")) | O30: =IF(OR(L30="",K30=""),"",IF(N30<=0,"",K30-TODAY())) | P30: =IF(E30="","",IF(F30="※コード未登録","コード未登録",IF(AND(OR(D30="出庫",D30="廃棄"),M30=""),"ロット未指定",IF(AND(M30<>"",LEFT(M30,LEN(E30)+1)<>E30&"-"),"ロット違い",IF(AND(L30<>"",N30<0),"ロット残マイナス",""))))) | U30: =IF(AND(ISNUMBER(O30),O30<=設定!$C$4),1,0) -> 0 | V30: =IF(U30=1,SUM($U$10:U30),"")
B31: =IF(C31="","",COUNT($C$10:C31)) | F31: =IF(E31="","",IFERROR(INDEX(食材マスタ!$D$10:$D$309,MATCH(E31,食材マスタ!$C$10:$C$309,0)),"※コード未登録")) | H31: =IF(E31="","",IFERROR(INDEX(食材マスタ!$H$10:$H$309,MATCH(E31,食材マスタ!$C$10:$C$309,0)),"")) | I31: =IF(E31="","",IFERROR(INDEX(食材マスタ!$K$10:$K$309,MATCH(E31,食材マスタ!$C$10:$C$309,0)),"")) | J31: =IF(OR(G31="",I31=""),"",ROUND(ABS(G31)*I31,0)) | L31: =IF(AND(D31="入庫",E31<>""),E31&"-"&TEXT(ROW()-9,"0000"),"") | N31: =IF(L31="","",G31-SUMIFS($G$10:$G$1009,$M$10:$M$1009,L31,$D$10:$D$1009,"出庫")-SUMIFS($G$10:$G$1009,$M$10:$M$1009,L31,$D$10:$D$1009,"廃棄")+SUMIFS($G$10:$G$1009,$M$10:$M$1009,L31,$D$10:$D$1009,"棚卸調整")) | O31: =IF(OR(L31="",K31=""),"",IF(N31<=0,"",K31-TODAY())) | P31: =IF(E31="","",IF(F31="※コード未登録","コード未登録",IF(AND(OR(D31="出庫",D31="廃棄"),M31=""),"ロット未指定",IF(AND(M31<>"",LEFT(M31,LEN(E31)+1)<>E31&"-"),"ロット違い",IF(AND(L31<>"",N31<0),"ロット残マイナス",""))))) | U31: =IF(AND(ISNUMBER(O31),O31<=設定!$C$4),1,0) -> 0 | V31: =IF(U31=1,SUM($U$10:U31),"")
B32: =IF(C32="","",COUNT($C$10:C32)) | F32: =IF(E32="","",IFERROR(INDEX(食材マスタ!$D$10:$D$309,MATCH(E32,食材マスタ!$C$10:$C$309,0)),"※コード未登録")) | H32: =IF(E32="","",IFERROR(INDEX(食材マスタ!$H$10:$H$309,MATCH(E32,食材マスタ!$C$10:$C$309,0)),"")) | I32: =IF(E32="","",IFERROR(INDEX(食材マスタ!$K$10:$K$309,MATCH(E32,食材マスタ!$C$10:$C$309,0)),"")) | J32: =IF(OR(G32="",I32=""),"",ROUND(ABS(G32)*I32,0)) | L32: =IF(AND(D32="入庫",E32<>""),E32&"-"&TEXT(ROW()-9,"0000"),"") | N32: =IF(L32="","",G32-SUMIFS($G$10:$G$1009,$M$10:$M$1009,L32,$D$10:$D$1009,"出庫")-SUMIFS($G$10:$G$1009,$M$10:$M$1009,L32,$D$10:$D$1009,"廃棄")+SUMIFS($G$10:$G$1009,$M$10:$M$1009,L32,$D$10:$D$1009,"棚卸調整")) | O32: =IF(OR(L32="",K32=""),"",IF(N32<=0,"",K32-TODAY())) | P32: =IF(E32="","",IF(F32="※コード未登録","コード未登録",IF(AND(OR(D32="出庫",D32="廃棄"),M32=""),"ロット未指定",IF(AND(M32<>"",LEFT(M32,LEN(E32)+1)<>E32&"-"),"ロット違い",IF(AND(L32<>"",N32<0),"ロット残マイナス",""))))) | U32: =IF(AND(ISNUMBER(O32),O32<=設定!$C$4),1,0) -> 0 | V32: =IF(U32=1,SUM($U$10:U32),"")
B33: =IF(C33="","",COUNT($C$10:C33)) | F33: =IF(E33="","",IFERROR(INDEX(食材マスタ!$D$10:$D$309,MATCH(E33,食材マスタ!$C$10:$C$309,0)),"※コード未登録")) | H33: =IF(E33="","",IFERROR(INDEX(食材マスタ!$H$10:$H$309,MATCH(E33,食材マスタ!$C$10:$C$309,0)),"")) | I33: =IF(E33="","",IFERROR(INDEX(食材マスタ!$K$10:$K$309,MATCH(E33,食材マスタ!$C$10:$C$309,0)),"")) | J33: =IF(OR(G33="",I33=""),"",ROUND(ABS(G33)*I33,0)) | L33: =IF(AND(D33="入庫",E33<>""),E33&"-"&TEXT(ROW()-9,"0000"),"") | N33: =IF(L33="","",G33-SUMIFS($G$10:$G$1009,$M$10:$M$1009,L33,$D$10:$D$1009,"出庫")-SUMIFS($G$10:$G$1009,$M$10:$M$1009,L33,$D$10:$D$1009,"廃棄")+SUMIFS($G$10:$G$1009,$M$10:$M$1009,L33,$D$10:$D$1009,"棚卸調整")) | O33: =IF(OR(L33="",K33=""),"",IF(N33<=0,"",K33-TODAY())) | P33: =IF(E33="","",IF(F33="※コード未登録","コード未登録",IF(AND(OR(D33="出庫",D33="廃棄"),M33=""),"ロット未指定",IF(AND(M33<>"",LEFT(M33,LEN(E33)+1)<>E33&"-"),"ロット違い",IF(AND(L33<>"",N33<0),"ロット残マイナス",""))))) | U33: =IF(AND(ISNUMBER(O33),O33<=設定!$C$4),1,0) -> 0 | V33: =IF(U33=1,SUM($U$10:U33),"")
B34: =IF(C34="","",COUNT($C$10:C34)) | F34: =IF(E34="","",IFERROR(INDEX(食材マスタ!$D$10:$D$309,MATCH(E34,食材マスタ!$C$10:$C$309,0)),"※コード未登録")) | H34: =IF(E34="","",IFERROR(INDEX(食材マスタ!$H$10:$H$309,MATCH(E34,食材マスタ!$C$10:$C$309,0)),"")) | I34: =IF(E34="","",IFERROR(INDEX(食材マスタ!$K$10:$K$309,MATCH(E34,食材マスタ!$C$10:$C$309,0)),"")) | J34: =IF(OR(G34="",I34=""),"",ROUND(ABS(G34)*I34,0)) | L34: =IF(AND(D34="入庫",E34<>""),E34&"-"&TEXT(ROW()-9,"0000"),"") | N34: =IF(L34="","",G34-SUMIFS($G$10:$G$1009,$M$10:$M$1009,L34,$D$10:$D$1009,"出庫")-SUMIFS($G$10:$G$1009,$M$10:$M$1009,L34,$D$10:$D$1009,"廃棄")+SUMIFS($G$10:$G$1009,$M$10:$M$1009,L34,$D$10:$D$1009,"棚卸調整")) | O34: =IF(OR(L34="",K34=""),"",IF(N34<=0,"",K34-TODAY())) | P34: =IF(E34="","",IF(F34="※コード未登録","コード未登録",IF(AND(OR(D34="出庫",D34="廃棄"),M34=""),"ロット未指定",IF(AND(M34<>"",LEFT(M34,LEN(E34)+1)<>E34&"-"),"ロット違い",IF(AND(L34<>"",N34<0),"ロット残マイナス",""))))) | U34: =IF(AND(ISNUMBER(O34),O34<=設定!$C$4),1,0) -> 0 | V34: =IF(U34=1,SUM($U$10:U34),"")
B35: =IF(C35="","",COUNT($C$10:C35)) | F35: =IF(E35="","",IFERROR(INDEX(食材マスタ!$D$10:$D$309,MATCH(E35,食材マスタ!$C$10:$C$309,0)),"※コード未登録")) | H35: =IF(E35="","",IFERROR(INDEX(食材マスタ!$H$10:$H$309,MATCH(E35,食材マスタ!$C$10:$C$309,0)),"")) | I35: =IF(E35="","",IFERROR(INDEX(食材マスタ!$K$10:$K$309,MATCH(E35,食材マスタ!$C$10:$C$309,0)),"")) | J35: =IF(OR(G35="",I35=""),"",ROUND(ABS(G35)*I35,0)) | L35: =IF(AND(D35="入庫",E35<>""),E35&"-"&TEXT(ROW()-9,"0000"),"") | N35: =IF(L35="","",G35-SUMIFS($G$10:$G$1009,$M$10:$M$1009,L35,$D$10:$D$1009,"出庫")-SUMIFS($G$10:$G$1009,$M$10:$M$1009,L35,$D$10:$D$1009,"廃棄")+SUMIFS($G$10:$G$1009,$M$10:$M$1009,L35,$D$10:$D$1009,"棚卸調整")) | O35: =IF(OR(L35="",K35=""),"",IF(N35<=0,"",K35-TODAY())) | P35: =IF(E35="","",IF(F35="※コード未登録","コード未登録",IF(AND(OR(D35="出庫",D35="廃棄"),M35=""),"ロット未指定",IF(AND(M35<>"",LEFT(M35,LEN(E35)+1)<>E35&"-"),"ロット違い",IF(AND(L35<>"",N35<0),"ロット残マイナス",""))))) | U35: =IF(AND(ISNUMBER(O35),O35<=設定!$C$4),1,0) -> 0 | V35: =IF(U35=1,SUM($U$10:U35),"")
B36: =IF(C36="","",COUNT($C$10:C36)) | F36: =IF(E36="","",IFERROR(INDEX(食材マスタ!$D$10:$D$309,MATCH(E36,食材マスタ!$C$10:$C$309,0)),"※コード未登録")) | H36: =IF(E36="","",IFERROR(INDEX(食材マスタ!$H$10:$H$309,MATCH(E36,食材マスタ!$C$10:$C$309,0)),"")) | I36: =IF(E36="","",IFERROR(INDEX(食材マスタ!$K$10:$K$309,MATCH(E36,食材マスタ!$C$10:$C$309,0)),"")) | J36: =IF(OR(G36="",I36=""),"",ROUND(ABS(G36)*I36,0)) | L36: =IF(AND(D36="入庫",E36<>""),E36&"-"&TEXT(ROW()-9,"0000"),"") | N36: =IF(L36="","",G36-SUMIFS($G$10:$G$1009,$M$10:$M$1009,L36,$D$10:$D$1009,"出庫")-SUMIFS($G$10:$G$1009,$M$10:$M$1009,L36,$D$10:$D$1009,"廃棄")+SUMIFS($G$10:$G$1009,$M$10:$M$1009,L36,$D$10:$D$1009,"棚卸調整")) | O36: =IF(OR(L36="",K36=""),"",IF(N36<=0,"",K36-TODAY())) | P36: =IF(E36="","",IF(F36="※コード未登録","コード未登録",IF(AND(OR(D36="出庫",D36="廃棄"),M36=""),"ロット未指定",IF(AND(M36<>"",LEFT(M36,LEN(E36)+1)<>E36&"-"),"ロット違い",IF(AND(L36<>"",N36<0),"ロット残マイナス",""))))) | U36: =IF(AND(ISNUMBER(O36),O36<=設定!$C$4),1,0) -> 0 | V36: =IF(U36=1,SUM($U$10:U36),"")
B37: =IF(C37="","",COUNT($C$10:C37)) | F37: =IF(E37="","",IFERROR(INDEX(食材マスタ!$D$10:$D$309,MATCH(E37,食材マスタ!$C$10:$C$309,0)),"※コード未登録")) | H37: =IF(E37="","",IFERROR(INDEX(食材マスタ!$H$10:$H$309,MATCH(E37,食材マスタ!$C$10:$C$309,0)),"")) | I37: =IF(E37="","",IFERROR(INDEX(食材マスタ!$K$10:$K$309,MATCH(E37,食材マスタ!$C$10:$C$309,0)),"")) | J37: =IF(OR(G37="",I37=""),"",ROUND(ABS(G37)*I37,0)) | L37: =IF(AND(D37="入庫",E37<>""),E37&"-"&TEXT(ROW()-9,"0000"),"") | N37: =IF(L37="","",G37-SUMIFS($G$10:$G$1009,$M$10:$M$1009,L37,$D$10:$D$1009,"出庫")-SUMIFS($G$10:$G$1009,$M$10:$M$1009,L37,$D$10:$D$1009,"廃棄")+SUMIFS($G$10:$G$1009,$M$10:$M$1009,L37,$D$10:$D$1009,"棚卸調整")) | O37: =IF(OR(L37="",K37=""),"",IF(N37<=0,"",K37-TODAY())) | P37: =IF(E37="","",IF(F37="※コード未登録","コード未登録",IF(AND(OR(D37="出庫",D37="廃棄"),M37=""),"ロット未指定",IF(AND(M37<>"",LEFT(M37,LEN(E37)+1)<>E37&"-"),"ロット違い",IF(AND(L37<>"",N37<0),"ロット残マイナス",""))))) | U37: =IF(AND(ISNUMBER(O37),O37<=設定!$C$4),1,0) -> 0 | V37: =IF(U37=1,SUM($U$10:U37),"")
B38: =IF(C38="","",COUNT($C$10:C38)) | F38: =IF(E38="","",IFERROR(INDEX(食材マスタ!$D$10:$D$309,MATCH(E38,食材マスタ!$C$10:$C$309,0)),"※コード未登録")) | H38: =IF(E38="","",IFERROR(INDEX(食材マスタ!$H$10:$H$309,MATCH(E38,食材マスタ!$C$10:$C$309,0)),"")) | I38: =IF(E38="","",IFERROR(INDEX(食材マスタ!$K$10:$K$309,MATCH(E38,食材マスタ!$C$10:$C$309,0)),"")) | J38: =IF(OR(G38="",I38=""),"",ROUND(ABS(G38)*I38,0)) | L38: =IF(AND(D38="入庫",E38<>""),E38&"-"&TEXT(ROW()-9,"0000"),"") | N38: =IF(L38="","",G38-SUMIFS($G$10:$G$1009,$M$10:$M$1009,L38,$D$10:$D$1009,"出庫")-SUMIFS($G$10:$G$1009,$M$10:$M$1009,L38,$D$10:$D$1009,"廃棄")+SUMIFS($G$10:$G$1009,$M$10:$M$1009,L38,$D$10:$D$1009,"棚卸調整")) | O38: =IF(OR(L38="",K38=""),"",IF(N38<=0,"",K38-TODAY())) | P38: =IF(E38="","",IF(F38="※コード未登録","コード未登録",IF(AND(OR(D38="出庫",D38="廃棄"),M38=""),"ロット未指定",IF(AND(M38<>"",LEFT(M38,LEN(E38)+1)<>E38&"-"),"ロット違い",IF(AND(L38<>"",N38<0),"ロット残マイナス",""))))) | U38: =IF(AND(ISNUMBER(O38),O38<=設定!$C$4),1,0) -> 0 | V38: =IF(U38=1,SUM($U$10:U38),"")
