Workbook

Sheet 見積台帳
A1: 他にも魅力的な情報がたっぷり！テンプレート倉庫
B2: 紫色の欄に入力します。担当者は「設定」シートの一覧から、ステータスはプルダウンから選びます。税額・合計・有効期限・期限までの日数は自動で計算されます。
B3: 見積書管理台帳
B6: 見積件数 | D6: 見積総額（税抜） | F6: 進行中 | G6: 受注件数 | I6: 受注金額（税抜） | K6: 受注率（件数） | M6: 期限が近い・切れ
B7: =COUNT($D$10:$D$209) -> 12 | D7: =SUM($H$10:$H$209) -> 10050000 | F7: =COUNTIF($M$10:$M$209,"作成中")+COUNTIF($M$10:$M$209,"提出済")+COUNTIF($M$10:$M$209,"交渉中") -> 7 | G7: =COUNTIF($M$10:$M$209,"受注") -> 4 | I7: =SUMIF($M$10:$M$209,"受注",$O$10:$O$209) -> 1730000 | K7: =IFERROR(COUNTIF($M$10:$M$209,"受注")/(COUNTIF($M$10:$M$209,"受注")+COUNTIF($M$10:$M$209,"失注")),"") -> 0.8 | M7: =COUNTIF($L$10:$L$209,"<="&設定!$C$6) -> 3
B9: No | C9: 見積番号 | D9: 見積日 | E9: 顧客名 | F9: 件名 | G9: 担当者 | H9: 金額（税抜） | I9: 消費税 | J9: 合計（税込） | K9: 有効期限 | L9: 期限まで | M9: ステータス | N9: 受注日 | O9: 受注金額 （税抜） | P9: 備考
B10: =IF(D10="","",COUNT($D$10:D10)) -> 1 | C10: Q2609-001 | D10: 46266 | E10: 株式会社○○商事 | F10: Webサイト保守契約 | G10: 佐藤 | H10: 360000 | I10: =IF(H10="","",ROUNDDOWN(H10*設定!$C$4,0)) -> 36000 | J10: =IF(H10="","",H10+I10) -> 396000 | K10: =IF(D10="","",D10+設定!$C$5) -> 46296 | L10: =IF(OR(D10="",M10="受注",M10="失注"),"",K10-TODAY()) | M10: 受注 | N10: 46280 | O10: 360000 | P10: 年間契約
B11: =IF(D11="","",COUNT($D$10:D11)) -> 2 | C11: Q2609-002 | D11: 46269 | E11: ○○工業株式会社 | F11: 社内システム改修 | G11: 鈴木 | H11: 1850000 | I11: =IF(H11="","",ROUNDDOWN(H11*設定!$C$4,0)) -> 185000 | J11: =IF(H11="","",H11+I11) -> 2035000 | K11: =IF(D11="","",D11+設定!$C$5) -> 46299 | L11: =IF(OR(D11="",M11="受注",M11="失注"),"",K11-TODAY()) | M11: 失注 | P11: 価格で他社に決定
B12: =IF(D12="","",COUNT($D$10:D12)) -> 3 | C12: Q2609-003 | D12: 46275 | E12: 有限会社○○ | F12: チラシデザイン | G12: 高橋 | H12: 120000 | I12: =IF(H12="","",ROUNDDOWN(H12*設定!$C$4,0)) -> 12000 | J12: =IF(H12="","",H12+I12) -> 132000 | K12: =IF(D12="","",D12+設定!$C$5) -> 46305 | L12: =IF(OR(D12="",M12="受注",M12="失注"),"",K12-TODAY()) | M12: 受注 | N12: 46283 | O12: 110000 | P12: 値引き1万円
B13: =IF(D13="","",COUNT($D$10:D13)) -> 4 | C13: Q2609-004 | D13: 46281 | E13: ○○市役所 | F13: イベント運営支援 | G13: 田中 | H13: 980000 | I13: =IF(H13="","",ROUNDDOWN(H13*設定!$C$4,0)) -> 98000 | J13: =IF(H13="","",H13+I13) -> 1078000 | K13: =IF(D13="","",D13+設定!$C$5) -> 46311 | L13: =IF(OR(D13="",M13="受注",M13="失注"),"",K13-TODAY()) | M13: 受注 | N13: 46300 | O13: 980000
B14: =IF(D14="","",COUNT($D$10:D14)) -> 5 | C14: Q2609-005 | D14: 46289 | E14: 株式会社○○ | F14: ECサイト構築 | G14: 佐藤 | H14: 2600000 | I14: =IF(H14="","",ROUNDDOWN(H14*設定!$C$4,0)) -> 260000 | J14: =IF(H14="","",H14+I14) -> 2860000 | K14: =IF(D14="","",D14+設定!$C$5) -> 46319 | L14: =IF(OR(D14="",M14="受注",M14="失注"),"",K14-TODAY()) -> -6 | M14: 交渉中 | P14: 仕様の再確認中
B15: =IF(D15="","",COUNT($D$10:D15)) -> 6 | C15: Q2610-001 | D15: 46296 | E15: ○○物産株式会社 | F15: パンフレット制作 | G15: 高橋 | H15: 450000 | I15: =IF(H15="","",ROUNDDOWN(H15*設定!$C$4,0)) -> 45000 | J15: =IF(H15="","",H15+I15) -> 495000 | K15: =IF(D15="","",D15+設定!$C$5) -> 46326 | L15: =IF(OR(D15="",M15="受注",M15="失注"),"",K15-TODAY()) -> 1 | M15: 提出済
B16: =IF(D16="","",COUNT($D$10:D16)) -> 7 | C16: Q2610-002 | D16: 46301 | E16: ○○クリニック | F16: 予約システム導入 | G16: 鈴木 | H16: 720000 | I16: =IF(H16="","",ROUNDDOWN(H16*設定!$C$4,0)) -> 72000 | J16: =IF(H16="","",H16+I16) -> 792000 | K16: =IF(D16="","",D16+設定!$C$5) -> 46331 | L16: =IF(OR(D16="",M16="受注",M16="失注"),"",K16-TODAY()) -> 6 | M16: 交渉中 | P16: 来週打ち合わせ
B17: =IF(D17="","",COUNT($D$10:D17)) -> 8 | C17: Q2610-003 | D17: 46304 | E17: 株式会社○○設計 | F17: CAD研修 | G17: 伊藤 | H17: 280000 | I17: =IF(H17="","",ROUNDDOWN(H17*設定!$C$4,0)) -> 28000 | J17: =IF(H17="","",H17+I17) -> 308000 | K17: =IF(D17="","",D17+設定!$C$5) -> 46334 | L17: =IF(OR(D17="",M17="受注",M17="失注"),"",K17-TODAY()) | M17: 受注 | N17: 46315 | O17: 280000
B18: =IF(D18="","",COUNT($D$10:D18)) -> 9 | C18: Q2610-004 | D18: 46310 | E18: ○○食品株式会社 | F18: 商品撮影 | G18: 高橋 | H18: 190000 | I18: =IF(H18="","",ROUNDDOWN(H18*設定!$C$4,0)) -> 19000 | J18: =IF(H18="","",H18+I18) -> 209000 | K18: =IF(D18="","",D18+設定!$C$5) -> 46340 | L18: =IF(OR(D18="",M18="受注",M18="失注"),"",K18-TODAY()) -> 15 | M18: 提出済
B19: =IF(D19="","",COUNT($D$10:D19)) -> 10 | C19: Q2610-005 | D19: 46317 | E19: 株式会社○○ホーム | F19: LP制作 | G19: 佐藤 | H19: 540000 | I19: =IF(H19="","",ROUNDDOWN(H19*設定!$C$4,0)) -> 54000 | J19: =IF(H19="","",H19+I19) -> 594000 | K19: =IF(D19="","",D19+設定!$C$5) -> 46347 | L19: =IF(OR(D19="",M19="受注",M19="失注"),"",K19-TODAY()) -> 22 | M19: 提出済
B20: =IF(D20="","",COUNT($D$10:D20)) -> 11 | C20: Q2610-006 | D20: 46322 | E20: ○○運輸株式会社 | F20: 配送管理ツール | G20: 鈴木 | H20: 1320000 | I20: =IF(H20="","",ROUNDDOWN(H20*設定!$C$4,0)) -> 132000 | J20: =IF(H20="","",H20+I20) -> 1452000 | K20: =IF(D20="","",D20+設定!$C$5) -> 46352 | L20: =IF(OR(D20="",M20="受注",M20="失注"),"",K20-TODAY()) -> 27 | M20: 作成中 | P20: 見積内訳を作成中
B21: =IF(D21="","",COUNT($D$10:D21)) -> 12 | C21: Q2610-007 | D21: 46324 | E21: ○○学園 | F21: オンライン講座収録 | G21: 伊藤 | H21: 640000 | I21: =IF(H21="","",ROUNDDOWN(H21*設定!$C$4,0)) -> 64000 | J21: =IF(H21="","",H21+I21) -> 704000 | K21: =IF(D21="","",D21+設定!$C$5) -> 46354 | L21: =IF(OR(D21="",M21="受注",M21="失注"),"",K21-TODAY()) -> 29 | M21: 作成中
B22: =IF(D22="","",COUNT($D$10:D22)) | I22: =IF(H22="","",ROUNDDOWN(H22*設定!$C$4,0)) | J22: =IF(H22="","",H22+I22) | K22: =IF(D22="","",D22+設定!$C$5) | L22: =IF(OR(D22="",M22="受注",M22="失注"),"",K22-TODAY())
B23: =IF(D23="","",COUNT($D$10:D23)) | I23: =IF(H23="","",ROUNDDOWN(H23*設定!$C$4,0)) | J23: =IF(H23="","",H23+I23) | K23: =IF(D23="","",D23+設定!$C$5) | L23: =IF(OR(D23="",M23="受注",M23="失注"),"",K23-TODAY())
B24: =IF(D24="","",COUNT($D$10:D24)) | I24: =IF(H24="","",ROUNDDOWN(H24*設定!$C$4,0)) | J24: =IF(H24="","",H24+I24) | K24: =IF(D24="","",D24+設定!$C$5) | L24: =IF(OR(D24="",M24="受注",M24="失注"),"",K24-TODAY())
B25: =IF(D25="","",COUNT($D$10:D25)) | I25: =IF(H25="","",ROUNDDOWN(H25*設定!$C$4,0)) | J25: =IF(H25="","",H25+I25) | K25: =IF(D25="","",D25+設定!$C$5) | L25: =IF(OR(D25="",M25="受注",M25="失注"),"",K25-TODAY())
B26: =IF(D26="","",COUNT($D$10:D26)) | I26: =IF(H26="","",ROUNDDOWN(H26*設定!$C$4,0)) | J26: =IF(H26="","",H26+I26) | K26: =IF(D26="","",D26+設定!$C$5) | L26: =IF(OR(D26="",M26="受注",M26="失注"),"",K26-TODAY())
B27: =IF(D27="","",COUNT($D$10:D27)) | I27: =IF(H27="","",ROUNDDOWN(H27*設定!$C$4,0)) | J27: =IF(H27="","",H27+I27) | K27: =IF(D27="","",D27+設定!$C$5) | L27: =IF(OR(D27="",M27="受注",M27="失注"),"",K27-TODAY())
B28: =IF(D28="","",COUNT($D$10:D28)) | I28: =IF(H28="","",ROUNDDOWN(H28*設定!$C$4,0)) | J28: =IF(H28="","",H28+I28) | K28: =IF(D28="","",D28+設定!$C$5) | L28: =IF(OR(D28="",M28="受注",M28="失注"),"",K28-TODAY())
B29: =IF(D29="","",COUNT($D$10:D29)) | I29: =IF(H29="","",ROUNDDOWN(H29*設定!$C$4,0)) | J29: =IF(H29="","",H29+I29) | K29: =IF(D29="","",D29+設定!$C$5) | L29: =IF(OR(D29="",M29="受注",M29="失注"),"",K29-TODAY())
B30: =IF(D30="","",COUNT($D$10:D30)) | I30: =IF(H30="","",ROUNDDOWN(H30*設定!$C$4,0)) | J30: =IF(H30="","",H30+I30) | K30: =IF(D30="","",D30+設定!$C$5) | L30: =IF(OR(D30="",M30="受注",M30="失注"),"",K30-TODAY())
B31: =IF(D31="","",COUNT($D$10:D31)) | I31: =IF(H31="","",ROUNDDOWN(H31*設定!$C$4,0)) | J31: =IF(H31="","",H31+I31) | K31: =IF(D31="","",D31+設定!$C$5) | L31: =IF(OR(D31="",M31="受注",M31="失注"),"",K31-TODAY())
B32: =IF(D32="","",COUNT($D$10:D32)) | I32: =IF(H32="","",ROUNDDOWN(H32*設定!$C$4,0)) | J32: =IF(H32="","",H32+I32) | K32: =IF(D32="","",D32+設定!$C$5) | L32: =IF(OR(D32="",M32="受注",M32="失注"),"",K32-TODAY())
B33: =IF(D33="","",COUNT($D$10:D33)) | I33: =IF(H33="","",ROUNDDOWN(H33*設定!$C$4,0)) | J33: =IF(H33="","",H33+I33) | K33: =IF(D33="","",D33+設定!$C$5) | L33: =IF(OR(D33="",M33="受注",M33="失注"),"",K33-TODAY())
... B209: =IF(D209="","",COUNT($D$10:D209)) | I209: =IF(H209="","",ROUNDDOWN(H209*設定!$C$4,0)) | J209: =IF(H209="","",H209+I209) | K209: =IF(D209="","",D209+設定!$C$5) | L209: =IF(OR(D209="",M209="受注",M209="失注"),"",K209-TODAY())

Sheet 集計
A1: 他にも魅力的な情報がたっぷり！テンプレート倉庫
B2: 受注率＝受注÷（受注＋失注）。結果が出ていない見積（作成中・提出済・交渉中）は受注率の計算に含めません。
B3: 見積の集計
B5: 集計開始月 | C5: 46113 | D5: ここから12か月分を集計します（見積日・受注日で分類）
B7: 月 | C7: 見積件数 | D7: 見積金額（税抜） | E7: 受注件数 | F7: 受注金額（税抜） | G7: 受注率 | H7: 進行中
B8: =EDATE($C$5,0) -> 46113 | C8: =COUNTIFS(見積台帳!$D$10:$D$209,">="&EDATE($C$5,0),見積台帳!$D$10:$D$209,"<"&EDATE($C$5,1)) -> 0 | D8: =SUMIFS(見積台帳!$H$10:$H$209,見積台帳!$D$10:$D$209,">="&EDATE($C$5,0),見積台帳!$D$10:$D$209,"<"&EDATE($C$5,1)) -> 0 | E8: =COUNTIFS(見積台帳!$N$10:$N$209,">="&EDATE($C$5,0),見積台帳!$N$10:$N$209,"<"&EDATE($C$5,1),見積台帳!$M$10:$M$209,"受注") -> 0 | F8: =SUMIFS(見積台帳!$O$10:$O$209,見積台帳!$N$10:$N$209,">="&EDATE($C$5,0),見積台帳!$N$10:$N$209,"<"&EDATE($C$5,1),見積台帳!$M$10:$M$209,"受注") -> 0 | G8: =IFERROR(COUNTIFS(見積台帳!$D$10:$D$209,">="&EDATE($C$5,0),見積台帳!$D$10:$D$209,"<"&EDATE($C$5,1),見積台帳!$M$10:$M$209,"受注")/(COUNTIFS(見積台帳!$D$10:$D$209,">="&EDATE($C$5,0),見積台帳!$D$10:$D$209,"<"&EDATE($C$5,1),見積台帳!$M$10:$M$209,"受注")+COUNTIFS(見積台帳!$D$10:$D$209,">="&EDATE($C$5,0),見積台帳!$D$10:$D$209,"<"&EDATE($C$5,1),見積台帳!$M$10:$M$209,"失注")),"") | H8: =COUNTIFS(見積台帳!$D$10:$D$209,">="&EDATE($C$5,0),見積台帳!$D$10:$D$209,"<"&EDATE($C$5,1),見積台帳!$M$10:$M$209,"作成中")+COUNTIFS(見積台帳!$D$10:$D$209,">="&EDATE($C$5,0),見積台帳!$D$10:$D$209,"<"&EDATE($C$5,1),見積台帳!$M$10:$M$209,"提出済")+COUNTIFS(見積台帳!$D$10:$D$209,">="&EDATE($C$5,0),見積台帳!$D$10:$D$209,"<"&EDATE($C$5,1),見積台帳!$M$10:$M$209,"交渉中") -> 0
B9: =EDATE($C$5,1) -> 46143 | C9: =COUNTIFS(見積台帳!$D$10:$D$209,">="&EDATE($C$5,1),見積台帳!$D$10:$D$209,"<"&EDATE($C$5,2)) -> 0 | D9: =SUMIFS(見積台帳!$H$10:$H$209,見積台帳!$D$10:$D$209,">="&EDATE($C$5,1),見積台帳!$D$10:$D$209,"<"&EDATE($C$5,2)) -> 0 | E9: =COUNTIFS(見積台帳!$N$10:$N$209,">="&EDATE($C$5,1),見積台帳!$N$10:$N$209,"<"&EDATE($C$5,2),見積台帳!$M$10:$M$209,"受注") -> 0 | F9: =SUMIFS(見積台帳!$O$10:$O$209,見積台帳!$N$10:$N$209,">="&EDATE($C$5,1),見積台帳!$N$10:$N$209,"<"&EDATE($C$5,2),見積台帳!$M$10:$M$209,"受注") -> 0 | G9: =IFERROR(COUNTIFS(見積台帳!$D$10:$D$209,">="&EDATE($C$5,1),見積台帳!$D$10:$D$209,"<"&EDATE($C$5,2),見積台帳!$M$10:$M$209,"受注")/(COUNTIFS(見積台帳!$D$10:$D$209,">="&EDATE($C$5,1),見積台帳!$D$10:$D$209,"<"&EDATE($C$5,2),見積台帳!$M$10:$M$209,"受注")+COUNTIFS(見積台帳!$D$10:$D$209,">="&EDATE($C$5,1),見積台帳!$D$10:$D$209,"<"&EDATE($C$5,2),見積台帳!$M$10:$M$209,"失注")),"") | H9: =COUNTIFS(見積台帳!$D$10:$D$209,">="&EDATE($C$5,1),見積台帳!$D$10:$D$209,"<"&EDATE($C$5,2),見積台帳!$M$10:$M$209,"作成中")+COUNTIFS(見積台帳!$D$10:$D$209,">="&EDATE($C$5,1),見積台帳!$D$10:$D$209,"<"&EDATE($C$5,2),見積台帳!$M$10:$M$209,"提出済")+COUNTIFS(見積台帳!$D$10:$D$209,">="&EDATE($C$5,1),見積台帳!$D$10:$D$209,"<"&EDATE($C$5,2),見積台帳!$M$10:$M$209,"交渉中") -> 0
B10: =EDATE($C$5,2) -> 46174 | C10: =COUNTIFS(見積台帳!$D$10:$D$209,">="&EDATE($C$5,2),見積台帳!$D$10:$D$209,"<"&EDATE($C$5,3)) -> 0 | D10: =SUMIFS(見積台帳!$H$10:$H$209,見積台帳!$D$10:$D$209,">="&EDATE($C$5,2),見積台帳!$D$10:$D$209,"<"&EDATE($C$5,3)) -> 0 | E10: =COUNTIFS(見積台帳!$N$10:$N$209,">="&EDATE($C$5,2),見積台帳!$N$10:$N$209,"<"&EDATE($C$5,3),見積台帳!$M$10:$M$209,"受注") -> 0 | F10: =SUMIFS(見積台帳!$O$10:$O$209,見積台帳!$N$10:$N$209,">="&EDATE($C$5,2),見積台帳!$N$10:$N$209,"<"&EDATE($C$5,3),見積台帳!$M$10:$M$209,"受注") -> 0 | G10: =IFERROR(COUNTIFS(見積台帳!$D$10:$D$209,">="&EDATE($C$5,2),見積台帳!$D$10:$D$209,"<"&EDATE($C$5,3),見積台帳!$M$10:$M$209,"受注")/(COUNTIFS(見積台帳!$D$10:$D$209,">="&EDATE($C$5,2),見積台帳!$D$10:$D$209,"<"&EDATE($C$5,3),見積台帳!$M$10:$M$209,"受注")+COUNTIFS(見積台帳!$D$10:$D$209,">="&EDATE($C$5,2),見積台帳!$D$10:$D$209,"<"&EDATE($C$5,3),見積台帳!$M$10:$M$209,"失注")),"") | H10: =COUNTIFS(見積台帳!$D$10:$D$209,">="&EDATE($C$5,2),見積台帳!$D$10:$D$209,"<"&EDATE($C$5,3),見積台帳!$M$10:$M$209,"作成中")+COUNTIFS(見積台帳!$D$10:$D$209,">="&EDATE($C$5,2),見積台帳!$D$10:$D$209,"<"&EDATE($C$5,3),見積台帳!$M$10:$M$209,"提出済")+COUNTIFS(見積台帳!$D$10:$D$209,">="&EDATE($C$5,2),見積台帳!$D$10:$D$209,"<"&EDATE($C$5,3),見積台帳!$M$10:$M$209,"交渉中") -> 0
B11: =EDATE($C$5,3) -> 46204 | C11: =COUNTIFS(見積台帳!$D$10:$D$209,">="&EDATE($C$5,3),見積台帳!$D$10:$D$209,"<"&EDATE($C$5,4)) -> 0 | D11: =SUMIFS(見積台帳!$H$10:$H$209,見積台帳!$D$10:$D$209,">="&EDATE($C$5,3),見積台帳!$D$10:$D$209,"<"&EDATE($C$5,4)) -> 0 | E11: =COUNTIFS(見積台帳!$N$10:$N$209,">="&EDATE($C$5,3),見積台帳!$N$10:$N$209,"<"&EDATE($C$5,4),見積台帳!$M$10:$M$209,"受注") -> 0 | F11: =SUMIFS(見積台帳!$O$10:$O$209,見積台帳!$N$10:$N$209,">="&EDATE($C$5,3),見積台帳!$N$10:$N$209,"<"&EDATE($C$5,4),見積台帳!$M$10:$M$209,"受注") -> 0 | G11: =IFERROR(COUNTIFS(見積台帳!$D$10:$D$209,">="&EDATE($C$5,3),見積台帳!$D$10:$D$209,"<"&EDATE($C$5,4),見積台帳!$M$10:$M$209,"受注")/(COUNTIFS(見積台帳!$D$10:$D$209,">="&EDATE($C$5,3),見積台帳!$D$10:$D$209,"<"&EDATE($C$5,4),見積台帳!$M$10:$M$209,"受注")+COUNTIFS(見積台帳!$D$10:$D$209,">="&EDATE($C$5,3),見積台帳!$D$10:$D$209,"<"&EDATE($C$5,4),見積台帳!$M$10:$M$209,"失注")),"") | H11: =COUNTIFS(見積台帳!$D$10:$D$209,">="&EDATE($C$5,3),見積台帳!$D$10:$D$209,"<"&EDATE($C$5,4),見積台帳!$M$10:$M$209,"作成中")+COUNTIFS(見積台帳!$D$10:$D$209,">="&EDATE($C$5,3),見積台帳!$D$10:$D$209,"<"&EDATE($C$5,4),見積台帳!$M$10:$M$209,"提出済")+COUNTIFS(見積台帳!$D$10:$D$209,">="&EDATE($C$5,3),見積台帳!$D$10:$D$209,"<"&EDATE($C$5,4),見積台帳!$M$10:$M$209,"交渉中") -> 0
B12: =EDATE($C$5,4) -> 46235 | C12: =COUNTIFS(見積台帳!$D$10:$D$209,">="&EDATE($C$5,4),見積台帳!$D$10:$D$209,"<"&EDATE($C$5,5)) -> 0 | D12: =SUMIFS(見積台帳!$H$10:$H$209,見積台帳!$D$10:$D$209,">="&EDATE($C$5,4),見積台帳!$D$10:$D$209,"<"&EDATE($C$5,5)) -> 0 | E12: =COUNTIFS(見積台帳!$N$10:$N$209,">="&EDATE($C$5,4),見積台帳!$N$10:$N$209,"<"&EDATE($C$5,5),見積台帳!$M$10:$M$209,"受注") -> 0 | F12: =SUMIFS(見積台帳!$O$10:$O$209,見積台帳!$N$10:$N$209,">="&EDATE($C$5,4),見積台帳!$N$10:$N$209,"<"&EDATE($C$5,5),見積台帳!$M$10:$M$209,"受注") -> 0 | G12: =IFERROR(COUNTIFS(見積台帳!$D$10:$D$209,">="&EDATE($C$5,4),見積台帳!$D$10:$D$209,"<"&EDATE($C$5,5),見積台帳!$M$10:$M$209,"受注")/(COUNTIFS(見積台帳!$D$10:$D$209,">="&EDATE($C$5,4),見積台帳!$D$10:$D$209,"<"&EDATE($C$5,5),見積台帳!$M$10:$M$209,"受注")+COUNTIFS(見積台帳!$D$10:$D$209,">="&EDATE($C$5,4),見積台帳!$D$10:$D$209,"<"&EDATE($C$5,5),見積台帳!$M$10:$M$209,"失注")),"") | H12: =COUNTIFS(見積台帳!$D$10:$D$209,">="&EDATE($C$5,4),見積台帳!$D$10:$D$209,"<"&EDATE($C$5,5),見積台帳!$M$10:$M$209,"作成中")+COUNTIFS(見積台帳!$D$10:$D$209,">="&EDATE($C$5,4),見積台帳!$D$10:$D$209,"<"&EDATE($C$5,5),見積台帳!$M$10:$M$209,"提出済")+COUNTIFS(見積台帳!$D$10:$D$209,">="&EDATE($C$5,4),見積台帳!$D$10:$D$209,"<"&EDATE($C$5,5),見積台帳!$M$10:$M$209,"交渉中") -> 0
B13: =EDATE($C$5,5) -> 46266 | C13: =COUNTIFS(見積台帳!$D$10:$D$209,">="&EDATE($C$5,5),見積台帳!$D$10:$D$209,"<"&EDATE($C$5,6)) -> 5 | D13: =SUMIFS(見積台帳!$H$10:$H$209,見積台帳!$D$10:$D$209,">="&EDATE($C$5,5),見積台帳!$D$10:$D$209,"<"&EDATE($C$5,6)) -> 5910000 | E13: =COUNTIFS(見積台帳!$N$10:$N$209,">="&EDATE($C$5,5),見積台帳!$N$10:$N$209,"<"&EDATE($C$5,6),見積台帳!$M$10:$M$209,"受注") -> 2 | F13: =SUMIFS(見積台帳!$O$10:$O$209,見積台帳!$N$10:$N$209,">="&EDATE($C$5,5),見積台帳!$N$10:$N$209,"<"&EDATE($C$5,6),見積台帳!$M$10:$M$209,"受注") -> 470000 | G13: =IFERROR(COUNTIFS(見積台帳!$D$10:$D$209,">="&EDATE($C$5,5),見積台帳!$D$10:$D$209,"<"&EDATE($C$5,6),見積台帳!$M$10:$M$209,"受注")/(COUNTIFS(見積台帳!$D$10:$D$209,">="&EDATE($C$5,5),見積台帳!$D$10:$D$209,"<"&EDATE($C$5,6),見積台帳!$M$10:$M$209,"受注")+COUNTIFS(見積台帳!$D$10:$D$209,">="&EDATE($C$5,5),見積台帳!$D$10:$D$209,"<"&EDATE($C$5,6),見積台帳!$M$10:$M$209,"失注")),"") -> 0.75 | H13: =COUNTIFS(見積台帳!$D$10:$D$209,">="&EDATE($C$5,5),見積台帳!$D$10:$D$209,"<"&EDATE($C$5,6),見積台帳!$M$10:$M$209,"作成中")+COUNTIFS(見積台帳!$D$10:$D$209,">="&EDATE($C$5,5),見積台帳!$D$10:$D$209,"<"&EDATE($C$5,6),見積台帳!$M$10:$M$209,"提出済")+COUNTIFS(見積台帳!$D$10:$D$209,">="&EDATE($C$5,5),見積台帳!$D$10:$D$209,"<"&EDATE($C$5,6),見積台帳!$M$10:$M$209,"交渉中") -> 1
B14: =EDATE($C$5,6) -> 46296 | C14: =COUNTIFS(見積台帳!$D$10:$D$209,">="&EDATE($C$5,6),見積台帳!$D$10:$D$209,"<"&EDATE($C$5,7)) -> 7 | D14: =SUMIFS(見積台帳!$H$10:$H$209,見積台帳!$D$10:$D$209,">="&EDATE($C$5,6),見積台帳!$D$10:$D$209,"<"&EDATE($C$5,7)) -> 4140000 | E14: =COUNTIFS(見積台帳!$N$10:$N$209,">="&EDATE($C$5,6),見積台帳!$N$10:$N$209,"<"&EDATE($C$5,7),見積台帳!$M$10:$M$209,"受注") -> 2 | F14: =SUMIFS(見積台帳!$O$10:$O$209,見積台帳!$N$10:$N$209,">="&EDATE($C$5,6),見積台帳!$N$10:$N$209,"<"&EDATE($C$5,7),見積台帳!$M$10:$M$209,"受注") -> 1260000 | G14: =IFERROR(COUNTIFS(見積台帳!$D$10:$D$209,">="&EDATE($C$5,6),見積台帳!$D$10:$D$209,"<"&EDATE($C$5,7),見積台帳!$M$10:$M$209,"受注")/(COUNTIFS(見積台帳!$D$10:$D$209,">="&EDATE($C$5,6),見積台帳!$D$10:$D$209,"<"&EDATE($C$5,7),見積台帳!$M$10:$M$209,"受注")+COUNTIFS(見積台帳!$D$10:$D$209,">="&EDATE($C$5,6),見積台帳!$D$10:$D$209,"<"&EDATE($C$5,7),見積台帳!$M$10:$M$209,"失注")),"") -> 1 | H14: =COUNTIFS(見積台帳!$D$10:$D$209,">="&EDATE($C$5,6),見積台帳!$D$10:$D$209,"<"&EDATE($C$5,7),見積台帳!$M$10:$M$209,"作成中")+COUNTIFS(見積台帳!$D$10:$D$209,">="&EDATE($C$5,6),見積台帳!$D$10:$D$209,"<"&EDATE($C$5,7),見積台帳!$M$10:$M$209,"提出済")+COUNTIFS(見積台帳!$D$10:$D$209,">="&EDATE($C$5,6),見積台帳!$D$10:$D$209,"<"&EDATE($C$5,7),見積台帳!$M$10:$M$209,"交渉中") -> 6
B15: =EDATE($C$5,7) -> 46327 | C15: =COUNTIFS(見積台帳!$D$10:$D$209,">="&EDATE($C$5,7),見積台帳!$D$10:$D$209,"<"&EDATE($C$5,8)) -> 0 | D15: =SUMIFS(見積台帳!$H$10:$H$209,見積台帳!$D$10:$D$209,">="&EDATE($C$5,7),見積台帳!$D$10:$D$209,"<"&EDATE($C$5,8)) -> 0 | E15: =COUNTIFS(見積台帳!$N$10:$N$209,">="&EDATE($C$5,7),見積台帳!$N$10:$N$209,"<"&EDATE($C$5,8),見積台帳!$M$10:$M$209,"受注") -> 0 | F15: =SUMIFS(見積台帳!$O$10:$O$209,見積台帳!$N$10:$N$209,">="&EDATE($C$5,7),見積台帳!$N$10:$N$209,"<"&EDATE($C$5,8),見積台帳!$M$10:$M$209,"受注") -> 0 | G15: =IFERROR(COUNTIFS(見積台帳!$D$10:$D$209,">="&EDATE($C$5,7),見積台帳!$D$10:$D$209,"<"&EDATE($C$5,8),見積台帳!$M$10:$M$209,"受注")/(COUNTIFS(見積台帳!$D$10:$D$209,">="&EDATE($C$5,7),見積台帳!$D$10:$D$209,"<"&EDATE($C$5,8),見積台帳!$M$10:$M$209,"受注")+COUNTIFS(見積台帳!$D$10:$D$209,">="&EDATE($C$5,7),見積台帳!$D$10:$D$209,"<"&EDATE($C$5,8),見積台帳!$M$10:$M$209,"失注")),"") | H15: =COUNTIFS(見積台帳!$D$10:$D$209,">="&EDATE($C$5,7),見積台帳!$D$10:$D$209,"<"&EDATE($C$5,8),見積台帳!$M$10:$M$209,"作成中")+COUNTIFS(見積台帳!$D$10:$D$209,">="&EDATE($C$5,7),見積台帳!$D$10:$D$209,"<"&EDATE($C$5,8),見積台帳!$M$10:$M$209,"提出済")+COUNTIFS(見積台帳!$D$10:$D$209,">="&EDATE($C$5,7),見積台帳!$D$10:$D$209,"<"&EDATE($C$5,8),見積台帳!$M$10:$M$209,"交渉中") -> 0
B16: =EDATE($C$5,8) -> 46357 | C16: =COUNTIFS(見積台帳!$D$10:$D$209,">="&EDATE($C$5,8),見積台帳!$D$10:$D$209,"<"&EDATE($C$5,9)) -> 0 | D16: =SUMIFS(見積台帳!$H$10:$H$209,見積台帳!$D$10:$D$209,">="&EDATE($C$5,8),見積台帳!$D$10:$D$209,"<"&EDATE($C$5,9)) -> 0 | E16: =COUNTIFS(見積台帳!$N$10:$N$209,">="&EDATE($C$5,8),見積台帳!$N$10:$N$209,"<"&EDATE($C$5,9),見積台帳!$M$10:$M$209,"受注") -> 0 | F16: =SUMIFS(見積台帳!$O$10:$O$209,見積台帳!$N$10:$N$209,">="&EDATE($C$5,8),見積台帳!$N$10:$N$209,"<"&EDATE($C$5,9),見積台帳!$M$10:$M$209,"受注") -> 0 | G16: =IFERROR(COUNTIFS(見積台帳!$D$10:$D$209,">="&EDATE($C$5,8),見積台帳!$D$10:$D$209,"<"&EDATE($C$5,9),見積台帳!$M$10:$M$209,"受注")/(COUNTIFS(見積台帳!$D$10:$D$209,">="&EDATE($C$5,8),見積台帳!$D$10:$D$209,"<"&EDATE($C$5,9),見積台帳!$M$10:$M$209,"受注")+COUNTIFS(見積台帳!$D$10:$D$209,">="&EDATE($C$5,8),見積台帳!$D$10:$D$209,"<"&EDATE($C$5,9),見積台帳!$M$10:$M$209,"失注")),"") | H16: =COUNTIFS(見積台帳!$D$10:$D$209,">="&EDATE($C$5,8),見積台帳!$D$10:$D$209,"<"&EDATE($C$5,9),見積台帳!$M$10:$M$209,"作成中")+COUNTIFS(見積台帳!$D$10:$D$209,">="&EDATE($C$5,8),見積台帳!$D$10:$D$209,"<"&EDATE($C$5,9),見積台帳!$M$10:$M$209,"提出済")+COUNTIFS(見積台帳!$D$10:$D$209,">="&EDATE($C$5,8),見積台帳!$D$10:$D$209,"<"&EDATE($C$5,9),見積台帳!$M$10:$M$209,"交渉中") -> 0
B17: =EDATE($C$5,9) -> 46388 | C17: =COUNTIFS(見積台帳!$D$10:$D$209,">="&EDATE($C$5,9),見積台帳!$D$10:$D$209,"<"&EDATE($C$5,10)) -> 0 | D17: =SUMIFS(見積台帳!$H$10:$H$209,見積台帳!$D$10:$D$209,">="&EDATE($C$5,9),見積台帳!$D$10:$D$209,"<"&EDATE($C$5,10)) -> 0 | E17: =COUNTIFS(見積台帳!$N$10:$N$209,">="&EDATE($C$5,9),見積台帳!$N$10:$N$209,"<"&EDATE($C$5,10),見積台帳!$M$10:$M$209,"受注") -> 0 | F17: =SUMIFS(見積台帳!$O$10:$O$209,見積台帳!$N$10:$N$209,">="&EDATE($C$5,9),見積台帳!$N$10:$N$209,"<"&EDATE($C$5,10),見積台帳!$M$10:$M$209,"受注") -> 0 | G17: =IFERROR(COUNTIFS(見積台帳!$D$10:$D$209,">="&EDATE($C$5,9),見積台帳!$D$10:$D$209,"<"&EDATE($C$5,10),見積台帳!$M$10:$M$209,"受注")/(COUNTIFS(見積台帳!$D$10:$D$209,">="&EDATE($C$5,9),見積台帳!$D$10:$D$209,"<"&EDATE($C$5,10),見積台帳!$M$10:$M$209,"受注")+COUNTIFS(見積台帳!$D$10:$D$209,">="&EDATE($C$5,9),見積台帳!$D$10:$D$209,"<"&EDATE($C$5,10),見積台帳!$M$10:$M$209,"失注")),"") | H17: =COUNTIFS(見積台帳!$D$10:$D$209,">="&EDATE($C$5,9),見積台帳!$D$10:$D$209,"<"&EDATE($C$5,10),見積台帳!$M$10:$M$209,"作成中")+COUNTIFS(見積台帳!$D$10:$D$209,">="&EDATE($C$5,9),見積台帳!$D$10:$D$209,"<"&EDATE($C$5,10),見積台帳!$M$10:$M$209,"提出済")+COUNTIFS(見積台帳!$D$10:$D$209,">="&EDATE($C$5,9),見積台帳!$D$10:$D$209,"<"&EDATE($C$5,10),見積台帳!$M$10:$M$209,"交渉中") -> 0
B18: =EDATE($C$5,10) -> 46419 | C18: =COUNTIFS(見積台帳!$D$10:$D$209,">="&EDATE($C$5,10),見積台帳!$D$10:$D$209,"<"&EDATE($C$5,11)) -> 0 | D18: =SUMIFS(見積台帳!$H$10:$H$209,見積台帳!$D$10:$D$209,">="&EDATE($C$5,10),見積台帳!$D$10:$D$209,"<"&EDATE($C$5,11)) -> 0 | E18: =COUNTIFS(見積台帳!$N$10:$N$209,">="&EDATE($C$5,10),見積台帳!$N$10:$N$209,"<"&EDATE($C$5,11),見積台帳!$M$10:$M$209,"受注") -> 0 | F18: =SUMIFS(見積台帳!$O$10:$O$209,見積台帳!$N$10:$N$209,">="&EDATE($C$5,10),見積台帳!$N$10:$N$209,"<"&EDATE($C$5,11),見積台帳!$M$10:$M$209,"受注") -> 0 | G18: =IFERROR(COUNTIFS(見積台帳!$D$10:$D$209,">="&EDATE($C$5,10),見積台帳!$D$10:$D$209,"<"&EDATE($C$5,11),見積台帳!$M$10:$M$209,"受注")/(COUNTIFS(見積台帳!$D$10:$D$209,">="&EDATE($C$5,10),見積台帳!$D$10:$D$209,"<"&EDATE($C$5,11),見積台帳!$M$10:$M$209,"受注")+COUNTIFS(見積台帳!$D$10:$D$209,">="&EDATE($C$5,10),見積台帳!$D$10:$D$209,"<"&EDATE($C$5,11),見積台帳!$M$10:$M$209,"失注")),"") | H18: =COUNTIFS(見積台帳!$D$10:$D$209,">="&EDATE($C$5,10),見積台帳!$D$10:$D$209,"<"&EDATE($C$5,11),見積台帳!$M$10:$M$209,"作成中")+COUNTIFS(見積台帳!$D$10:$D$209,">="&EDATE($C$5,10),見積台帳!$D$10:$D$209,"<"&EDATE($C$5,11),見積台帳!$M$10:$M$209,"提出済")+COUNTIFS(見積台帳!$D$10:$D$209,">="&EDATE($C$5,10),見積台帳!$D$10:$D$209,"<"&EDATE($C$5,11),見積台帳!$M$10:$M$209,"交渉中") -> 0
B19: =EDATE($C$5,11) -> 46447 | C19: =COUNTIFS(見積台帳!$D$10:$D$209,">="&EDATE($C$5,11),見積台帳!$D$10:$D$209,"<"&EDATE($C$5,12)) -> 0 | D19: =SUMIFS(見積台帳!$H$10:$H$209,見積台帳!$D$10:$D$209,">="&EDATE($C$5,11),見積台帳!$D$10:$D$209,"<"&EDATE($C$5,12)) -> 0 | E19: =COUNTIFS(見積台帳!$N$10:$N$209,">="&EDATE($C$5,11),見積台帳!$N$10:$N$209,"<"&EDATE($C$5,12),見積台帳!$M$10:$M$209,"受注") -> 0 | F19: =SUMIFS(見積台帳!$O$10:$O$209,見積台帳!$N$10:$N$209,">="&EDATE($C$5,11),見積台帳!$N$10:$N$209,"<"&EDATE($C$5,12),見積台帳!$M$10:$M$209,"受注") -> 0 | G19: =IFERROR(COUNTIFS(見積台帳!$D$10:$D$209,">="&EDATE($C$5,11),見積台帳!$D$10:$D$209,"<"&EDATE($C$5,12),見積台帳!$M$10:$M$209,"受注")/(COUNTIFS(見積台帳!$D$10:$D$209,">="&EDATE($C$5,11),見積台帳!$D$10:$D$209,"<"&EDATE($C$5,12),見積台帳!$M$10:$M$209,"受注")+COUNTIFS(見積台帳!$D$10:$D$209,">="&EDATE($C$5,11),見積台帳!$D$10:$D$209,"<"&EDATE($C$5,12),見積台帳!$M$10:$M$209,"失注")),"") | H19: =COUNTIFS(見積台帳!$D$10:$D$209,">="&EDATE($C$5,11),見積台帳!$D$10:$D$209,"<"&EDATE($C$5,12),見積台帳!$M$10:$M$209,"作成中")+COUNTIFS(見積台帳!$D$10:$D$209,">="&EDATE($C$5,11),見積台帳!$D$10:$D$209,"<"&EDATE($C$5,12),見積台帳!$M$10:$M$209,"提出済")+COUNTIFS(見積台帳!$D$10:$D$209,">="&EDATE($C$5,11),見積台帳!$D$10:$D$209,"<"&EDATE($C$5,12),見積台帳!$M$10:$M$209,"交渉中") -> 0
B20: 合計 | C20: =SUM(C8:C19) -> 12 | D20: =SUM(D8:D19) -> 10050000 | E20: =SUM(E8:E19) -> 4 | F20: =SUM(F8:F19) -> 1730000 | G20: =IFERROR(SUMPRODUCT(--(見積台帳!$D$10:$D$209>=$C$5),--(見積台帳!$D$10:$D$209<EDATE($C$5,12)),--(見積台帳!$M$10:$M$209="受注"))/(SUMPRODUCT(--(見積台帳!$D$10:$D$209>=$C$5),--(見積台帳!$D$10:$D$209<EDATE($C$5,12)),--(見積台帳!$M$10:$M$209="受注"))+SUMPRODUCT(--(見積台帳!$D$10:$D$209>=$C$5),--(見積台帳!$D$10:$D$209<EDATE($C$5,12)),--(見積台帳!$M$10:$M$209="失注"))),"") -> 0.8 | H20: =SUM(H8:H19) -> 7
B23: 担当者別（全期間）
B24: 担当者 | C24: 見積件数 | D24: 見積金額（税抜） | E24: 受注件数 | F24: 受注金額（税抜） | G24: 受注率 | H24: 進行中
B25: =IF(設定!B9="","",設定!B9) -> 佐藤 | C25: =IF($B25="","",COUNTIFS(見積台帳!$G$10:$G$209,$B25,見積台帳!$D$10:$D$209,"<>")) -> 3 | D25: =IF($B25="","",SUMIFS(見積台帳!$H$10:$H$209,見積台帳!$G$10:$G$209,$B25)) -> 3500000 | E25: =IF($B25="","",COUNTIFS(見積台帳!$G$10:$G$209,$B25,見積台帳!$M$10:$M$209,"受注")) -> 1 | F25: =IF($B25="","",SUMIFS(見積台帳!$O$10:$O$209,見積台帳!$G$10:$G$209,$B25,見積台帳!$M$10:$M$209,"受注")) -> 360000 | G25: =IF($B25="","",IFERROR(COUNTIFS(見積台帳!$G$10:$G$209,$B25,見積台帳!$M$10:$M$209,"受注")/(COUNTIFS(見積台帳!$G$10:$G$209,$B25,見積台帳!$M$10:$M$209,"受注")+COUNTIFS(見積台帳!$G$10:$G$209,$B25,見積台帳!$M$10:$M$209,"失注")),"")) -> 1 | H25: =IF($B25="","",COUNTIFS(見積台帳!$G$10:$G$209,$B25,見積台帳!$M$10:$M$209,"作成中")+COUNTIFS(見積台帳!$G$10:$G$209,$B25,見積台帳!$M$10:$M$209,"提出済")+COUNTIFS(見積台帳!$G$10:$G$209,$B25,見積台帳!$M$10:$M$209,"交渉中")) -> 2
B26: =IF(設定!B10="","",設定!B10) -> 鈴木 | C26: =IF($B26="","",COUNTIFS(見積台帳!$G$10:$G$209,$B26,見積台帳!$D$10:$D$209,"<>")) -> 3 | D26: =IF($B26="","",SUMIFS(見積台帳!$H$10:$H$209,見積台帳!$G$10:$G$209,$B26)) -> 3890000 | E26: =IF($B26="","",COUNTIFS(見積台帳!$G$10:$G$209,$B26,見積台帳!$M$10:$M$209,"受注")) -> 0 | F26: =IF($B26="","",SUMIFS(見積台帳!$O$10:$O$209,見積台帳!$G$10:$G$209,$B26,見積台帳!$M$10:$M$209,"受注")) -> 0 | G26: =IF($B26="","",IFERROR(COUNTIFS(見積台帳!$G$10:$G$209,$B26,見積台帳!$M$10:$M$209,"受注")/(COUNTIFS(見積台帳!$G$10:$G$209,$B26,見積台帳!$M$10:$M$209,"受注")+COUNTIFS(見積台帳!$G$10:$G$209,$B26,見積台帳!$M$10:$M$209,"失注")),"")) -> 0 | H26: =IF($B26="","",COUNTIFS(見積台帳!$G$10:$G$209,$B26,見積台帳!$M$10:$M$209,"作成中")+COUNTIFS(見積台帳!$G$10:$G$209,$B26,見積台帳!$M$10:$M$209,"提出済")+COUNTIFS(見積台帳!$G$10:$G$209,$B26,見積台帳!$M$10:$M$209,"交渉中")) -> 2
B27: =IF(設定!B11="","",設定!B11) -> 高橋 | C27: =IF($B27="","",COUNTIFS(見積台帳!$G$10:$G$209,$B27,見積台帳!$D$10:$D$209,"<>")) -> 3 | D27: =IF($B27="","",SUMIFS(見積台帳!$H$10:$H$209,見積台帳!$G$10:$G$209,$B27)) -> 760000 | E27: =IF($B27="","",COUNTIFS(見積台帳!$G$10:$G$209,$B27,見積台帳!$M$10:$M$209,"受注")) -> 1 | F27: =IF($B27="","",SUMIFS(見積台帳!$O$10:$O$209,見積台帳!$G$10:$G$209,$B27,見積台帳!$M$10:$M$209,"受注")) -> 110000 | G27: =IF($B27="","",IFERROR(COUNTIFS(見積台帳!$G$10:$G$209,$B27,見積台帳!$M$10:$M$209,"受注")/(COUNTIFS(見積台帳!$G$10:$G$209,$B27,見積台帳!$M$10:$M$209,"受注")+COUNTIFS(見積台帳!$G$10:$G$209,$B27,見積台帳!$M$10:$M$209,"失注")),"")) -> 1 | H27: =IF($B27="","",COUNTIFS(見積台帳!$G$10:$G$209,$B27,見積台帳!$M$10:$M$209,"作成中")+COUNTIFS(見積台帳!$G$10:$G$209,$B27,見積台帳!$M$10:$M$209,"提出済")+COUNTIFS(見積台帳!$G$10:$G$209,$B27,見積台帳!$M$10:$M$209,"交渉中")) -> 2
B28: =IF(設定!B12="","",設定!B12) -> 田中 | C28: =IF($B28="","",COUNTIFS(見積台帳!$G$10:$G$209,$B28,見積台帳!$D$10:$D$209,"<>")) -> 1 | D28: =IF($B28="","",SUMIFS(見積台帳!$H$10:$H$209,見積台帳!$G$10:$G$209,$B28)) -> 980000 | E28: =IF($B28="","",COUNTIFS(見積台帳!$G$10:$G$209,$B28,見積台帳!$M$10:$M$209,"受注")) -> 1 | F28: =IF($B28="","",SUMIFS(見積台帳!$O$10:$O$209,見積台帳!$G$10:$G$209,$B28,見積台帳!$M$10:$M$209,"受注")) -> 980000 | G28: =IF($B28="","",IFERROR(COUNTIFS(見積台帳!$G$10:$G$209,$B28,見積台帳!$M$10:$M$209,"受注")/(COUNTIFS(見積台帳!$G$10:$G$209,$B28,見積台帳!$M$10:$M$209,"受注")+COUNTIFS(見積台帳!$G$10:$G$209,$B28,見積台帳!$M$10:$M$209,"失注")),"")) -> 1 | H28: =IF($B28="","",COUNTIFS(見積台帳!$G$10:$G$209,$B28,見積台帳!$M$10:$M$209,"作成中")+COUNTIFS(見積台帳!$G$10:$G$209,$B28,見積台帳!$M$10:$M$209,"提出済")+COUNTIFS(見積台帳!$G$10:$G$209,$B28,見積台帳!$M$10:$M$209,"交渉中")) -> 0
B29: =IF(設定!B13="","",設定!B13) -> 伊藤 | C29: =IF($B29="","",COUNTIFS(見積台帳!$G$10:$G$209,$B29,見積台帳!$D$10:$D$209,"<>")) -> 2 | D29: =IF($B29="","",SUMIFS(見積台帳!$H$10:$H$209,見積台帳!$G$10:$G$209,$B29)) -> 920000 | E29: =IF($B29="","",COUNTIFS(見積台帳!$G$10:$G$209,$B29,見積台帳!$M$10:$M$209,"受注")) -> 1 | F29: =IF($B29="","",SUMIFS(見積台帳!$O$10:$O$209,見積台帳!$G$10:$G$209,$B29,見積台帳!$M$10:$M$209,"受注")) -> 280000 | G29: =IF($B29="","",IFERROR(COUNTIFS(見積台帳!$G$10:$G$209,$B29,見積台帳!$M$10:$M$209,"受注")/(COUNTIFS(見積台帳!$G$10:$G$209,$B29,見積台帳!$M$10:$M$209,"受注")+COUNTIFS(見積台帳!$G$10:$G$209,$B29,見積台帳!$M$10:$M$209,"失注")),"")) -> 1 | H29: =IF($B29="","",COUNTIFS(見積台帳!$G$10:$G$209,$B29,見積台帳!$M$10:$M$209,"作成中")+COUNTIFS(見積台帳!$G$10:$G$209,$B29,見積台帳!$M$10:$M$209,"提出済")+COUNTIFS(見積台帳!$G$10:$G$209,$B29,見積台帳!$M$10:$M$209,"交渉中")) -> 1
B30: =IF(設定!B14="","",設定!B14) | C30: =IF($B30="","",COUNTIFS(見積台帳!$G$10:$G$209,$B30,見積台帳!$D$10:$D$209,"<>")) | D30: =IF($B30="","",SUMIFS(見積台帳!$H$10:$H$209,見積台帳!$G$10:$G$209,$B30)) | E30: =IF($B30="","",COUNTIFS(見積台帳!$G$10:$G$209,$B30,見積台帳!$M$10:$M$209,"受注")) | F30: =IF($B30="","",SUMIFS(見積台帳!$O$10:$O$209,見積台帳!$G$10:$G$209,$B30,見積台帳!$M$10:$M$209,"受注")) | G30: =IF($B30="","",IFERROR(COUNTIFS(見積台帳!$G$10:$G$209,$B30,見積台帳!$M$10:$M$209,"受注")/(COUNTIFS(見積台帳!$G$10:$G$209,$B30,見積台帳!$M$10:$M$209,"受注")+COUNTIFS(見積台帳!$G$10:$G$209,$B30,見積台帳!$M$10:$M$209,"失注")),"")) | H30: =IF($B30="","",COUNTIFS(見積台帳!$G$10:$G$209,$B30,見積台帳!$M$10:$M$209,"作成中")+COUNTIFS(見積台帳!$G$10:$G$209,$B30,見積台帳!$M$10:$M$209,"提出済")+COUNTIFS(見積台帳!$G$10:$G$209,$B30,見積台帳!$M$10:$M$209,"交渉中"))
B31: =IF(設定!B15="","",設定!B15) | C31: =IF($B31="","",COUNTIFS(見積台帳!$G$10:$G$209,$B31,見積台帳!$D$10:$D$209,"<>")) | D31: =IF($B31="","",SUMIFS(見積台帳!$H$10:$H$209,見積台帳!$G$10:$G$209,$B31)) | E31: =IF($B31="","",COUNTIFS(見積台帳!$G$10:$G$209,$B31,見積台帳!$M$10:$M$209,"受注")) | F31: =IF($B31="","",SUMIFS(見積台帳!$O$10:$O$209,見積台帳!$G$10:$G$209,$B31,見積台帳!$M$10:$M$209,"受注")) | G31: =IF($B31="","",IFERROR(COUNTIFS(見積台帳!$G$10:$G$209,$B31,見積台帳!$M$10:$M$209,"受注")/(COUNTIFS(見積台帳!$G$10:$G$209,$B31,見積台帳!$M$10:$M$209,"受注")+COUNTIFS(見積台帳!$G$10:$G$209,$B31,見積台帳!$M$10:$M$209,"失注")),"")) | H31: =IF($B31="","",COUNTIFS(見積台帳!$G$10:$G$209,$B31,見積台帳!$M$10:$M$209,"作成中")+COUNTIFS(見積台帳!$G$10:$G$209,$B31,見積台帳!$M$10:$M$209,"提出済")+COUNTIFS(見積台帳!$G$10:$G$209,$B31,見積台帳!$M$10:$M$209,"交渉中"))
B32: =IF(設定!B16="","",設定!B16) | C32: =IF($B32="","",COUNTIFS(見積台帳!$G$10:$G$209,$B32,見積台帳!$D$10:$D$209,"<>")) | D32: =IF($B32="","",SUMIFS(見積台帳!$H$10:$H$209,見積台帳!$G$10:$G$209,$B32)) | E32: =IF($B32="","",COUNTIFS(見積台帳!$G$10:$G$209,$B32,見積台帳!$M$10:$M$209,"受注")) | F32: =IF($B32="","",SUMIFS(見積台帳!$O$10:$O$209,見積台帳!$G$10:$G$209,$B32,見積台帳!$M$10:$M$209,"受注")) | G32: =IF($B32="","",IFERROR(COUNTIFS(見積台帳!$G$10:$G$209,$B32,見積台帳!$M$10:$M$209,"受注")/(COUNTIFS(見積台帳!$G$10:$G$209,$B32,見積台帳!$M$10:$M$209,"受注")+COUNTIFS(見積台帳!$G$10:$G$209,$B32,見積台帳!$M$10:$M$209,"失注")),"")) | H32: =IF($B32="","",COUNTIFS(見積台帳!$G$10:$G$209,$B32,見積台帳!$M$10:$M$209,"作成中")+COUNTIFS(見積台帳!$G$10:$G$209,$B32,見積台帳!$M$10:$M$209,"提出済")+COUNTIFS(見積台帳!$G$10:$G$209,$B32,見積台帳!$M$10:$M$209,"交渉中"))
B33: =IF(設定!B17="","",設定!B17) | C33: =IF($B33="","",COUNTIFS(見積台帳!$G$10:$G$209,$B33,見積台帳!$D$10:$D$209,"<>")) | D33: =IF($B33="","",SUMIFS(見積台帳!$H$10:$H$209,見積台帳!$G$10:$G$209,$B33)) | E33: =IF($B33="","",COUNTIFS(見積台帳!$G$10:$G$209,$B33,見積台帳!$M$10:$M$209,"受注")) | F33: =IF($B33="","",SUMIFS(見積台帳!$O$10:$O$209,見積台帳!$G$10:$G$209,$B33,見積台帳!$M$10:$M$209,"受注")) | G33: =IF($B33="","",IFERROR(COUNTIFS(見積台帳!$G$10:$G$209,$B33,見積台帳!$M$10:$M$209,"受注")/(COUNTIFS(見積台帳!$G$10:$G$209,$B33,見積台帳!$M$10:$M$209,"受注")+COUNTIFS(見積台帳!$G$10:$G$209,$B33,見積台帳!$M$10:$M$209,"失注")),"")) | H33: =IF($B33="","",COUNTIFS(見積台帳!$G$10:$G$209,$B33,見積台帳!$M$10:$M$209,"作成中")+COUNTIFS(見積台帳!$G$10:$G$209,$B33,見積台帳!$M$10:$M$209,"提出済")+COUNTIFS(見積台帳!$G$10:$G$209,$B33,見積台帳!$M$10:$M$209,"交渉中"))
B34: =IF(設定!B18="","",設定!B18) | C34: =IF($B34="","",COUNTIFS(見積台帳!$G$10:$G$209,$B34,見積台帳!$D$10:$D$209,"<>")) | D34: =IF($B34="","",SUMIFS(見積台帳!$H$10:$H$209,見積台帳!$G$10:$G$209,$B34)) | E34: =IF($B34="","",COUNTIFS(見積台帳!$G$10:$G$209,$B34,見積台帳!$M$10:$M$209,"受注")) | F34: =IF($B34="","",SUMIFS(見積台帳!$O$10:$O$209,見積台帳!$G$10:$G$209,$B34,見積台帳!$M$10:$M$209,"受注")) | G34: =IF($B34="","",IFERROR(COUNTIFS(見積台帳!$G$10:$G$209,$B34,見積台帳!$M$10:$M$209,"受注")/(COUNTIFS(見積台帳!$G$10:$G$209,$B34,見積台帳!$M$10:$M$209,"受注")+COUNTIFS(見積台帳!$G$10:$G$209,$B34,見積台帳!$M$10:$M$209,"失注")),"")) | H34: =IF($B34="","",COUNTIFS(見積台帳!$G$10:$G$209,$B34,見積台帳!$M$10:$M$209,"作成中")+COUNTIFS(見積台帳!$G$10:$G$209,$B34,見積台帳!$M$10:$M$209,"提出済")+COUNTIFS(見積台帳!$G$10:$G$209,$B34,見積台帳!$M$10:$M$209,"交渉中"))
B35: =IF(設定!B19="","",設定!B19) | C35: =IF($B35="","",COUNTIFS(見積台帳!$G$10:$G$209,$B35,見積台帳!$D$10:$D$209,"<>")) | D35: =IF($B35="","",SUMIFS(見積台帳!$H$10:$H$209,見積台帳!$G$10:$G$209,$B35)) | E35: =IF($B35="","",COUNTIFS(見積台帳!$G$10:$G$209,$B35,見積台帳!$M$10:$M$209,"受注")) | F35: =IF($B35="","",SUMIFS(見積台帳!$O$10:$O$209,見積台帳!$G$10:$G$209,$B35,見積台帳!$M$10:$M$209,"受注")) | G35: =IF($B35="","",IFERROR(COUNTIFS(見積台帳!$G$10:$G$209,$B35,見積台帳!$M$10:$M$209,"受注")/(COUNTIFS(見積台帳!$G$10:$G$209,$B35,見積台帳!$M$10:$M$209,"受注")+COUNTIFS(見積台帳!$G$10:$G$209,$B35,見積台帳!$M$10:$M$209,"失注")),"")) | H35: =IF($B35="","",COUNTIFS(見積台帳!$G$10:$G$209,$B35,見積台帳!$M$10:$M$209,"作成中")+COUNTIFS(見積台帳!$G$10:$G$209,$B35,見積台帳!$M$10:$M$209,"提出済")+COUNTIFS(見積台帳!$G$10:$G$209,$B35,見積台帳!$M$10:$M$209,"交渉中"))
B36: =IF(設定!B20="","",設定!B20) | C36: =IF($B36="","",COUNTIFS(見積台帳!$G$10:$G$209,$B36,見積台帳!$D$10:$D$209,"<>")) | D36: =IF($B36="","",SUMIFS(見積台帳!$H$10:$H$209,見積台帳!$G$10:$G$209,$B36)) | E36: =IF($B36="","",COUNTIFS(見積台帳!$G$10:$G$209,$B36,見積台帳!$M$10:$M$209,"受注")) | F36: =IF($B36="","",SUMIFS(見積台帳!$O$10:$O$209,見積台帳!$G$10:$G$209,$B36,見積台帳!$M$10:$M$209,"受注")) | G36: =IF($B36="","",IFERROR(COUNTIFS(見積台帳!$G$10:$G$209,$B36,見積台帳!$M$10:$M$209,"受注")/(COUNTIFS(見積台帳!$G$10:$G$209,$B36,見積台帳!$M$10:$M$209,"受注")+COUNTIFS(見積台帳!$G$10:$G$209,$B36,見積台帳!$M$10:$M$209,"失注")),"")) | H36: =IF($B36="","",COUNTIFS(見積台帳!$G$10:$G$209,$B36,見積台帳!$M$10:$M$209,"作成中")+COUNTIFS(見積台帳!$G$10:$G$209,$B36,見積台帳!$M$10:$M$209,"提出済")+COUNTIFS(見積台帳!$G$10:$G$209,$B36,見積台帳!$M$10:$M$209,"交渉中"))
... B39: =IF(設定!B23="","",設定!B23) | C39: =IF($B39="","",COUNTIFS(見積台帳!$G$10:$G$209,$B39,見積台帳!$D$10:$D$209,"<>")) | D39: =IF($B39="","",SUMIFS(見積台帳!$H$10:$H$209,見積台帳!$G$10:$G$209,$B39)) | E39: =IF($B39="","",COUNTIFS(見積台帳!$G$10:$G$209,$B39,見積台帳!$M$10:$M$209,"受注")) | F39: =IF($B39="","",SUMIFS(見積台帳!$O$10:$O$209,見積台帳!$G$10:$G$209,$B39,見積台帳!$M$10:$M$209,"受注")) | G39: =IF($B39="","",IFERROR(COUNTIFS(見積台帳!$G$10:$G$209,$B39,見積台帳!$M$10:$M$209,"受注")/(COUNTIFS(見積台帳!$G$10:$G$209,$B39,見積台帳!$M$10:$M$209,"受注")+COUNTIFS(見積台帳!$G$10:$G$209,$B39,見積台帳!$M$10:$M$209,"失注")),"")) | H39: =IF($B39="","",COUNTIFS(見積台帳!$G$10:$G$209,$B39,見積台帳!$M$10:$M$209,"作成中")+COUNTIFS(見積台帳!$G$10:$G$209,$B39,見積台帳!$M$10:$M$209,"提出済")+COUNTIFS(見積台帳!$G$10:$G$209,$B39,見積台帳!$M$10:$M$209,"交渉中"))

Sheet 設定
A1: 他にも魅力的な情報がたっぷり！テンプレート倉庫
B2: 設定
B4: 消費税率 | C4: 0.1 | D4: 税額は1円未満切り捨てで計算
B5: 見積の有効期間 | C5: 30 | D5: 見積日からの日数
B6: 期限が近い（日以内） | C6: 7 | D6: この日数以内で黄色表示
B8: 担当者一覧 | D8: ステータス（固定）
B9: 佐藤 | D9: 作成中
B10: 鈴木 | D10: 提出済
B11: 高橋 | D11: 交渉中
B12: 田中 | D12: 受注
B13: 伊藤 | D13: 失注
